Workbook
Name NCOMPOSICOES: 15
Name NCOTACOES: 15

Sheet BDI
E1: MIN | F1: MED | G1: MAX | J1: logo empresa | O1: ="Quadro de Composição do BDI" -> Quadro de Composição do BDI | R1: Grau de Sigilo
A2: Construção e Reforma de Edifícios | B2: AC | C2: =CONCATENATE(A2,"-",B2) -> Construção e Reforma de Edifícios-AC | E2: 0.03 | F2: 0.04 | G2: 0.055 | R2: #PUBLICO
A3: =A2 -> Construção e Reforma de Edifícios | B3: SG | C3: =CONCATENATE(A3,"-",B3) -> Construção e Reforma de Edifícios-SG | E3: 0.008 | F3: 0.008 | G3: 0.01
A4: =A3 -> Construção e Reforma de Edifícios | B4: R | C4: =CONCATENATE(A4,"-",B4) -> Construção e Reforma de Edifícios-R | E4: 0.0097 | F4: 0.0127 | G4: 0.0127 | J4: Nº OPERAÇÃO | L4: Nº SICONV | N4: PROPONENTE / TOMADOR
A5: =A4 -> Construção e Reforma de Edifícios | B5: DF | C5: =CONCATENATE(A5,"-",B5) -> Construção e Reforma de Edifícios-DF | E5: 0.0059 | F5: 0.0123 | G5: 0.0139 | J5: =Import.CR -> 1058459-76/2018 | L5: =Import.SICONV -> 873742 | N5: =Import.Proponente -> Município de Amparo
A6: =A5 -> Construção e Reforma de Edifícios | B6: L | C6: =CONCATENATE(A6,"-",B6) -> Construção e Reforma de Edifícios-L | E6: 0.0616 | F6: 0.074 | G6: 0.0896 | I6: FILTRO
A7: =A6 -> Construção e Reforma de Edifícios | B7: BDI PAD | C7: =CONCATENATE(A7,"-",B7) -> Construção e Reforma de Edifícios-BDI PAD | E7: 0.2034 | F7: 0.2212 | G7: 0.25 | J7: APELIDO DO EMPREENDIMENTO / DESCRIÇÃO DO LOTE
A8: Construção de Praças Urbanas, Rodovias, Ferrovias e recapeamento e pavimentação de vias urbanas | B8: AC | C8: =CONCATENATE(A8,"-",B8) -> Construção de Praças Urbanas, Rodovias, Ferrovias e recapeamento e pavimentação de vias urbanas-AC | E8: 0.038 | F8: 0.0401 | G8: 0.0467 | J8: =Import.Apelido&" / "&Import.DescLote -> CENTRO ESPORTIVO MOREIRINHA - FINALIZAÇÃO / CONTINUIDADE DO CENTRO ESPORTIVO JARDIM MOREIRINHA - 3ª ETAPA
A9: Construção de Praças Urbanas, Rodovias, Ferrovias e recapeamento e pavimentação de vias urbanas | B9: SG | C9: =CONCATENATE(A9,"-",B9) -> Construção de Praças Urbanas, Rodovias, Ferrovias e recapeamento e pavimentação de vias urbanas-SG | E9: 0.0032 | F9: 0.004 | G9: 0.0074
A10: Construção de Praças Urbanas, Rodovias, Ferrovias e recapeamento e pavimentação de vias urbanas | B10: R | C10: =CONCATENATE(A10,"-",B10) -> Construção de Praças Urbanas, Rodovias, Ferrovias e recapeamento e pavimentação de vias urbanas-R | E10: 0.005 | F10: 0.0056 | G10: 0.0097 | J10: Conforme legislação tributária municipal, definir estimativa de percentual da base de cálculo para o ISS: | R10: 0.05
A11: Construção de Praças Urbanas, Rodovias, Ferrovias e recapeamento e pavimentação de vias urbanas | B11: DF | C11: =CONCATENATE(A11,"-",B11) -> Construção de Praças Urbanas, Rodovias, Ferrovias e recapeamento e pavimentação de vias urbanas-DF | E11: 0.0102 | F11: 0.0111 | G11: 0.0121 | I11: ↓ | J11: Sobre a base de cálculo, definir a respectiva alíquota do ISS (entre 2% e 5%): | R11: 0.8
A12: Construção de Praças Urbanas, Rodovias, Ferrovias e recapeamento e pavimentação de vias urbanas | B12: L | C12: =CONCATENATE(A12,"-",B12) -> Construção de Praças Urbanas, Rodovias, Ferrovias e recapeamento e pavimentação de vias urbanas-L | E12: 0.0664 | F12: 0.073 | G12: 0.0869 | I12: F
A13: Construção de Praças Urbanas, Rodovias, Ferrovias e recapeamento e pavimentação de vias urbanas | B13: BDI PAD | C13: =CONCATENATE(A13,"-",B13) -> Construção de Praças Urbanas, Rodovias, Ferrovias e recapeamento e pavimentação de vias urbanas-BDI PAD | E13: 0.196 | F13: 0.2097 | G13: 0.2423 | I13: F
A14: Construção de Redes de Abastecimento de Água, Coleta de Esgoto | B14: AC | C14: =CONCATENATE(A14,"-",B14) -> Construção de Redes de Abastecimento de Água, Coleta de Esgoto-AC | E14: 0.0343 | F14: 0.0493 | G14: 0.0671 | I14: F | J14: BDI 1
A15: =A14 -> Construção de Redes de Abastecimento de Água, Coleta de Esgoto | B15: SG | C15: =CONCATENATE(A15,"-",B15) -> Construção de Redes de Abastecimento de Água, Coleta de Esgoto-SG | E15: 0.0028 | F15: 0.0049 | G15: 0.0075 | I15: F
A16: =A15 -> Construção de Redes de Abastecimento de Água, Coleta de Esgoto | B16: R | C16: =CONCATENATE(A16,"-",B16) -> Construção de Redes de Abastecimento de Água, Coleta de Esgoto-R | E16: 0.01 | F16: 0.0139 | G16: 0.0174 | I16: F | J16: TIPO DE OBRA
A17: =A16 -> Construção de Redes de Abastecimento de Água, Coleta de Esgoto | B17: DF | C17: =CONCATENATE(A17,"-",B17) -> Construção de Redes de Abastecimento de Água, Coleta de Esgoto-DF | E17: 0.0094 | F17: 0.0099 | G17: 0.0117 | I17: F | J17: Construção e Reforma de Edifícios
A18: =A17 -> Construção de Redes de Abastecimento de Água, Coleta de Esgoto | B18: L | C18: =CONCATENATE(A18,"-",B18) -> Construção de Redes de Abastecimento de Água, Coleta de Esgoto-L | E18: 0.0674 | F18: 0.0804 | G18: 0.094 | I18: F
A19: =A18 -> Construção de Redes de Abastecimento de Água, Coleta de Esgoto | B19: BDI PAD | C19: =CONCATENATE(A19,"-",B19) -> Construção de Redes de Abastecimento de Água, Coleta de Esgoto-BDI PAD | E19: 0.2076 | F19: 0.2418 | G19: 0.2644 | I19: F | J19: Itens | R19: Siglas | S19: % Adotado | U19: Situação | X19: 1º Quartil | Y19: Médio | Z19: 3º Quartil
A20: Construção e Manutenção de Estações e Redes de Distribuição de Energia Elétrica | B20: AC | C20: =CONCATENATE(A20,"-",B20) -> Construção e Manutenção de Estações e Redes de Distribuição de Energia Elétrica-AC | E20: 0.0529 | F20: 0.0592 | G20: 0.0793 | I20: F
A21: =A20 -> Construção e Manutenção de Estações e Redes de Distribuição de Energia Elétrica | B21: SG | C21: =CONCATENATE(A21,"-",B21) -> Construção e Manutenção de Estações e Redes de Distribuição de Energia Elétrica-SG | E21: 0.0025 | F21: 0.0051 | G21: 0.0056 | I21: F | J21: =IF($J$17=$A$145,"Encargos Sociais incidentes sobre a mão de obra","Administração Central") -> Administração Central | R21: =IF($J17=$A$145,"K1","AC") -> AC | S21: 0.03 | U21: - | X21: =VLOOKUP(CONCATENATE(J17,"-",R21),$C$2:$G$135,3,FALSE) -> 0.03 | Y21: =VLOOKUP(CONCATENATE(J17,"-",R21),$C$2:$G$135,4,FALSE) -> 0.04 | Z21: =VLOOKUP(CONCATENATE(J17,"-",R21),$C$2:$G$135,5,FALSE) -> 0.055
A22: =A21 -> Construção e Manutenção de Estações e Redes de Distribuição de Energia Elétrica | B22: R | C22: =CONCATENATE(A22,"-",B22) -> Construção e Manutenção de Estações e Redes de Distribuição de Energia Elétrica-R | E22: 0.01 | F22: 0.0148 | G22: 0.0197 | I22: F | J22: =IF($J$17=$A$145,"Administração Central da empresa ou consultoria - overhead","Seguro e Garantia") -> Seguro e Garantia | R22: =IF($J17=$A$145,"K2","SG") -> SG | S22: 0.008 | U22: - | X22: =VLOOKUP(CONCATENATE(J17,"-",R22),$C$2:$G$135,3,FALSE) -> 0.008 | Y22: =VLOOKUP(CONCATENATE(J17,"-",R22),$C$2:$G$135,4,FALSE) -> 0.008 | Z22: =VLOOKUP(CONCATENATE(J17,"-",R22),$C$2:$G$135,5,FALSE) -> 0.01
A23: =A22 -> Construção e Manutenção de Estações e Redes de Distribuição de Energia Elétrica | B23: DF | C23: =CONCATENATE(A23,"-",B23) -> Construção e Manutenção de Estações e Redes de Distribuição de Energia Elétrica-DF | E23: 0.0101 | F23: 0.0107 | G23: 0.0111 | I23: F | J23: =IF($J$17=$A$145,"","Risco") -> Risco | R23: =IF($J17=$A$145,"","R") -> R | S23: 0.0097 | U23: - | X23: =VLOOKUP(CONCATENATE(J17,"-",R23),$C$2:$G$135,3,FALSE) -> 0.0097 | Y23: =VLOOKUP(CONCATENATE(J17,"-",R23),$C$2:$G$135,4,FALSE) -> 0.0127 | Z23: =VLOOKUP(CONCATENATE(J17,"-",R23),$C$2:$G$135,5,FALSE) -> 0.0127
A24: =A23 -> Construção e Manutenção de Estações e Redes de Distribuição de Energia Elétrica | B24: L | C24: =CONCATENATE(A24,"-",B24) -> Construção e Manutenção de Estações e Redes de Distribuição de Energia Elétrica-L | E24: 0.08 | F24: 0.0831 | G24: 0.0951 | I24: F | J24: =IF($J$17=$A$145,"","Despesas Financeiras") -> Despesas Financeiras | R24: =IF($J17=$A$145,"","DF") -> DF | S24: 0.0059 | U24: - | X24: =VLOOKUP(CONCATENATE(J17,"-",R24),$C$2:$G$135,3,FALSE) -> 0.0059 | Y24: =VLOOKUP(CONCATENATE(J17,"-",R24),$C$2:$G$135,4,FALSE) -> 0.0123 | Z24: =VLOOKUP(CONCATENATE(J17,"-",R24),$C$2:$G$135,5,FALSE) -> 0.0139
A25: =A24 -> Construção e Manutenção de Estações e Redes de Distribuição de Energia Elétrica | B25: BDI PAD | C25: =CONCATENATE(A25,"-",B25) -> Construção e Manutenção de Estações e Redes de Distribuição de Energia Elétrica-BDI PAD | E25: 0.24 | F25: 0.2584 | G25: 0.2786 | I25: F | J25: =IF($J$17=$A$145,"Margem bruta da empresa de consultoria","Lucro") -> Lucro | R25: =IF($J17=$A$145,"K3","L") -> L | S25: 0.0616 | U25: - | X25: =VLOOKUP(CONCATENATE(J17,"-",R25),$C$2:$G$135,3,FALSE) -> 0.0616 | Y25: =VLOOKUP(CONCATENATE(J17,"-",R25),$C$2:$G$135,4,FALSE) -> 0.074 | Z25: =VLOOKUP(CONCATENATE(J17,"-",R25),$C$2:$G$135,5,FALSE) -> 0.0896
A26: Obras Portuárias, Marítimas e Fluviais | B26: AC | C26: =CONCATENATE(A26,"-",B26) -> Obras Portuárias, Marítimas e Fluviais-AC | E26: 0.04 | F26: 0.0552 | G26: 0.0785 | I26: F | J26: Tributos (impostos COFINS 3%, e PIS 0,65%) | R26: CP | S26: 0.0365 | U26: - | X26: 0.0365 | Y26: 0.0365 | Z26: 0.0365
A27: =A26 -> Obras Portuárias, Marítimas e Fluviais | B27: SG | C27: =CONCATENATE(A27,"-",B27) -> Obras Portuárias, Marítimas e Fluviais-SG | E27: 0.0081 | F27: 0.0122 | G27: 0.0199 | I27: F | J27: Tributos (ISS, variável de acordo com o município) | R27: ISS | S27: =IF(AND($J17<>$A$144,COUNTA(OFFSET(S20,1,0,6))>0),$R$11*$R$10,0) -> 0.04 | U27: - | X27: 0 | Y27: 0.025 | Z27: 0.05
A28: =A27 -> Obras Portuárias, Marítimas e Fluviais | B28: R | C28: =CONCATENATE(A28,"-",B28) -> Obras Portuárias, Marítimas e Fluviais-R | E28: 0.0146 | F28: 0.0232 | G28: 0.0316 | I28: F | J28: Tributos (Contribuição Previdenciária sobre a Receita Bruta - 0% ou 4,5% - Desoneração) | R28: CPRB | S28: =IF(BDI.Opcao<>"Desonerado",0,IF(AND($J17<>$A$144,COUNTA(OFFSET(S20,1,0,6))>0),4.5%,0%)) -> 0.045 | U28: - | X28: 0 | Y28: 0.045 | Z28: 0.045
A29: =A28 -> Obras Portuárias, Marítimas e Fluviais | B29: DF | C29: =CONCATENATE(A29,"-",B29) -> Obras Portuárias, Marítimas e Fluviais-DF | E29: 0.0094 | F29: 0.0102 | G29: 0.0133 | I29: F | J29: BDI SEM desoneração (Fórmula Acórdão TCU) | R29: BDI PAD | S29: =IF($J17=$A$144,0,ROUND((((1+S21+S22+S23)*(1+S24)*(1+S25)/(1-(S26+S27)))-1),4)) -> 0.2115 | U29: =IF(OR($J$17=$A$145,$J$17=$A$144,AND(S29>=X29,S29<=Z29)),"OK","FORA DO INTERVALO") -> OK | X29: =IF($J17=$A$144,0,VLOOKUP(CONCATENATE($J17,"-",$R29),$C$2:$G$135,3,FALSE)) -> 0.2034 | Y29: =IF($J17=$A$144,0,VLOOKUP(CONCATENATE($J17,"-",$R29),$C$2:$G$135,4,FALSE)) -> 0.2212 | Z29: =IF($J17=$A$144,0,VLOOKUP(CONCATENATE($J17,"-",$R29),$C$2:$G$135,5,FALSE)) -> 0.25
A30: =A29 -> Obras Portuárias, Marítimas e Fluviais | B30: L | C30: =CONCATENATE(A30,"-",B30) -> Obras Portuárias, Marítimas e Fluviais-L | E30: 0.0714 | F30: 0.084 | G30: 0.1043 | I30: F | J30: BDI COM desoneração | R30: BDI DES | S30: =IF($J17=$A$144,0,ROUND((((1+S21+S22+S23)*(1+S24)*(1+S25)/(1-(S26+S27+S28)))-1),4)) -> 0.2735
A31: =A30 -> Obras Portuárias, Marítimas e Fluviais | B31: BDI PAD | C31: =CONCATENATE(A31,"-",B31) -> Obras Portuárias, Marítimas e Fluviais-BDI PAD | E31: 0.228 | F31: 0.2748 | G31: 0.3095 | I31: F
A32: Fornecimento de Materiais e Equipamentos (aquisição indireta - em conjunto com licitação de obras) | B32: AC | C32: =CONCATENATE(A32,"-",B32) -> Fornecimento de Materiais e Equipamentos (aquisição indireta - em conjunto com licitação de obras)-AC | E32: 0.015 | F32: 0.0345 | G32: 0.0449 | I32: F | J32: =IF(U29<>"ok","X","") | K32: =IF(U29<>"ok","Anexo: Relatório Técnico Circunstanciado justificando a adoção do percentual de cada parcela do BDI.","")
A33: =A32 -> Fornecimento de Materiais e Equipamentos (aquisição indireta - em conjunto com licitação de obras) | B33: SG | C33: =CONCATENATE(A33,"-",B33) -> Fornecimento de Materiais e Equipamentos (aquisição indireta - em conjunto com licitação de obras)-SG | E33: 0.003 | F33: 0.0048 | G33: 0.0082 | I33: F
A34: =A33 -> Fornecimento de Materiais e Equipamentos (aquisição indireta - em conjunto com licitação de obras) | B34: R | C34: =CONCATENATE(A34,"-",B34) -> Fornecimento de Materiais e Equipamentos (aquisição indireta - em conjunto com licitação de obras)-R | E34: 0.0056 | F34: 0.0085 | G34: 0.0089 | I34: F | J34: Os valores de BDI foram calculados com o emprego da fórmula:
A35: =A34 -> Fornecimento de Materiais e Equipamentos (aquisição indireta - em conjunto com licitação de obras) | B35: DF | C35: =CONCATENATE(A35,"-",B35) -> Fornecimento de Materiais e Equipamentos (aquisição indireta - em conjunto com licitação de obras)-DF | E35: 0.0085 | F35: 0.0085 | G35: 0.0111 | I35: F | M35: BDI = | N35: =IF($J17=$A$145,"(1+K1+K2)*(1+K3)","(1+AC + S + R + G)*(1 + DF)*(1+L)") -> (1+AC + S + R + G)*(1 + DF)*(1+L) | Q35: - 1
A36: =A35 -> Fornecimento de Materiais e Equipamentos (aquisição indireta - em conjunto com licitação de obras) | B36: L | C36: =CONCATENATE(A36,"-",B36) -> Fornecimento de Materiais e Equipamentos (aquisição indireta - em conjunto com licitação de obras)-L | E36: 0.035 | F36: 0.0511 | G36: 0.0622 | I36: F | N36: (1-CP-ISS-CRPB)
A37: =A36 -> Fornecimento de Materiais e Equipamentos (aquisição indireta - em conjunto com licitação de obras) | B37: BDI PAD | C37: =CONCATENATE(A37,"-",B37) -> Fornecimento de Materiais e Equipamentos (aquisição indireta - em conjunto com licitação de obras)-BDI PAD | E37: 0.111 | F37: 0.1402 | G37: 0.168 | I37: F
A38: Fornecimento de Materiais e Equipamentos (aquisição direta) | B38: AC | C38: =CONCATENATE(A38,"-",B38) -> Fornecimento de Materiais e Equipamentos (aquisição direta)-AC | E38: - | F38: - | G38: - | I38: F | J38: =CONCATENATE("Declaro para os devidos fins que, conforme legislação tributária municipal, a base de cálculo deste tipo de obra corresponde à ",$R$10*100,"%, com a respectiva alíquota de ",$R$11*100,"%.") -> Declaro para os devidos fins que, conforme legislação tributária municipal, a base de cálculo deste tipo de obra corresponde à 5%, com a respectiva alíquota de 80%.
A39: Fornecimento de Materiais e Equipamentos (aquisição direta) | B39: SG | C39: =CONCATENATE(A39,"-",B39) -> Fornecimento de Materiais e Equipamentos (aquisição direta)-SG | E39: - | F39: - | G39: - | I39: F
A40: Fornecimento de Materiais e Equipamentos (aquisição direta) | B40: R | C40: =CONCATENATE(A40,"-",B40) -> Fornecimento de Materiais e Equipamentos (aquisição direta)-R | E40: - | F40: - | G40: - | I40: F | J40: =CONCATENATE("Declaro para os devidos fins que o regime de Contribuição Previdenciária sobre a Receita Bruta adotado para elaboração do orçamento foi ",IF(DESONERACAO="Sim","COM","SEM")," Desoneração, e que esta é a alternativa mais adequada para a Administração Pública.") -> #VALUE!
...

Sheet orçamento
A1: logo da empresa | D1: ORÇAMENTO
A7: OBRA: | B7: CONTINUIDADE DO CENTRO ESPORTIVO JARDIM MOREIRINHA - 3ª ETAPA | H7: fonte | I7: 44470
A8: LOCAL: | B8: RUA MARIA JOSÉ MOREIRA FRANCO -JARDIM MOREIRINHA | H8: bdi
A10: Item | B10: Codigo | C10: Fonte | D10: Macrosserviço / Serviço | E10: Qtd. | F10: Und. | G10: Custo Referência | H10: Preço Unitário + BDI | I10: Preço Total
A12: 1 | D12: SERVIÇOS INICIAIS | I12: =SUBTOTAL(9,I13:I14) -> 0
A13: 1.1 | B13: 4813 | C13: SINAPI-I | D13: PLACA DE OBRA (PARA CONSTRUCAO CIVIL) EM CHAPA GALVANIZADA *N. 22*, ADESIVADA, DE *2,0 X 1,125* M (SEM POSTES PARA FIXACAO) | E13: 6 | F13: M2 | H13: =(G13*$I$8)+G13 -> 0 | I13: =E13*H13 -> 0
A14: 1.2 | B14: 10776 | C14: SINAPI-I | D14: LOCACAO DE CONTAINER 2,30 X 6,00 M, ALT. 2,50 M, PARA ESCRITORIO, SEM DIVISORIAS INTERNAS E SEM SANITARIO | E14: 12 | F14: MES | H14: =(G14*$I$8)+G14 -> 0 | I14: =E14*H14 -> 0
A15: 2 | D15: QUIOSQUE | E15: 0 | I15: =SUBTOTAL(9,I17:I132) -> 0
D16: Locação | E16: 0 | I16: =SUBTOTAL(9,I17) -> 0
A17: 2.1 | B17: 99059 | C17: SINAPI | D17: LOCACAO CONVENCIONAL DE OBRA, UTILIZANDO GABARITO DE TÁBUAS CORRIDAS PONTALETADAS A CADA 2,00M - 2 UTILIZAÇÕES. AF_10/2018 | E17: 31.67 | F17: M | H17: =(G17*$I$8)+G17 -> 0 | I17: =E17*H17 -> 0
D18: Fundação | E18: 0 | I18: =SUBTOTAL(9,I19:I26) -> 0
A19: 2.2 | B19: 96624 | C19: SINAPI | D19: LASTRO COM MATERIAL GRANULAR (PEDRA BRITADA N.2), APLICADO EM PISOS OU LAJES SOBRE SOLO, ESPESSURA DE *10 CM*. AF_08/2017 | E19: 0.42 | F19: M3 | H19: =(G19*$I$8)+G19 -> 0 | I19: =E19*H19 -> 0
A20: 2.3 | B20: 101174 | C20: SINAPI | D20: ESTACA BROCA DE CONCRETO, DIÂMETRO DE 25CM, ESCAVAÇÃO MANUAL COM TRADO CONCHA, COM ARMADURA DE ARRANQUE. AF_05/2020 | E20: 66 | F20: M | H20: =(G20*$I$8)+G20 -> 0 | I20: =E20*H20 -> 0
A21: 2.4 | B21: 97082 | C21: SINAPI | D21: ESCAVAÇÃO MANUAL DE VIGA DE BORDA PARA RADIER. AF_09/2021 | E21: 2.53 | F21: M3 | H21: =(G21*$I$8)+G21 -> 0 | I21: =E21*H21 -> 0
A22: 2.5 | B22: 96995 | C22: SINAPI | D22: REATERRO MANUAL APILOADO COM SOQUETE. AF_10/2017 | E22: 0.84 | F22: M3 | H22: =(G22*$I$8)+G22 -> 0 | I22: =E22*H22 -> 0
A23: 2.6 | B23: 92270 | C23: SINAPI | D23: FABRICAÇÃO DE FÔRMA PARA VIGAS, COM MADEIRA SERRADA, E = 25 MM. AF_09/2020 | E23: 16.84 | F23: M2 | H23: =(G23*$I$8)+G23 -> 0 | I23: =E23*H23 -> 0
A24: 2.7 | B24: 100345 | C24: SINAPI | D24: ARMAÇÃO DE CORTINA DE CONTENÇÃO EM CONCRETO ARMADO, COM AÇO CA-50 DE 12,5 MM - MONTAGEM. AF_07/2019 | E24: 134.69 | F24: KG | H24: =(G24*$I$8)+G24 -> 0 | I24: =E24*H24 -> 0
A25: 2.8 | B25: 1525 | C25: SINAPI | D25: CONCRETO USINADO BOMBEAVEL, CLASSE DE RESISTENCIA C30, COM BRITA 0 E 1, SLUMP = 100 +/- 20 MM, INCLUI SERVICO DE BOMBEAMENTO (NBR 8953) | E25: 1.68 | F25: M3 | H25: =(G25*$I$8)+G25 -> 0 | I25: =E25*H25 -> 0
A26: 2.9 | B26: 92874 | C26: SINAPI | D26: LANÇAMENTO COM USO DE BOMBA, ADENSAMENTO E ACABAMENTO DE CONCRETO EM ESTRUTURAS. AF_12/2015 | E26: 1.68 | F26: M3 | H26: =(G26*$I$8)+G26 -> 0 | I26: =E26*H26 -> 0
D27: Estrutura | E27: 0 | I27: =SUBTOTAL(9,I28:I32) -> 0
A28: 2.10 | B28: 96531 | C28: SINAPI | D28: FABRICAÇÃO, MONTAGEM E DESMONTAGEM DE FÔRMA PARA BLOCO DE COROAMENTO, EM MADEIRA SERRADA, E=25 MM, 2 UTILIZAÇÕES. AF_06/2017 | E28: 16.47 | F28: M2 | H28: =(G28*$I$8)+G28 -> 0 | I28: =E28*H28 -> 0
A29: 2.11 | B29: 100345 | C29: SINAPI | D29: ARMAÇÃO DE CORTINA DE CONTENÇÃO EM CONCRETO ARMADO, COM AÇO CA-50 DE 12,5 MM - MONTAGEM. AF_07/2019 | E29: 184.4 | F29: KG | H29: =(G29*$I$8)+G29 -> 0 | I29: =E29*H29 -> 0
A30: 2.12 | B30: 1525 | C30: SINAPI | D30: CONCRETO USINADO BOMBEAVEL, CLASSE DE RESISTENCIA C30, COM BRITA 0 E 1, SLUMP = 100 +/- 20 MM, INCLUI SERVICO DE BOMBEAMENTO (NBR 8953) | E30: 2.31 | F30: M3 | H30: =(G30*$I$8)+G30 -> 0 | I30: =E30*H30 -> 0
A31: 2.13 | B31: 92874 | C31: SINAPI | D31: LANÇAMENTO COM USO DE BOMBA, ADENSAMENTO E ACABAMENTO DE CONCRETO EM ESTRUTURAS. AF_12/2015 | E31: 2.31 | F31: M3 | H31: =(G31*$I$8)+G31 -> 0 | I31: =E31*H31 -> 0
A32: 2.14 | B32: 101963 | C32: SINAPI | D32: LAJE PRÉ-MOLDADA UNIDIRECIONAL, BIAPOIADA, PARA PISO, ENCHIMENTO EM CERÂMICA, VIGOTA CONVENCIONAL, ALTURA TOTAL DA LAJE (ENCHIMENTO+CAPA) = (8+4). AF_11/2020 | E32: 31.67 | F32: M2 | H32: =(G32*$I$8)+G32 -> 0 | I32: =E32*H32 -> 0
D33: Impermeabilização | E33: 0 | I33: =SUBTOTAL(9,I34:I35) -> 0
A34: 2.15 | B34: 98561 | C34: SINAPI | D34: IMPERMEABILIZAÇÃO DE PAREDES COM ARGAMASSA DE CIMENTO E AREIA, COM ADITIVO IMPERMEABILIZANTE, E = 2CM. AF_06/2018 | E34: 5.61 | F34: M2 | H34: =(G34*$I$8)+G34 -> 0 | I34: =E34*H34 -> 0
A35: 2.16 | B35: 98555 | C35: SINAPI | D35: IMPERMEABILIZAÇÃO DE SUPERFÍCIE COM ARGAMASSA POLIMÉRICA / MEMBRANA ACRÍLICA, 3 DEMÃOS. AF_06/2018 | E35: 5.61 | F35: M2 | H35: =(G35*$I$8)+G35 -> 0 | I35: =E35*H35 -> 0
D36: Vedação | E36: 0 | I36: =SUBTOTAL(9,I37:I40) -> 0
A37: 2.17 | B37: 101165 | C37: SINAPI | D37: ALVENARIA DE EMBASAMENTO COM BLOCO ESTRUTURAL DE CONCRETO, DE 14X19X29CM E ARGAMASSA DE ASSENTAMENTO COM PREPARO EM BETONEIRA. AF_05/2020 | E37: 1.12 | F37: M3 | H37: =(G37*$I$8)+G37 -> 0 | I37: =E37*H37 -> 0
A38: 2.18 | B38: 101159 | C38: SINAPI | D38: ALVENARIA DE VEDAÇÃO DE BLOCOS CERÂMICOS MACIÇOS DE 5X10X20CM (ESPESSURA 10CM) E ARGAMASSA DE ASSENTAMENTO COM PREPARO EM BETONEIRA. AF_05/2020 | E38: 104.28 | F38: M2 | H38: =(G38*$I$8)+G38 -> 0 | I38: =E38*H38 -> 0
A39: 2.19 | B39: 93186 | C39: SINAPI | D39: VERGA MOLDADA IN LOCO EM CONCRETO PARA JANELAS COM ATÉ 1,5 M DE VÃO. AF_03/2016 | E39: 8.49 | F39: M | H39: =(G39*$I$8)+G39 -> 0 | I39: =E39*H39 -> 0
A40: 2.20 | B40: 93188 | C40: SINAPI | D40: VERGA MOLDADA IN LOCO EM CONCRETO PARA PORTAS COM ATÉ 1,5 M DE VÃO. AF_03/2016 | E40: 8.58 | F40: M | H40: =(G40*$I$8)+G40 -> 0 | I40: =E40*H40 -> 0
D41: Cobertura | E41: 0 | I41: =SUBTOTAL(9,I42:I49) -> 0
A42: 2.21 | B42: 92543 | C42: SINAPI | D42: TRAMA DE MADEIRA COMPOSTA POR TERÇAS PARA TELHADOS DE ATÉ 2 ÁGUAS PARA TELHA ONDULADA DE FIBROCIMENTO, METÁLICA, PLÁSTICA OU TERMOACÚSTICA, INCLUSO TRANSPORTE VERTICAL. AF_07/2019 | E42: 31.67 | F42: M2 | H42: =(G42*$I$8)+G42 -> 0 | I42: =E42*H42 -> 0
A43: 2.22 | B43: 7243 | C43: SINAPI | D43: TELHA TRAPEZOIDAL EM ACO ZINCADO, SEM PINTURA, ALTURA DE APROXIMADAMENTE 40 MM, ESPESSURA DE 0,50 MM E LARGURA UTIL DE 980 MM | E43: 46.17 | F43: M2 | H43: =(G43*$I$8)+G43 -> 0 | I43: =E43*H43 -> 0
A44: 2.23 | B44: 94231 | C44: SINAPI | D44: RUFO EM CHAPA DE AÇO GALVANIZADO NÚMERO 24, CORTE DE 25 CM, INCLUSO TRANSPORTE VERTICAL. AF_07/2019 | E44: 42.24 | F44: M | H44: =(G44*$I$8)+G44 -> 0 | I44: =E44*H44 -> 0
A45: 2.24 | B45: 94228 | C45: SINAPI | D45: CALHA EM CHAPA DE AÇO GALVANIZADO NÚMERO 24, DESENVOLVIMENTO DE 50 CM, INCLUSO TRANSPORTE VERTICAL. AF_07/2019 | E45: 18.9 | F45: M | H45: =(G45*$I$8)+G45 -> 0 | I45: =E45*H45 -> 0
A46: 2.25 | B46: 100773 | C46: SINAPI | D46: ESTRUTURA TRELIÇADA DE COBERTURA, TIPO ARCO, COM LIGAÇÕES SOLDADAS, INCLUSOS PERFIS METÁLICOS, CHAPAS METÁLICAS, MÃO DE OBRA E TRANSPORTE COM GUINDASTE - FORNECIMENTO E INSTALAÇÃO. AF_01/2020_P | E46: 217.5 | F46: KG | H46: =(G46*$I$8)+G46 -> 0 | I46: =E46*H46 -> 0
A47: 2.26 | B47: 89576 | C47: SINAPI | D47: TUBO PVC, SÉRIE R, ÁGUA PLUVIAL, DN 75 MM, FORNECIDO E INSTALADO EM CONDUTORES VERTICAIS DE ÁGUAS PLUVIAIS. AF_12/2014 | E47: 11.3 | F47: M | H47: =(G47*$I$8)+G47 -> 0 | I47: =E47*H47 -> 0
...

Sheet cronograma
F2: cronograma
C4: logo da empresa
B8: OBRA: | C8: CONTINUIDADE DO CENTRO ESPORTIVO JARDIM MOREIRINHA - 3ª ETAPA | I8: DATA BASE SINAPI | K8: =#REF! -> #REF!
B9: LOCAL: | C9: RUA MARIA JOSÉ MOREIRA FRANCO -JARDIM MOREIRINHA
B11: ITEM | C11: DESCRIÇÃO | G11: VALOR | H11: PORC. | I11: MÊS 1 | K11: MÊS 2 | M11: MÊS 3 | O11: MÊS 4 | Q11: MÊS 5 | S11: MÊS 6
I12: VALOR | J12: PORC. | K12: VALOR | L12: PORC. | M12: VALOR | N12: PORC. | O12: VALOR | P12: PORC. | Q12: VALOR | R12: PORC. | S12: VALOR | T12: PORC.
B14: =orçamento!A12 -> 1 | C14: =orçamento!D12 -> SERVIÇOS INICIAIS | H14: =G14/$G$32 -> #DIV/0! | I14: =J14*$G$14 -> 0 | K14: =L14*$G$14 -> 0 | M14: =N14*$G$14 -> 0 | O14: =P14*$G$14 -> 0 | Q14: =R14*$G$14 -> 0 | S14: =T14*$G$14 -> 0 | V14: =S14+Q14+O14+M14+K14+I14 -> 0
B17: =orçamento!A15 -> 2 | C17: =orçamento!D15 -> QUIOSQUE | H17: =G17/$G$32 -> #DIV/0! | I17: =J17*$G$17 -> 0 | K17: =L17*$G$17 -> 0 | M17: =N17*$G$17 -> 0 | O17: =P17*$G$17 -> 0 | Q17: =R17*$G$17 -> 0 | S17: =T17*$G$17 -> 0 | V17: =S17+Q17+O17+M17+K17+I17 -> 0
B20: =orçamento!A133 -> 3 | C20: =orçamento!D133 -> PISTA DE CAMINHADA | H20: =G20/$G$32 -> #DIV/0! | I20: =J20*$G$20 -> 0 | K20: =L20*$G$20 -> 0 | M20: =N20*$G$20 -> 0 | O20: =P20*$G$20 -> 0 | Q20: =R20*$G$20 -> 0 | S20: =T20*$G$20 -> 0 | V20: =S20+Q20+O20+M20+K20+I20 -> 0
B23: =orçamento!A144 -> 4 | C23: =orçamento!D144 -> DRENAGEM | H23: =G23/$G$32 -> #DIV/0! | K23: =L23*$G$23 -> 0 | V23: =S23+Q23+O23+M23+K23+I23 -> 0
B26: =orçamento!A152 -> 5 | C26: =orçamento!D152 -> PAISAGISMO | H26: =G26/$G$32 -> #DIV/0! | M26: =N26*$G$26 -> 0 | O26: =P26*$G$26 -> 0 | Q26: =R26*$G$26 -> 0 | S26: =T26*$G$26 -> 0 | V26: =S26+Q26+O26+M26+K26+I26 -> 0
B29: =orçamento!A157 -> 6 | C29: =orçamento!D157 -> ELEVAÇÃO DO MURO DE ARRIMO | H29: =G29/$G$32 -> #DIV/0! | I29: =J29*$G$29 -> 0 | V29: =S29+Q29+O29+M29+K29+I29 -> 0
G32: =SUM(G14:G31) -> 0 | H32: =G32/$G$32 -> #DIV/0! | I32: =SUM(I13:I31) -> 0 | J32: =I32/G32 -> #DIV/0! | K32: =SUM(K13:K31) -> 0 | L32: =K32/G32 -> #DIV/0! | M32: =SUM(M13:M31) -> 0 | N32: =M32/G32 -> #DIV/0! | O32: =SUM(O13:O31) -> 0 | P32: =O32/G32 -> #DIV/0! | Q32: =SUM(Q13:Q31) -> 0 | R32: =Q32/G32 -> #DIV/0! | S32: =SUM(S13:S31) -> 0 | T32: =S32/G32 -> #DIV/0! | V32: =SUM(V14:V31) -> 0
I33: =SUM(I13:I31) -> 0 | J33: =I33/G32 -> #DIV/0! | K33: =I33+K32 -> 0 | L33: =K33/G32 -> #DIV/0! | M33: =K33+M32 -> 0 | N33: =M33/G32 -> #DIV/0! | O33: =M33+O32 -> 0 | P33: =O33/G32 -> #DIV/0! | Q33: =O33+Q32 -> 0 | R33: =Q33/G32 -> #DIV/0! | S33: =Q33+S32 -> 0 | T33: =S33/G32 -> #DIV/0!
