Workbook
Name _xlfn_ANCHORARRAY: NA()
Name Área_impressão_IM: NA()
Name Área_impressão_IM: NA()
Name DESONERACAO: IF(OR(import_desoneracao="DESONERADO",import_desoneracao="SIM"),"SIM","NÃO")
Name Excel_BuiltIn__FilterDatabase: NA()
Name Excel_BuiltIn__FilterDatabase: NA()
Name Excel_BuiltIn__FilterDatabase: NA()
Name Excel_BuiltIn_Database: NA()
Name Excel_BuiltIn_Database: NA()
Name Excel_BuiltIn_Print_Area: NA()
Name Excel_BuiltIn_Print_Area: NA()
Name Excel_BuiltIn_Print_Area: NA()
Name Excel_BuiltIn_Print_Area: NA()
Name Excel_BuiltIn_Print_Area: NA()
Name Excel_BuiltIn_Print_Titles: NA()
Name Excel_BuiltIn_Print_Titles: NA()
Name Excel_BuiltIn_Print_Titles: NA()
Name OAE_MAR94: NA()
Name OAE_MAR94: NA()
Name PAV_MAR94: NA()
Name PAV_MAR94: NA()
Name SUP_MAR94: NA()
Name SUP_MAR94: NA()
Name TER_MAR94: NA()
Name TER_MAR94: NA()
Name URV_MAR94: NA()
Name URV_MAR94: NA()

Sheet CDHU 186
C1: COMPANHIA DE DESENVOLVIMENTO HABITACIONAL E URBANO
A2: DO ESTADO DE SÃO PAULO
A3: BOLETIM REFERENCIAL DE CUSTOS - TABELA DE SERVIÇOS
A4: COM DESONERAÇÃO
G5: Versão 186
F6: Data Base: | G6: MAIO/22
D7: BDI : | E7: 0 | F7: L.S.: | G7: 0.9778
A8: Referência | C8: Descrição | D8: Un | E8: Material | F8: Mão de Obra | G8: Custo Total
A9: 01 | C9: SERVICO TECNICO ESPECIALIZADO | H9: =LEN(A9) -> 2
A10: 01.02 | C10: Parecer técnico | H10: =LEN(A10) -> 5
A11: 01.02.071 | C11: Parecer técnico de fundações, contenções e recomendações gerais, para empreendimentos com área construída até 1.000 m² | D11: UN | F11: 5388.88 | G11: 5388.88 | H11: =LEN(A11) -> 9
A12: 01.02.081 | C12: Parecer técnico de fundações, contenções e recomendações gerais, para empreendimentos com área construída de 1.001 a 2.000 m² | D12: UN | F12: 7166.17 | G12: 7166.17 | H12: =LEN(A12) -> 9
A13: 01.02.091 | C13: Parecer técnico de fundações, contenções e recomendações gerais, para empreendimentos com área construída de 2.001 a 5.000 m² | D13: UN | F13: 12241.41 | G13: 12241.41 | H13: =LEN(A13) -> 9
A14: 01.02.101 | C14: Parecer técnico de fundações, contenções e recomendações gerais, para empreendimentos com área construída de 5.001 a 10.000 m² | D14: UN | F14: 16784.41 | G14: 16784.41 | H14: =LEN(A14) -> 9
A15: 01.02.111 | C15: Parecer técnico de fundações, contenções e recomendações gerais, para empreendimentos com área construída acima de 10.000 m² | D15: UN | F15: 19559.64 | G15: 19559.64 | H15: =LEN(A15) -> 9
A16: 01.06 | C16: Projeto de instalações elétricas | H16: =LEN(A16) -> 5
A17: 01.06.021 | C17: Elaboração de projeto de adequação de entrada de energia elétrica junto a concessionária, com medição em baixa tensão e demanda até 75 kVA | D17: UN | F17: 6882.8 | G17: 6882.8 | H17: =LEN(A17) -> 9
A18: 01.06.031 | C18: Elaboração de projeto de adequação de entrada de energia elétrica junto a concessionária, com medição em média tensão, subestação simplificada e demanda de 75 kVA a 300 kVA | D18: UN | F18: 11658.08 | G18: 11658.08 | H18: =LEN(A18) -> 9
A19: 01.06.032 | C19: Elaboração de projeto de adequação de entrada de energia elétrica junto a concessionária, com medição em média tensão e demanda de 75 kVA a 300 kVA | D19: UN | F19: 15775.6 | G19: 15775.6 | H19: =LEN(A19) -> 9
A20: 01.06.041 | C20: Elaboração de projeto de adequação de entrada de energia elétrica junto a concessionária, com medição em média tensão e demanda acima de 300 kVA a 2 MVA | D20: UN | F20: 20983.4 | G20: 20983.4 | H20: =LEN(A20) -> 9
A21: 01.17 | C21: Projeto executivo | H21: =LEN(A21) -> 5
A22: 01.17.031 | C22: Projeto executivo de arquitetura em formato A1 | D22: UN | F22: 2711.35 | G22: 2711.35 | H22: =LEN(A22) -> 9
A23: 01.17.041 | C23: Projeto executivo de arquitetura em formato A0 | D23: UN | F23: 3665.44 | G23: 3665.44 | H23: =LEN(A23) -> 9
A24: 01.17.051 | C24: Projeto executivo de estrutura em formato A1 | D24: UN | F24: 1988.49 | G24: 1988.49 | H24: =LEN(A24) -> 9
A25: 01.17.061 | C25: Projeto executivo de estrutura em formato A0 | D25: UN | F25: 2720.63 | G25: 2720.63 | H25: =LEN(A25) -> 9
A26: 01.17.071 | C26: Projeto executivo de instalações hidráulicas em formato A1 | D26: UN | F26: 853.67 | G26: 853.67 | H26: =LEN(A26) -> 9
A27: 01.17.081 | C27: Projeto executivo de instalações hidráulicas em formato A0 | D27: UN | F27: 1136.33 | G27: 1136.33 | H27: =LEN(A27) -> 9
A28: 01.17.111 | C28: Projeto executivo de instalações elétricas em formato A1 | D28: UN | F28: 947.94 | G28: 947.94 | H28: =LEN(A28) -> 9
A29: 01.17.121 | C29: Projeto executivo de instalações elétricas em formato A0 | D29: UN | F29: 1314.36 | G29: 1314.36 | H29: =LEN(A29) -> 9
A30: 01.17.151 | C30: Projeto executivo de climatização em formato A1 | D30: UN | F30: 1824.62 | G30: 1824.62 | H30: =LEN(A30) -> 9
A31: 01.17.161 | C31: Projeto executivo de climatização em formato A0 | D31: UN | F31: 2487.16 | G31: 2487.16 | H31: =LEN(A31) -> 9
A32: 01.17.171 | C32: Projeto executivo de chuveiros automáticos em formato A1 | D32: UN | F32: 1575.18 | G32: 1575.18 | H32: =LEN(A32) -> 9
A33: 01.17.181 | C33: Projeto executivo de chuveiros automáticos em formato A0 | D33: UN | F33: 2035.97 | G33: 2035.97 | H33: =LEN(A33) -> 9
A34: 01.20 | C34: Levantamento topográfico e geofísico | H34: =LEN(A34) -> 5
A35: 01.20.010 | C35: Taxa de mobilização e desmobilização de equipamentos para execução de levantamento topográfico | D35: TX | E35: 1166.17 | G35: 1166.17 | H35: =LEN(A35) -> 9
A36: 01.20.280 | C36: Levantamento planimétrico de área pavimentada para veículo e pedestre | D36: M2 | E36: 0.04 | F36: 0.13 | G36: 0.17 | H36: =LEN(A36) -> 9
A37: 01.20.691 | C37: Levantamento planimétrico cadastral com áreas ocupadas predominantemente por comunidades - área até 20.000 m² (mínimo de 3.500 m²) | D37: M2 | E37: 0.49 | F37: 0.44 | G37: 0.93 | H37: =LEN(A37) -> 9
A38: 01.20.701 | C38: Levantamento planimétrico cadastral com áreas ocupadas predominantemente por comunidades - área acima de 20.000 m² até 200.000 m² | D38: M2 | E38: 0.38 | F38: 0.35 | G38: 0.73 | H38: =LEN(A38) -> 9
A39: 01.20.711 | C39: Levantamento planimétrico cadastral com áreas ocupadas predominantemente por comunidades - área acima de 200.000 m² | D39: M2 | E39: 0.32 | F39: 0.28 | G39: 0.6 | H39: =LEN(A39) -> 9
A40: 01.20.721 | C40: Levantamento planimétrico cadastral com áreas até 50% de ocupação - área até 20.000 m² (mínimo de 3.500 m²) | D40: M2 | E40: 0.43 | F40: 0.38 | G40: 0.81 | H40: =LEN(A40) -> 9
...

Sheet CDHU 187
C1: COMPANHIA DE DESENVOLVIMENTO HABITACIONAL E URBANO
A2: DO ESTADO DE SÃO PAULO
A3: BOLETIM REFERENCIAL DE CUSTOS - TABELA DE SERVIÇOS
A4: COM DESONERAÇÃO
G5: Versão 187
F6: Data Base: | G6: AGOSTO/22
D7: BDI : | E7: 0 | F7: L.S.: | G7: 0.9778
A8: Referência | C8: Descrição | D8: Un | E8: Material | F8: Mão de Obra | G8: Custo Total
A9: 01 | C9: SERVICO TECNICO ESPECIALIZADO | H9: 2
A10: 01.02 | C10: Parecer técnico | H10: 5
A11: 01.02.071 | C11: Parecer técnico de fundações, contenções e recomendações gerais, para empreendimentos com área construída até 1.000 m² | D11: UN | F11: 5388.88 | G11: 5388.88 | H11: 9
A12: 01.02.081 | C12: Parecer técnico de fundações, contenções e recomendações gerais, para empreendimentos com área construída de 1.001 a 2.000 m² | D12: UN | F12: 7166.17 | G12: 7166.17 | H12: 9
A13: 01.02.091 | C13: Parecer técnico de fundações, contenções e recomendações gerais, para empreendimentos com área construída de 2.001 a 5.000 m² | D13: UN | F13: 12241.41 | G13: 12241.41 | H13: 9
A14: 01.02.101 | C14: Parecer técnico de fundações, contenções e recomendações gerais, para empreendimentos com área construída de 5.001 a 10.000 m² | D14: UN | F14: 16784.41 | G14: 16784.41 | H14: 9
A15: 01.02.111 | C15: Parecer técnico de fundações, contenções e recomendações gerais, para empreendimentos com área construída acima de 10.000 m² | D15: UN | F15: 19559.64 | G15: 19559.64 | H15: 9
A16: 01.06 | C16: Projeto de instalações elétricas | H16: 5
A17: 01.06.021 | C17: Elaboração de projeto de adequação de entrada de energia elétrica junto a concessionária, com medição em baixa tensão e demanda até 75 kVA | D17: UN | F17: 6882.8 | G17: 6882.8 | H17: 9
A18: 01.06.031 | C18: Elaboração de projeto de adequação de entrada de energia elétrica junto a concessionária, com medição em média tensão, subestação simplificada e demanda de 75 kVA a 300 kVA | D18: UN | F18: 11658.08 | G18: 11658.08 | H18: 9
A19: 01.06.032 | C19: Elaboração de projeto de adequação de entrada de energia elétrica junto a concessionária, com medição em média tensão e demanda de 75 kVA a 300 kVA | D19: UN | F19: 15775.6 | G19: 15775.6 | H19: 9
A20: 01.06.041 | C20: Elaboração de projeto de adequação de entrada de energia elétrica junto a concessionária, com medição em média tensão e demanda acima de 300 kVA a 2 MVA | D20: UN | F20: 20983.4 | G20: 20983.4 | H20: 9
A21: 01.17 | C21: Projeto executivo | H21: 5
A22: 01.17.031 | C22: Projeto executivo de arquitetura em formato A1 | D22: UN | F22: 2711.35 | G22: 2711.35 | H22: 9
A23: 01.17.041 | C23: Projeto executivo de arquitetura em formato A0 | D23: UN | F23: 3665.44 | G23: 3665.44 | H23: 9
A24: 01.17.051 | C24: Projeto executivo de estrutura em formato A1 | D24: UN | F24: 1988.49 | G24: 1988.49 | H24: 9
A25: 01.17.061 | C25: Projeto executivo de estrutura em formato A0 | D25: UN | F25: 2720.63 | G25: 2720.63 | H25: 9
A26: 01.17.071 | C26: Projeto executivo de instalações hidráulicas em formato A1 | D26: UN | F26: 853.67 | G26: 853.67 | H26: 9
A27: 01.17.081 | C27: Projeto executivo de instalações hidráulicas em formato A0 | D27: UN | F27: 1136.33 | G27: 1136.33 | H27: 9
A28: 01.17.111 | C28: Projeto executivo de instalações elétricas em formato A1 | D28: UN | F28: 947.94 | G28: 947.94 | H28: 9
A29: 01.17.121 | C29: Projeto executivo de instalações elétricas em formato A0 | D29: UN | F29: 1314.36 | G29: 1314.36 | H29: 9
A30: 01.17.151 | C30: Projeto executivo de climatização em formato A1 | D30: UN | F30: 1824.62 | G30: 1824.62 | H30: 9
A31: 01.17.161 | C31: Projeto executivo de climatização em formato A0 | D31: UN | F31: 2487.16 | G31: 2487.16 | H31: 9
A32: 01.17.171 | C32: Projeto executivo de chuveiros automáticos em formato A1 | D32: UN | F32: 1575.18 | G32: 1575.18 | H32: 9
A33: 01.17.181 | C33: Projeto executivo de chuveiros automáticos em formato A0 | D33: UN | F33: 2035.97 | G33: 2035.97 | H33: 9
A34: 01.20 | C34: Levantamento topográfico e geofísico | H34: 5
A35: 01.20.010 | C35: Taxa de mobilização e desmobilização de equipamentos para execução de levantamento topográfico | D35: TX | E35: 1217.58 | G35: 1217.58 | H35: 9
A36: 01.20.280 | C36: Levantamento planimétrico de área pavimentada para veículo e pedestre | D36: M2 | E36: 0.05 | F36: 0.13 | G36: 0.18 | H36: 9
A37: 01.20.691 | C37: Levantamento planimétrico cadastral com áreas ocupadas predominantemente por comunidades - área até 20.000 m² (mínimo de 3.500 m²) | D37: M2 | E37: 0.51 | F37: 0.44 | G37: 0.95 | H37: 9
A38: 01.20.701 | C38: Levantamento planimétrico cadastral com áreas ocupadas predominantemente por comunidades - área acima de 20.000 m² até 200.000 m² | D38: M2 | E38: 0.39 | F38: 0.35 | G38: 0.74 | H38: 9
A39: 01.20.711 | C39: Levantamento planimétrico cadastral com áreas ocupadas predominantemente por comunidades - área acima de 200.000 m² | D39: M2 | E39: 0.33 | F39: 0.28 | G39: 0.61 | H39: 9
A40: 01.20.721 | C40: Levantamento planimétrico cadastral com áreas até 50% de ocupação - área até 20.000 m² (mínimo de 3.500 m²) | D40: M2 | E40: 0.44 | F40: 0.38 | G40: 0.82 | H40: 9
...

Sheet CDHU 190
C1: COMPANHIA DE DESENVOLVIMENTO HABITACIONAL E URBANO
A2: DO ESTADO DE SÃO PAULO
A3: BOLETIM REFERENCIAL DE CUSTOS - TABELA DE SERVIÇOS
A4: COM DESONERAÇÃO
G5: Versão 190
F6: Data Base: | G6: MAIO/23
D7: BDI : | E7: 0 | F7: L.S.: | G7: 0.9778
A8: Referência | C8: Descrição | D8: Un | E8: Material | F8: Mão de Obra | G8: Custo Total
A9: 01 | C9: SERVICO TECNICO ESPECIALIZADO | H9: 2
A10: 01.02 | C10: Parecer técnico | H10: 5
A11: 01.02.071 | C11: Parecer técnico de fundações, contenções e recomendações gerais, para empreendimentos com área construída até 1.000 m² | D11: UN | F11: 5636.66 | G11: 5636.66 | H11: 9
A12: 01.02.081 | C12: Parecer técnico de fundações, contenções e recomendações gerais, para empreendimentos com área construída de 1.001 a 2.000 m² | D12: UN | F12: 7495.66 | G12: 7495.66 | H12: 9
A13: 01.02.091 | C13: Parecer técnico de fundações, contenções e recomendações gerais, para empreendimentos com área construída de 2.001 a 5.000 m² | D13: UN | F13: 12804.27 | G13: 12804.27 | H13: 9
A14: 01.02.101 | C14: Parecer técnico de fundações, contenções e recomendações gerais, para empreendimentos com área construída de 5.001 a 10.000 m² | D14: UN | F14: 17556.16 | G14: 17556.16 | H14: 9
A15: 01.02.111 | C15: Parecer técnico de fundações, contenções e recomendações gerais, para empreendimentos com área construída acima de 10.000 m² | D15: UN | F15: 20458.99 | G15: 20458.99 | H15: 9
A16: 01.06 | C16: Projeto de instalações elétricas | H16: 5
A17: 01.06.021 | C17: Elaboração de projeto de adequação de entrada de energia elétrica junto a concessionária, com medição em baixa tensão e demanda até 75 kVA | D17: UN | F17: 7199.56 | G17: 7199.56 | H17: 9
A18: 01.06.031 | C18: Elaboração de projeto de adequação de entrada de energia elétrica junto a concessionária, com medição em média tensão, subestação simplificada e demanda de 75 kVA a 300 kVA | D18: UN | F18: 12194.64 | G18: 12194.64 | H18: 9
A19: 01.06.032 | C19: Elaboração de projeto de adequação de entrada de energia elétrica junto a concessionária, com medição em média tensão e demanda de 75 kVA a 300 kVA | D19: UN | F19: 16501.64 | G19: 16501.64 | H19: 9
A20: 01.06.041 | C20: Elaboração de projeto de adequação de entrada de energia elétrica junto a concessionária, com medição em média tensão e demanda acima de 300 kVA a 2 MVA | D20: UN | F20: 21949.1 | G20: 21949.1 | H20: 9
A21: 01.17 | C21: Projeto executivo | H21: 5
A22: 01.17.031 | C22: Projeto executivo de arquitetura em formato A1 | D22: UN | F22: 2836.01 | G22: 2836.01 | H22: 9
A23: 01.17.041 | C23: Projeto executivo de arquitetura em formato A0 | D23: UN | F23: 3833.98 | G23: 3833.98 | H23: 9
A24: 01.17.051 | C24: Projeto executivo de estrutura em formato A1 | D24: UN | F24: 2079.88 | G24: 2079.88 | H24: 9
A25: 01.17.061 | C25: Projeto executivo de estrutura em formato A0 | D25: UN | F25: 2845.66 | G25: 2845.66 | H25: 9
A26: 01.17.071 | C26: Projeto executivo de instalações hidráulicas em formato A1 | D26: UN | F26: 892.89 | G26: 892.89 | H26: 9
A27: 01.17.081 | C27: Projeto executivo de instalações hidráulicas em formato A0 | D27: UN | F27: 1188.55 | G27: 1188.55 | H27: 9
A28: 01.17.111 | C28: Projeto executivo de instalações elétricas em formato A1 | D28: UN | F28: 991.52 | G28: 991.52 | H28: 9
A29: 01.17.121 | C29: Projeto executivo de instalações elétricas em formato A0 | D29: UN | F29: 1374.79 | G29: 1374.79 | H29: 9
A30: 01.17.151 | C30: Projeto executivo de climatização em formato A1 | D30: UN | F30: 1908.51 | G30: 1908.51 | H30: 9
A31: 01.17.161 | C31: Projeto executivo de climatização em formato A0 | D31: UN | F31: 2601.48 | G31: 2601.48 | H31: 9
A32: 01.17.171 | C32: Projeto executivo de chuveiros automáticos em formato A1 | D32: UN | F32: 1647.55 | G32: 1647.55 | H32: 9
A33: 01.17.181 | C33: Projeto executivo de chuveiros automáticos em formato A0 | D33: UN | F33: 2129.53 | G33: 2129.53 | H33: 9
A34: 01.20 | C34: Levantamento topográfico e geofísico | H34: 5
A35: 01.20.010 | C35: Taxa de mobilização e desmobilização de equipamentos para execução de levantamento topográfico | D35: TX | E35: 1215.48 | G35: 1215.48 | H35: 9
A36: 01.20.280 | C36: Levantamento planimétrico de área pavimentada para veículo e pedestre | D36: M2 | E36: 0.04 | F36: 0.13 | G36: 0.17 | H36: 9
A37: 01.20.691 | C37: Levantamento planimétrico cadastral com áreas ocupadas predominantemente por comunidades - área até 20.000 m² (mínimo de 3.500 m²) | D37: M2 | E37: 0.39 | F37: 0.46 | G37: 0.85 | H37: 9
A38: 01.20.701 | C38: Levantamento planimétrico cadastral com áreas ocupadas predominantemente por comunidades - área acima de 20.000 m² até 200.000 m² | D38: M2 | E38: 0.3 | F38: 0.35 | G38: 0.65 | H38: 9
A39: 01.20.711 | C39: Levantamento planimétrico cadastral com áreas ocupadas predominantemente por comunidades - área acima de 200.000 m² | D39: M2 | E39: 0.25 | F39: 0.29 | G39: 0.54 | H39: 9
A40: 01.20.721 | C40: Levantamento planimétrico cadastral com áreas até 50% de ocupação - área até 20.000 m² (mínimo de 3.500 m²) | D40: M2 | E40: 0.34 | F40: 0.4 | G40: 0.74 | H40: 9
...

Sheet CDHU 191
C1: COMPANHIA DE DESENVOLVIMENTO HABITACIONAL E URBANO
A2: DO ESTADO DE SÃO PAULO
A3: BOLETIM REFERENCIAL DE CUSTOS - TABELA DE SERVIÇOS
A4: COM DESONERAÇÃO
G5: Versão 191
F6: Data Base: | G6: AGOSTO/23
D7: BDI : | E7: 0 | F7: L.S.: | G7: 0.9778
A8: Referência | C8: Descrição | D8: Un | E8: Material | F8: Mão de Obra | G8: Custo Total
A9: 01 | C9: SERVICO TECNICO ESPECIALIZADO | H9: =LEN(A9) -> 2
A10: 01.02 | C10: Parecer técnico | H10: =LEN(A10) -> 5
A11: 01.02.071 | C11: Parecer técnico de fundações, contenções e recomendações gerais, para empreendimentos com área construída até 1.000 m² | D11: UN | F11: 5636.66 | G11: 5636.66 | H11: =LEN(A11) -> 9
A12: 01.02.081 | C12: Parecer técnico de fundações, contenções e recomendações gerais, para empreendimentos com área construída de 1.001 a 2.000 m² | D12: UN | F12: 7495.66 | G12: 7495.66 | H12: =LEN(A12) -> 9
A13: 01.02.091 | C13: Parecer técnico de fundações, contenções e recomendações gerais, para empreendimentos com área construída de 2.001 a 5.000 m² | D13: UN | F13: 12804.27 | G13: 12804.27 | H13: =LEN(A13) -> 9
A14: 01.02.101 | C14: Parecer técnico de fundações, contenções e recomendações gerais, para empreendimentos com área construída de 5.001 a 10.000 m² | D14: UN | F14: 17556.16 | G14: 17556.16 | H14: =LEN(A14) -> 9
A15: 01.02.111 | C15: Parecer técnico de fundações, contenções e recomendações gerais, para empreendimentos com área construída acima de 10.000 m² | D15: UN | F15: 20458.99 | G15: 20458.99 | H15: =LEN(A15) -> 9
A16: 01.06 | C16: Projeto de instalações elétricas | H16: =LEN(A16) -> 5
A17: 01.06.021 | C17: Elaboração de projeto de adequação de entrada de energia elétrica junto a concessionária, com medição em baixa tensão e demanda até 75 kVA | D17: UN | F17: 7199.56 | G17: 7199.56 | H17: =LEN(A17) -> 9
A18: 01.06.031 | C18: Elaboração de projeto de adequação de entrada de energia elétrica junto a concessionária, com medição em média tensão, subestação simplificada e demanda de 75 kVA a 300 kVA | D18: UN | F18: 12194.64 | G18: 12194.64 | H18: =LEN(A18) -> 9
A19: 01.06.032 | C19: Elaboração de projeto de adequação de entrada de energia elétrica junto a concessionária, com medição em média tensão e demanda de 75 kVA a 300 kVA | D19: UN | F19: 16501.64 | G19: 16501.64 | H19: =LEN(A19) -> 9
A20: 01.06.041 | C20: Elaboração de projeto de adequação de entrada de energia elétrica junto a concessionária, com medição em média tensão e demanda acima de 300 kVA a 2 MVA | D20: UN | F20: 21949.1 | G20: 21949.1 | H20: =LEN(A20) -> 9
A21: 01.17 | C21: Projeto executivo | H21: =LEN(A21) -> 5
A22: 01.17.031 | C22: Projeto executivo de arquitetura em formato A1 | D22: UN | F22: 2836.01 | G22: 2836.01 | H22: =LEN(A22) -> 9
A23: 01.17.041 | C23: Projeto executivo de arquitetura em formato A0 | D23: UN | F23: 3833.98 | G23: 3833.98 | H23: =LEN(A23) -> 9
A24: 01.17.051 | C24: Projeto executivo de estrutura em formato A1 | D24: UN | F24: 2079.88 | G24: 2079.88 | H24: =LEN(A24) -> 9
A25: 01.17.061 | C25: Projeto executivo de estrutura em formato A0 | D25: UN | F25: 2845.66 | G25: 2845.66 | H25: =LEN(A25) -> 9
A26: 01.17.071 | C26: Projeto executivo de instalações hidráulicas em formato A1 | D26: UN | F26: 892.89 | G26: 892.89 | H26: =LEN(A26) -> 9
A27: 01.17.081 | C27: Projeto executivo de instalações hidráulicas em formato A0 | D27: UN | F27: 1188.55 | G27: 1188.55 | H27: =LEN(A27) -> 9
A28: 01.17.111 | C28: Projeto executivo de instalações elétricas em formato A1 | D28: UN | F28: 991.52 | G28: 991.52 | H28: =LEN(A28) -> 9
A29: 01.17.121 | C29: Projeto executivo de instalações elétricas em formato A0 | D29: UN | F29: 1374.79 | G29: 1374.79 | H29: =LEN(A29) -> 9
A30: 01.17.151 | C30: Projeto executivo de climatização em formato A1 | D30: UN | F30: 1908.51 | G30: 1908.51 | H30: =LEN(A30) -> 9
A31: 01.17.161 | C31: Projeto executivo de climatização em formato A0 | D31: UN | F31: 2601.48 | G31: 2601.48 | H31: =LEN(A31) -> 9
A32: 01.17.171 | C32: Projeto executivo de chuveiros automáticos em formato A1 | D32: UN | F32: 1647.55 | G32: 1647.55 | H32: =LEN(A32) -> 9
A33: 01.17.181 | C33: Projeto executivo de chuveiros automáticos em formato A0 | D33: UN | F33: 2129.53 | G33: 2129.53 | H33: =LEN(A33) -> 9
A34: 01.20 | C34: Levantamento topográfico e geofísico | H34: =LEN(A34) -> 5
A35: 01.20.010 | C35: Taxa de mobilização e desmobilização de equipamentos para execução de levantamento topográfico | D35: TX | E35: 1237.02 | G35: 1237.02 | H35: =LEN(A35) -> 9
A36: 01.20.280 | C36: Levantamento planimétrico de área pavimentada para veículo e pedestre | D36: M2 | E36: 0.04 | F36: 0.13 | G36: 0.17 | H36: =LEN(A36) -> 9
A37: 01.20.691 | C37: Levantamento planimétrico cadastral com áreas ocupadas predominantemente por comunidades - área até 20.000 m² (mínimo de 3.500 m²) | D37: M2 | E37: 0.4 | F37: 0.46 | G37: 0.86 | H37: =LEN(A37) -> 9
A38: 01.20.701 | C38: Levantamento planimétrico cadastral com áreas ocupadas predominantemente por comunidades - área acima de 20.000 m² até 200.000 m² | D38: M2 | E38: 0.32 | F38: 0.35 | G38: 0.67 | H38: =LEN(A38) -> 9
A39: 01.20.711 | C39: Levantamento planimétrico cadastral com áreas ocupadas predominantemente por comunidades - área acima de 200.000 m² | D39: M2 | E39: 0.26 | F39: 0.29 | G39: 0.55 | H39: =LEN(A39) -> 9
A40: 01.20.721 | C40: Levantamento planimétrico cadastral com áreas até 50% de ocupação - área até 20.000 m² (mínimo de 3.500 m²) | D40: M2 | E40: 0.35 | F40: 0.4 | G40: 0.75 | H40: =LEN(A40) -> 9
...

Sheet Planilha_Orçamentária
D1: PLANILHA ORÇAMENTÁRIA
E2: Com desoneração | G2: SIM | H2: BDI = | I2: 0.25
A3: OBRA: Pavimentação das vias - Avenida Nossa Senhora do Amparo - Rua Natal Pitarello - Rua André Brambilla Vaccari
A4: CDHU | C4: BOLETIM DE REFERENCIA DE CUSTOS - TABELA DE SERVIÇOS | E4: Versão 191 | H4: DATA BASE | I4: AGOSTO DE 2023
A5: INDICE | B5: FONTE | C5: CÓDIGO | D5: DESCRIÇÃO | E5: UNID. | F5: QUANT. | G5: VALOR UNIT. | I5: TOTAL
G6: S/ BDI | H6: C/ BDI
C7: 1 | D7: Avenida Nossa Senhora do Amparo, n°0 - Chácara Bocaina | H7: =IF(G7="","",ROUND(G7*(1+$I$2),2)) | I7: =SUBTOTAL(9,I8:I34) -> 1071632.7
C8: 1.1 | D8: SERVIÇOS PRELIMINARES | H8: =IF(G8="","",ROUND(G8*(1+$I$2),2)) | I8: =SUBTOTAL(9,I9:I11) -> 11556.35
A9: 1 | B9: CDHU | C9: 02.08.040 | D9: =IF($B9="","",VLOOKUP($C9,'CDHU 191'!$A$10:$AT$4489,3,0)) -> Placa em lona com impressão digital e requadro em metalon | E9: =IF($B9="","",VLOOKUP($C9,'CDHU 191'!$A$10:$AT$4489,4,0)) -> M2 | F9: 6 | G9: =IF($B9="","",VLOOKUP($C9,'CDHU 191'!$A$10:$AT$4489,7,0)) -> 314.42 | H9: =IF(G9="","",ROUND(G9*(1+$I$2),2)) -> 393.03 | I9: =IF($B9="","",ROUND(F9*H9,2)) -> 2358.18 | J9: altura 2 m x compr. 3 m
A10: 2 | B10: CDHU | C10: 02.10.060 | D10: =IF($B10="","",VLOOKUP($C10,'CDHU 191'!$A$10:$AT$4489,3,0)) -> Locação de vias, calçadas, tanques e lagoas | E10: =IF($B10="","",VLOOKUP($C10,'CDHU 191'!$A$10:$AT$4489,4,0)) -> M2 | F10: =F13 -> 4088.32 | G10: =IF($B10="","",VLOOKUP($C10,'CDHU 191'!$A$10:$AT$4489,7,0)) -> 1.72 | H10: =IF(G10="","",ROUND(G10*(1+$I$2),2)) -> 2.15 | I10: =IF($B10="","",ROUND(F10*H10,2)) -> 8789.89
A11: 3 | B11: CDHU | C11: 02.10.040 | D11: =IF($B11="","",VLOOKUP($C11,'CDHU 191'!$A$10:$AT$4489,3,0)) -> Locação de rede de canalização | E11: =IF($B11="","",VLOOKUP($C11,'CDHU 191'!$A$10:$AT$4489,4,0)) -> M | F11: =F27 -> 236 | G11: =IF($B11="","",VLOOKUP($C11,'CDHU 191'!$A$10:$AT$4489,7,0)) -> 1.38 | H11: =IF(G11="","",ROUND(G11*(1+$I$2),2)) -> 1.73 | I11: =IF($B11="","",ROUND(F11*H11,2)) -> 408.28
C12: 1.2 | D12: Pavimentação | H12: =IF(G12="","",ROUND(G12*(1+$I$2),2)) | I12: =SUBTOTAL(9,I13:I17) -> 681818.55
A13: 1 | B13: CDHU | C13: 54.01.400 | D13: =IF($B13="","",VLOOKUP($C13,'CDHU 191'!$A$10:$AT$4489,3,0)) -> Abertura de caixa até 25 cm, inclui escavação, compactação, transporte e preparo do sub-leito | E13: =IF($B13="","",VLOOKUP($C13,'CDHU 191'!$A$10:$AT$4489,4,0)) -> M2 | F13: 4088.32 | G13: =IF($B13="","",VLOOKUP($C13,'CDHU 191'!$A$10:$AT$4489,7,0)) -> 24.46 | H13: =IF(G13="","",ROUND(G13*(1+$I$2),2)) -> 30.58 | I13: =IF($B13="","",ROUND(F13*H13,2)) -> 125020.83 | J13: extraido do cad (fig 2) 4088,32
A14: 2 | B14: CDHU | C14: 54.01.210 | D14: =IF($B14="","",VLOOKUP($C14,'CDHU 191'!$A$10:$AT$4489,3,0)) -> Base de brita graduada | E14: =IF($B14="","",VLOOKUP($C14,'CDHU 191'!$A$10:$AT$4489,4,0)) -> M3 | F14: =4088.32*0.2 -> 817.664 | G14: =IF($B14="","",VLOOKUP($C14,'CDHU 191'!$A$10:$AT$4489,7,0)) -> 246.44 | H14: =IF(G14="","",ROUND(G14*(1+$I$2),2)) -> 308.05 | I14: =IF($B14="","",ROUND(F14*H14,2)) -> 251881.4 | J14: 4088,32 x 0,20
A15: 3 | B15: CDHU | C15: 54.03.230 | D15: =IF($B15="","",VLOOKUP($C15,'CDHU 191'!$A$10:$AT$4489,3,0)) -> Imprimação betuminosa ligante | E15: =IF($B15="","",VLOOKUP($C15,'CDHU 191'!$A$10:$AT$4489,4,0)) -> M2 | F15: 3700.58 | G15: =IF($B15="","",VLOOKUP($C15,'CDHU 191'!$A$10:$AT$4489,7,0)) -> 7.1 | H15: =IF(G15="","",ROUND(G15*(1+$I$2),2)) -> 8.88 | I15: =IF($B15="","",ROUND(F15*H15,2)) -> 32861.15 | J15: extraido do cad (fig 3) 3700,58
A16: 4 | B16: CDHU | C16: 54.03.240 | D16: =IF($B16="","",VLOOKUP($C16,'CDHU 191'!$A$10:$AT$4489,3,0)) -> Imprimação betuminosa impermeabilizante | E16: =IF($B16="","",VLOOKUP($C16,'CDHU 191'!$A$10:$AT$4489,4,0)) -> M2 | F16: =F15 -> 3700.58 | G16: =IF($B16="","",VLOOKUP($C16,'CDHU 191'!$A$10:$AT$4489,7,0)) -> 13.76 | H16: =IF(G16="","",ROUND(G16*(1+$I$2),2)) -> 17.2 | I16: =IF($B16="","",ROUND(F16*H16,2)) -> 63649.98 | J16: extraido do cad (fig 3) 3700,58
A17: 5 | B17: CDHU | C17: 54.03.210 | D17: =IF($B17="","",VLOOKUP($C17,'CDHU 191'!$A$10:$AT$4489,3,0)) -> Camada de rolamento em concreto betuminoso usinado quente - CBUQ | E17: =IF($B17="","",VLOOKUP($C17,'CDHU 191'!$A$10:$AT$4489,4,0)) -> M3 | F17: =3700.58*0.03 -> 111.0174 | G17: =IF($B17="","",VLOOKUP($C17,'CDHU 191'!$A$10:$AT$4489,7,0)) -> 1501.78 | H17: =IF(G17="","",ROUND(G17*(1+$I$2),2)) -> 1877.23 | I17: =IF($B17="","",ROUND(F17*H17,2)) -> 208405.19 | J17: 3700,58 X 0,03
C18: 1.3 | D18: DRENAGEM SUPERFICIAL | I18: =SUBTOTAL(9,I19:I20) -> 103374.91
A19: 1 | B19: CDHU | C19: 54.06.040 | D19: =IF($B19="","",VLOOKUP($C19,'CDHU 191'!$A$10:$AT$4489,3,0)) -> Guia pré-moldada reta tipo PMSP 100 - fck 25 MPa | E19: =IF($B19="","",VLOOKUP($C19,'CDHU 191'!$A$10:$AT$4489,4,0)) -> M | F19: =442.01+435.69+46.45 -> 924.15 | G19: =IF($B19="","",VLOOKUP($C19,'CDHU 191'!$A$10:$AT$4489,7,0)) -> 53.98 | H19: =IF(G19="","",ROUND(G19*(1+$I$2),2)) -> 67.48 | I19: =IF($B19="","",ROUND(F19*H19,2)) -> 62361.64 | J19: (fig 1) 442,01 + 435, 69 + 46,45
A20: 2 | B20: CDHU | C20: 54.06.160 | D20: =IF($B20="","",VLOOKUP($C20,'CDHU 191'!$A$10:$AT$4489,3,0)) -> Sarjeta ou sarjetão moldado no local, tipo PMSP em concreto com fck 20 MPa | E20: =IF($B20="","",VLOOKUP($C20,'CDHU 191'!$A$10:$AT$4489,4,0)) -> M3 | F20: =F19*0.3*0.15 -> 41.58675 | G20: =IF($B20="","",VLOOKUP($C20,'CDHU 191'!$A$10:$AT$4489,7,0)) -> 788.97 | H20: =IF(G20="","",ROUND(G20*(1+$I$2),2)) -> 986.21 | I20: =IF($B20="","",ROUND(F20*H20,2)) -> 41013.27 | J20: 924,15 X 0,30 X 0,15
C21: 1.4 | D21: DRENAGEM | H21: =IF(G21="","",ROUND(G21*(1+$I$2),2)) | I21: =SUBTOTAL(9,I22:I32) -> 274024.36
A22: 1 | B22: CDHU | C22: 07.02.020 | D22: =IF($B22="","",VLOOKUP($C22,'CDHU 191'!$A$10:$AT$4489,3,0)) -> Escavação mecanizada de valas ou cavas com profundidade de até 2 m | E22: =IF($B22="","",VLOOKUP($C22,'CDHU 191'!$A$10:$AT$4489,4,0)) -> M3 | F22: =97*0.8+236*1.8 -> 502.4 | G22: =IF($B22="","",VLOOKUP($C22,'CDHU 191'!$A$10:$AT$4489,7,0)) -> 11.01 | H22: =IF(G22="","",ROUND(G22*(1+$I$2),2)) -> 13.76 | I22: =IF($B22="","",ROUND(F22*H22,2)) -> 6913.02 | J22: TUBO # 40 97 X 0,80 -- TUBO # 60 236 X 1,80
A23: 2 | B23: CDHU | C23: 07.11.020 | D23: =IF($B23="","",VLOOKUP($C23,'CDHU 191'!$A$10:$AT$4489,3,0)) -> Reaterro compactado mecanizado de vala ou cava com compactador | E23: =IF($B23="","",VLOOKUP($C23,'CDHU 191'!$A$10:$AT$4489,4,0)) -> M3 | F23: =97*0.2+236*0.43 -> 120.88 | G23: =IF($B23="","",VLOOKUP($C23,'CDHU 191'!$A$10:$AT$4489,7,0)) -> 6.32 | H23: =IF(G23="","",ROUND(G23*(1+$I$2),2)) -> 7.9 | I23: =IF($B23="","",ROUND(F23*H23,2)) -> 954.95 | J23: TUBO # 40 97 X 0,20 -- TUBO # 60 236 X 0,43
A24: 3 | B24: CDHU | C24: 07.10.020 | D24: =IF($B24="","",VLOOKUP($C24,'CDHU 191'!$A$10:$AT$4489,3,0)) -> Espalhamento de solo em bota-fora com compactação sem controle | E24: =IF($B24="","",VLOOKUP($C24,'CDHU 191'!$A$10:$AT$4489,4,0)) -> M3 | F24: =F22-F23 -> 381.52 | G24: =IF($B24="","",VLOOKUP($C24,'CDHU 191'!$A$10:$AT$4489,7,0)) -> 6.85 | H24: =IF(G24="","",ROUND(G24*(1+$I$2),2)) -> 8.56 | I24: =IF($B24="","",ROUND(F24*H24,2)) -> 3265.81 | J24: DIFERENÇA ENTRE ESCAVAÇÃO E REATERRO
A25: 4 | B25: CDHU | C25: 11.18.040 | D25: =IF($B25="","",VLOOKUP($C25,'CDHU 191'!$A$10:$AT$4489,3,0)) -> Lastro de pedra britada | E25: =IF($B25="","",VLOOKUP($C25,'CDHU 191'!$A$10:$AT$4489,4,0)) -> M3 | F25: =236*0.24 -> 56.64 | G25: =IF($B25="","",VLOOKUP($C25,'CDHU 191'!$A$10:$AT$4489,7,0)) -> 183.8 | H25: =IF(G25="","",ROUND(G25*(1+$I$2),2)) -> 229.75 | I25: =IF($B25="","",ROUND(F25*H25,2)) -> 13013.04 | J25: TUBO # 60 236 X 0,24
A26: 5 | B26: CDHU | C26: 46.12.260 | D26: =IF($B26="","",VLOOKUP($C26,'CDHU 191'!$A$10:$AT$4489,3,0)) -> Tubo de concreto (PA-1), DN= 400mm | E26: =IF($B26="","",VLOOKUP($C26,'CDHU 191'!$A$10:$AT$4489,4,0)) -> M | F26: =4*4+9+8+4*6+10+11+19 -> 97 | G26: =IF($B26="","",VLOOKUP($C26,'CDHU 191'!$A$10:$AT$4489,7,0)) -> 148.65 | H26: =IF(G26="","",ROUND(G26*(1+$I$2),2)) -> 185.81 | I26: =IF($B26="","",ROUND(F26*H26,2)) -> 18023.57 | J26: 4 X 4 + 9 + 8 + 4 X 6 + 10 + 11 +19
A27: 6 | B27: CDHU | C27: 46.12.150 | D27: =IF($B27="","",VLOOKUP($C27,'CDHU 191'!$A$10:$AT$4489,3,0)) -> Tubo de concreto (PA-2), DN= 600mm | E27: =IF($B27="","",VLOOKUP($C27,'CDHU 191'!$A$10:$AT$4489,4,0)) -> M | F27: =18+19+31+34+22+23+13+11+52+13 -> 236 | G27: =IF($B27="","",VLOOKUP($C27,'CDHU 191'!$A$10:$AT$4489,7,0)) -> 227.67 | H27: =IF(G27="","",ROUND(G27*(1+$I$2),2)) -> 284.59 | I27: =IF($B27="","",ROUND(F27*H27,2)) -> 67163.24 | J27: 18 + 19 + 31 + 34 + 22 + 23 + 13 + 11 + 52 + 13
A28: 7 | B28: CDHU | C28: 49.12.010 | D28: =IF($B28="","",VLOOKUP($C28,'CDHU 191'!$A$10:$AT$4489,3,0)) -> Boca de lobo simples tipo PMSP com tampa de concreto | E28: =IF($B28="","",VLOOKUP($C28,'CDHU 191'!$A$10:$AT$4489,4,0)) -> UN | F28: 17 | G28: =IF($B28="","",VLOOKUP($C28,'CDHU 191'!$A$10:$AT$4489,7,0)) -> 3275.26 | H28: =IF(G28="","",ROUND(G28*(1+$I$2),2)) -> 4094.08 | I28: =IF($B28="","",ROUND(F28*H28,2)) -> 69599.36 | J28: 17
A29: 8 | B29: CDHU | C29: 49.12.110 | D29: =IF($B29="","",VLOOKUP($C29,'CDHU 191'!$A$10:$AT$4489,3,0)) -> Poço de visita de 1,60 x 1,60 x 1,60 m - tipo PMSP | E29: =IF($B29="","",VLOOKUP($C29,'CDHU 191'!$A$10:$AT$4489,4,0)) -> UN | F29: 10 | G29: =IF($B29="","",VLOOKUP($C29,'CDHU 191'!$A$10:$AT$4489,7,0)) -> 6119.93 | H29: =IF(G29="","",ROUND(G29*(1+$I$2),2)) -> 7649.91 | I29: =IF($B29="","",ROUND(F29*H29,2)) -> 76499.1 | J29: 10
A30: 9 | B30: CDHU | C30: 49.12.120 | D30: =IF($B30="","",VLOOKUP($C30,'CDHU 191'!$A$10:$AT$4489,3,0)) -> Chaminé para poço de visita tipo PMSP em alvenaria, diâmetro interno 70 cm - pescoço | E30: =IF($B30="","",VLOOKUP($C30,'CDHU 191'!$A$10:$AT$4489,4,0)) -> M | F30: 10 | G30: =IF($B30="","",VLOOKUP($C30,'CDHU 191'!$A$10:$AT$4489,7,0)) -> 617.22 | H30: =IF(G30="","",ROUND(G30*(1+$I$2),2)) -> 771.53 | I30: =IF($B30="","",ROUND(F30*H30,2)) -> 7715.3 | J30: 10
A31: 10 | B31: CDHU | C31: 49.06.400 | D31: =IF($B31="","",VLOOKUP($C31,'CDHU 191'!$A$10:$AT$4489,3,0)) -> Tampão em ferro fundido, diâmetro de 600 mm, classe B 125 (ruptura > 125 kN) | E31: =IF($B31="","",VLOOKUP($C31,'CDHU 191'!$A$10:$AT$4489,4,0)) -> UN | F31: 10 | G31: =IF($B31="","",VLOOKUP($C31,'CDHU 191'!$A$10:$AT$4489,7,0)) -> 452.85 | H31: =IF(G31="","",ROUND(G31*(1+$I$2),2)) -> 566.06 | I31: =IF($B31="","",ROUND(F31*H31,2)) -> 5660.6 | J31: 10
A32: 11 | B32: CDHU | C32: COMP 03 | D32: Muro ALA, Base do Muro ALA ((1,38 m + 2,98 m) X 1,80 m comprimento), Altura chegada tubo (1,20 m) | E32: UN | F32: 3 | G32: 1391.03 | H32: =IF(G32="","",ROUND(G32*(1+$I$2),2)) -> 1738.79 | I32: =IF($B32="","",ROUND(F32*H32,2)) -> 5216.37 | J32: 3
C33: 1.5 | D33: Elaboração de "As Built" | I33: =SUBTOTAL(9,I34:I34) -> 858.55
A34: 1 | B34: CDHU | C34: 01.20.280 | D34: =IF($B34="","",VLOOKUP($C34,'CDHU 191'!$A$10:$AT$4489,3,0)) -> Levantamento planimétrico de área pavimentada para veículo e pedestre | E34: =IF($B34="","",VLOOKUP($C34,'CDHU 191'!$A$10:$AT$4489,4,0)) -> M2 | F34: 4088.32 | G34: =IF($B34="","",VLOOKUP($C34,'CDHU 191'!$A$10:$AT$4489,7,0)) -> 0.17 | H34: =IF(G34="","",ROUND(G34*(1+$I$2),2)) -> 0.21 | I34: =IF($B34="","",ROUND(F34*H34,2)) -> 858.55 | J34: extraido do cad (fig 2) 4088,32
C35: 2 | D35: Rua Natal Pitarello - Jardim Serra das Estâncias | H35: =IF(G35="","",ROUND(G35*(1+$I$2),2)) | I35: =SUBTOTAL(9,I36:I62) -> 1605724.6
C36: 2.1 | D36: SERVIÇOS PRELIMINARES | H36: =IF(G36="","",ROUND(G36*(1+$I$2),2)) | I36: =SUBTOTAL(9,I37:I39) -> 17620.03
A37: 1 | B37: CDHU | C37: 02.08.040 | D37: =IF($B37="","",VLOOKUP($C37,'CDHU 191'!$A$10:$AT$4489,3,0)) -> Placa em lona com impressão digital e requadro em metalon | E37: =IF($B37="","",VLOOKUP($C37,'CDHU 191'!$A$10:$AT$4489,4,0)) -> M2 | F37: 6 | G37: =IF($B37="","",VLOOKUP($C37,'CDHU 191'!$A$10:$AT$4489,7,0)) -> 314.42 | H37: =IF(G37="","",ROUND(G37*(1+$I$2),2)) -> 393.03 | I37: =IF($B37="","",ROUND(F37*H37,2)) -> 2358.18 | J37: altura 2 m x compr. 3 m
A38: 2 | B38: CDHU | C38: 02.10.060 | D38: =IF($B38="","",VLOOKUP($C38,'CDHU 191'!$A$10:$AT$4489,3,0)) -> Locação de vias, calçadas, tanques e lagoas | E38: =IF($B38="","",VLOOKUP($C38,'CDHU 191'!$A$10:$AT$4489,4,0)) -> M2 | F38: =F41 -> 6750.12 | G38: =IF($B38="","",VLOOKUP($C38,'CDHU 191'!$A$10:$AT$4489,7,0)) -> 1.72 | H38: =IF(G38="","",ROUND(G38*(1+$I$2),2)) -> 2.15 | I38: =IF($B38="","",ROUND(F38*H38,2)) -> 14512.76 | J38: extraidos do cad figs (3, 1 e 2) 2975,21 + 3488,94 + 285,97
A39: 3 | B39: CDHU | C39: 02.10.040 | D39: =IF($B39="","",VLOOKUP($C39,'CDHU 191'!$A$10:$AT$4489,3,0)) -> Locação de rede de canalização | E39: =IF($B39="","",VLOOKUP($C39,'CDHU 191'!$A$10:$AT$4489,4,0)) -> M | F39: =F55 -> 433 | G39: =IF($B39="","",VLOOKUP($C39,'CDHU 191'!$A$10:$AT$4489,7,0)) -> 1.38 | H39: =IF(G39="","",ROUND(G39*(1+$I$2),2)) -> 1.73 | I39: =IF($B39="","",ROUND(F39*H39,2)) -> 749.09
C40: 2.2 | D40: Pavimentação | H40: =IF(G40="","",ROUND(G40*(1+$I$2),2)) | I40: =SUBTOTAL(9,I41:I45) -> 1178482.5
...

Sheet Cronograma
C2: CRONOGRAMA FÍSICO - DESEMBOLSO E APLICAÇÃO DOS RECURSOS
A3: GOVERNO DO ESTADO DE SÃO PAULO
A5: SECRETARIA DE DESENVOLVIMENTO REGIONAL | F5: MUNICÍPIO
A6: SUBSECRETARIA DE CONVÊNIOS COM MUNICÍPIOS E ENTIDADES NÃO GOVERNAMENTAIS | F6: Amparo
A8: OBRA: | F8: PRAZO PROPOSTO | J8: DATA BASE:
B9: Infraestrutura Urbana | F9: INÍCIO: 30 dias da data da assinatura do convênio | J9: AGOSTO DE 2022
F10: FINAL: 720 dias a partir da data da assinatura do convênio
A12: ITEM | B12: SERVIÇOS | C12: UNIDADE | D12: 1a. ETAPA | F12: 2a. ETAPA | H12: 3a. ETAPA
D13: PERÍODO: 360 dias | F13: PERÍODO: 360 dias | H13: PERÍODO: 360 dias | J13: TOTAL
D14: PRAZO DE LIBERAÇÃO: em até 30 dias após a emissão da Ordem de Serviço. | E14: PRAZO DE EXECUÇÃO: 210 dias | F14: PRAZO DE LIBERAÇÃO: em até 30 dias após a conclusão da etapa. | G14: PRAZO DE EXECUÇÃO: 210 dias | H14: PRAZO DE LIBERAÇÃO: em até 30 dias após a conclusão da etapa. | I14: PRAZO DE EXECUÇÃO: 210 dias
A15: 1 | B15: Avenida Nossa Senhora do Amparo, n°0 - Chácara Bocaina | C15: m | D15: =ROUND(K15*0.3,2) -> 0 | F15: =ROUND(K15*0.35,2) -> 0 | H15: =K15-D15-F15 -> 0 | J15: =SUM(D15:I15) -> 0
C16: R$ | D16: =ROUND(K16*0.3,2) -> 322306.5 | F16: =ROUND(K16*0.35,2) -> 376024.25 | H16: =K16-D16-F16 -> 376024.26 | J16: 1074355 | K16: 1074355
A17: 2 | B17: Rua Natal Pitarello - Jardim Serra das Estâncias | C17: m | J17: =SUM(D17:I17) -> 0
C18: R$ | D18: =ROUND(K18*0.3,2) -> 486252.08 | F18: =ROUND(K18*0.35,2) -> 567294.09 | H18: =K18-D18-F18 -> 567294.09 | J18: 1620840.3 | K18: 1620840.3
A19: 3 | B19: Rua André Brambilla Vaccari | C19: m | J19: =SUM(D19:I19) -> 0
C20: R$ | D20: =ROUND(K20*0.3,2) -> 447492.94 | F20: =ROUND(K20*0.35,2) -> 522075.1 | H20: =K20-D20-F20 -> 522075.09 | J20: 1491643.1 | K20: 1491643.1
A21: 4 | C21: m | J21: =SUM(D21:I21) -> 0
C22: R$ | J22: =SUM(D22:I22) -> 0
A23: 5 | C23: m | J23: =SUM(D23:I23) -> 0
C24: R$ | J24: =SUM(D24:I24) -> 0
A25: 6 | C25: m | J25: =SUM(D25:I25) -> 0
C26: R$ | J26: =SUM(D26:I26) -> 0
A27: 7 | C27: m | J27: =SUM(D27:I27) -> 0
C28: R$ | J28: =SUM(D28:I28) -> 0
A29: 8 | C29: m | J29: =SUM(D29:I29) -> 0
C30: R$ | J30: =SUM(D30:I30) -> 0
A31: 9 | C31: m | J31: =SUM(D31:I31) -> 0
C32: R$ | J32: =SUM(D32:I32) -> 0
A33: 10 | C33: m | J33: =SUM(D33:I33) -> 0
C34: R$ | J34: =SUM(D34:I34) -> 0
A35: 11 | C35: m | J35: =SUM(D35:I35) -> 0
C36: R$ | J36: =SUM(D36:I36) -> 0
A37: 12 | C37: m | J37: =SUM(D37:I37) -> 0
C38: R$ | J38: =SUM(D38:I38) -> 0
A39: 13 | C39: m | J39: =SUM(D39:I39) -> 0
C40: R$ | J40: =SUM(D40:I40) -> 0
A42: RECURSOS ESTADUAIS | D42: 600000 | F42: 700000 | H42: 700000 | J42: =SUM(D42:I42) -> 2000000
A43: RECURSOS PRÓPRIOS | D43: =D44-D42 -> 656051.52 | F43: =F44-F42 -> 765393.44 | H43: =H44-H42 -> 765393.44 | J43: =SUM(D43:I43) -> 2186838.4
A44: T O T A L | D44: =SUM(D20+D18+D16+D22+D24+D26+D28+D30+D32+D34+D36+D38+D40) -> 1256051.5 | F44: =SUM(F20+F18+F16+F22+F24+F26+F28+F30+F32+F34+F36+F38+F40) -> 1465393.4 | H44: =SUM(H20+H18+H16+H22+H24+H26+H28+H30+H32+H34+H36+H38+H40) -> 1465393.4 | J44: =SUM(J15:J26) -> 4186838.4
B49: Amparo, 18 de novembro de 2022
...

Sheet Cronograma FF
A7: CRONOGRAMA FÍSICO FINANCEIRO
A9: Obra: | B9: =Planilha_Orçamentária!A3 -> OBRA: Pavimentação das vias - Avenida Nossa Senhora do Amparo - Rua Natal Pitarello - Rua André Brambilla Vaccari
A11: BOLETIM REFERENCIAL DE CUSTOS - TABELA DE SERVIÇOS - CDHU 191 com desoneração | G11: BDI | H11: =BDI!C22 -> 0.25004486
A12: Vigência: a partir de 01/08/2023 L. S.: 94,77
A14: Item | B14: ETAPAS DA OBRA | C14: VALORES R$ | D14: PERC. | E14: MÊS 1 | G14: MÊS 2 | I14: MÊS 3 | K14: MÊS 4 | M14: MÊS 5 | O14: MÊS 6
A15: 1 | B15: =Planilha_Orçamentária!D7 -> Avenida Nossa Senhora do Amparo, n°0 - Chácara Bocaina | C15: =Planilha_Orçamentária!I7 -> 1071632.7 | D15: =C15/C$21 -> 0.25692088 | E15: =F15*C15 -> 107163.27 | F15: 0.1 | G15: =H15*C15 -> 321489.82 | H15: 0.3 | I15: =J15*C15 -> 214326.54 | J15: 0.2 | K15: =L15*C15 -> 214326.54 | L15: 0.2 | M15: =N15*C15 -> 107163.27 | N15: 0.1 | O15: =P15*C15 -> 107163.27 | P15: 0.1
A17: 2 | B17: =Planilha_Orçamentária!D35 -> Rua Natal Pitarello - Jardim Serra das Estâncias | C17: =Planilha_Orçamentária!I35 -> 1605724.6 | D17: =C17/C$21 -> 0.38496787 | E17: =F17*C17 -> 160572.46 | F17: 0.1 | G17: =H17*C17 -> 481717.38 | H17: 0.3 | I17: =J17*C17 -> 321144.92 | J17: 0.2 | K17: =L17*C17 -> 321144.92 | L17: 0.2 | M17: =N17*C17 -> 160572.46 | N17: 0.1 | O17: =P17*C17 -> 160572.46 | P17: 0.1
A19: 3 | B19: =Planilha_Orçamentária!D64 -> Rua André Brambilla Vaccari -Recanto HAYDEE | C19: =Planilha_Orçamentária!I64 -> 1493704 | D19: =C19/C$21 -> 0.35811125 | E19: =F19*C19 -> 149370.4 | F19: 0.1 | G19: =H19*C19 -> 448111.19 | H19: 0.3 | I19: =J19*C19 -> 298740.79 | J19: 0.2 | K19: =L19*C19 -> 298740.79 | L19: 0.2 | M19: =N19*C19 -> 149370.4 | N19: 0.1 | O19: =P19*C19 -> 149370.4 | P19: 0.1
B21: TOTAL | C21: =SUM(C15:C20) -> 4171061.3 | D21: =SUM(D15:D20) -> 1 | E21: =SUM(E15:E20) -> 417106.13 | F21: =E21/C21 -> 0.1 | G21: =SUM(G15:G20) -> 1251318.4 | H21: =G21/C21 -> 0.3 | I21: =SUM(I15:I20) -> 834212.26 | J21: =I21/$C21 -> 0.2 | K21: =SUM(K15:K20) -> 834212.26 | L21: =K21/$C21 -> 0.2 | M21: =SUM(M15:M20) -> 417106.13 | N21: =M21/$C21 -> 0.1 | O21: =SUM(O15:O20) -> 417106.13 | P21: =O21/$C21 -> 0.1
B22: TOTAL ACUMULADO | E22: =E21 -> 417106.13 | F22: =E22/$C$21 -> 0.1 | G22: =E22+G21 -> 1668424.5 | H22: =G22/$C$21 -> 0.4 | I22: =G22+I21 -> 2502636.8 | J22: =I22/$C$21 -> 0.6 | K22: =I22+K21 -> 3336849 | L22: =K22/$C$21 -> 0.8 | M22: =K22+M21 -> 3753955.2 | N22: =M22/$C$21 -> 0.9 | O22: =M22+O21 -> 4171061.3 | P22: =O22/$C$21 -> 1
B27: ________________________
B28: Carlos Eduardo Mazzetto
B29: Engenheiro Civil - SMDU
B30: CREA 5060363666
E35: =E21+G21 -> 1668424.5 | I35: =I21+K21 -> 1668424.5 | M35: =M21+O21 -> 834212.26
M37: =M35-O37 -> #REF! | O37: =M35*'[1]Planilha convenio 18452'!S142 -> #REF!

Sheet ATERRO
D1: PLANILHA ORÇAMENTÁRIA
E2: Com desoneração | G2: SIM | H2: BDI = | I2: =#N/A -> #N/A | J2: =#REF! -> #REF!
A3: OBRA: Pavimentação das vias - Avenida Nossa Senhora do Amparo - Rua Natal Pitarello - Rua André Brambilla Vaccari - Rua Armandino Seabra - Rua Antônio Miotta
A4: CDHU | C4: BOLETIM DE REFERENCIA DE CUSTOS - TABELA DE SERVIÇOS | E4: Versão 191 | H4: DATA BASE | I4: AGOSTO DE 2022
A5: INDICE | B5: FONTE | C5: CÓDIGO | D5: DESCRIÇÃO | E5: UNID. | F5: QUANT. | G5: VALOR UNIT. | I5: TOTAL
G6: S/ BDI | H6: C/ BDI
A7: 183 | B7: CDHU | C7: 46.12.160 | D7: Tubo de concreto (PA-2), DN= 800mm | E7: M | G7: 363.35 | H7: 458.33 | I7: 0 | J7: =3.14159*0.4^2 -> 0.5026544 | K7: =ROUND(J7*#REF!,2) -> #REF!
A8: 185 | B8: CDHU | C8: 49.12.010 | D8: Boca de lobo simples tipo PMSP com tampa de concreto | E8: UN | G8: 2867.54 | H8: 3617.11 | I8: 0
A9: 189 | B9: CDHU | C9: 49.06.400 | D9: Tampão em ferro fundido, diâmetro de 600 mm, classe B 125 (ruptura > 125 kN) | E9: UN | G9: 436.48 | H9: 550.58 | I9: 0
A10: 190 | B10: CDHU | C10: 07.02.020 | D10: Escavação mecanizada de valas ou cavas com profundidade de até 2 m | E10: M3 | G10: 9.62 | H10: 12.13 | I10: 0
A11: 191 | B11: CDHU | C11: COMP 03 | D11: Muro ALA, Base do Muro ALA ((1,38 m + 2,98 m) X 1,80 m comprimento), Altura chegada tubo (1,20 m) | E11: unid. | G11: 1223.53 | H11: 1543.36 | I11: 0
A12: 192 | B12: CDHU | C12: 08.10.060 | D12: Enrocamento com pedra assentada | E12: M3 | G12: 414.92 | H12: 523.38 | I12: 0
A13: 193 | B13: CDHU | C13: COMP 05 | D13: Lombada - altura 8 cm, conforme projeto | E13: m | G13: 135.65 | H13: 171.11 | I13: 0 | K13: =#REF! -> #REF!
A14: 37 | B14: CDHU | C14: 4612160 | D14: =#N/A -> #N/A | E14: =#N/A -> #N/A | F14: 0 | G14: =#N/A -> #N/A | H14: =IF(G14="","",ROUND(G14*(1+$I$2),2)) -> #N/A | I14: =IF($B14="","",ROUND(F14*H14,2)) -> #N/A | J14: =3.14159*0.4^2 -> 0.5026544 | K14: =ROUND(J14*#REF!,2) -> #REF!
A15: 38 | B15: CDHU | C15: 4912030 | D15: =#N/A -> #N/A | E15: =#N/A -> #N/A | F15: 0 | G15: =#N/A -> #N/A | H15: =IF(G15="","",ROUND(G15*(1+$I$2),2)) -> #N/A | I15: =IF($B15="","",ROUND(F15*H15,2)) -> #N/A | L15: Dois deles serão reforma
A16: 41 | B16: CDHU | C16: 5406160 | D16: =#N/A -> #N/A | E16: =#N/A -> #N/A | F16: 0 | G16: =#N/A -> #N/A | H16: =IF(G16="","",ROUND(G16*(1+$I$2),2)) -> #N/A | I16: =IF($B16="","",ROUND(F16*H16,2)) -> #N/A
A17: 41 | B17: CDHU | C17: 1002020 | D17: =#N/A -> #N/A | E17: =#N/A -> #N/A | F17: 0 | G17: =#N/A -> #N/A | H17: =IF(G17="","",ROUND(G17*(1+$I$2),2)) -> #N/A | I17: =IF($B17="","",ROUND(F17*H17,2)) -> #N/A
A18: 41 | B18: CDHU | C18: 0702020 | D18: =#N/A -> #N/A | E18: =#N/A -> #N/A | F18: 0 | G18: =#N/A -> #N/A | H18: =IF(G18="","",ROUND(G18*(1+$I$2),2)) -> #N/A | I18: =IF($B18="","",ROUND(F18*H18,2)) -> #N/A
A19: 41 | B19: CDHU | C19: 0810060 | D19: =#N/A -> #N/A | E19: =#N/A -> #N/A | F19: 0 | G19: =#N/A -> #N/A | H19: =IF(G19="","",ROUND(G19*(1+$I$2),2)) -> #N/A | I19: =IF($B19="","",ROUND(F19*H19,2)) -> #N/A
A20: 41 | B20: CDHU | C20: COMP 05 | D20: =#N/A -> #N/A | E20: =#N/A -> #N/A | F20: 0 | G20: =#N/A -> #N/A | H20: =IF(G20="","",ROUND(G20*(1+$I$2),2)) -> #N/A | I20: =IF($B20="","",ROUND(F20*H20,2)) -> #N/A
A21: 58 | B21: CDHU | C21: 4612160 | D21: =#N/A -> #N/A | E21: =#N/A -> #N/A | F21: 0 | G21: =#N/A -> #N/A | H21: =IF(G21="","",ROUND(G21*(1+$I$2),2)) -> #N/A | I21: =IF($B21="","",ROUND(F21*H21,2)) -> #N/A | J21: =3.14159*0.4^2 -> 0.5026544 | K21: =ROUND(J21*#REF!,2) -> #REF!
A22: 59 | B22: CDHU | C22: 4912030 | D22: =#N/A -> #N/A | E22: =#N/A -> #N/A | F22: 0 | G22: =#N/A -> #N/A | H22: =IF(G22="","",ROUND(G22*(1+$I$2),2)) -> #N/A | I22: =IF($B22="","",ROUND(F22*H22,2)) -> #N/A
A23: 65 | B23: CDHU | C23: 0702020 | D23: =#N/A -> #N/A | E23: =#N/A -> #N/A | F23: 0 | G23: =#N/A -> #N/A | H23: =IF(G23="","",ROUND(G23*(1+$I$2),2)) -> #N/A | I23: =IF($B23="","",ROUND(F23*H23,2)) -> #N/A
A24: 65 | B24: CDHU | C24: 0810060 | D24: =#N/A -> #N/A | E24: =#N/A -> #N/A | F24: 0 | G24: =#N/A -> #N/A | H24: =IF(G24="","",ROUND(G24*(1+$I$2),2)) -> #N/A | I24: =IF($B24="","",ROUND(F24*H24,2)) -> #N/A
A25: 65 | B25: CDHU | C25: COMP 05 | D25: =#N/A -> #N/A | E25: =#N/A -> #N/A | F25: 0 | G25: =#N/A -> #N/A | H25: =IF(G25="","",ROUND(G25*(1+$I$2),2)) -> #N/A | I25: =IF($B25="","",ROUND(F25*H25,2)) -> #N/A
A26: 91 | B26: CDHU | C26: 5406160 | D26: =#N/A -> #N/A | E26: =#N/A -> #N/A | F26: 0 | G26: =#N/A -> #N/A | H26: =IF(G26="","",ROUND(G26*(1+$I$2),2)) -> #N/A | I26: =IF($B26="","",ROUND(F26*H26,2)) -> #N/A
A27: 91 | B27: CDHU | C27: 1002020 | D27: =#N/A -> #N/A | E27: =#N/A -> #N/A | F27: 0 | G27: =#N/A -> #N/A | H27: =IF(G27="","",ROUND(G27*(1+$I$2),2)) -> #N/A | I27: =IF($B27="","",ROUND(F27*H27,2)) -> #N/A
A28: 115 | B28: CDHU | C28: 4612150 | D28: =#N/A -> #N/A | E28: =#N/A -> #N/A | F28: 0 | G28: =#N/A -> #N/A | H28: =IF(G28="","",ROUND(G28*(1+$I$2),2)) -> #N/A | I28: =IF($B28="","",ROUND(F28*H28,2)) -> #N/A | J28: =3.14159*0.3^2 -> 0.2827431 | K28: =ROUND(J28*#REF!,2) -> #REF!
A29: 115 | B29: CDHU | C29: 4612160 | D29: =#N/A -> #N/A | E29: =#N/A -> #N/A | F29: 0 | G29: =#N/A -> #N/A | H29: =IF(G29="","",ROUND(G29*(1+$I$2),2)) -> #N/A | I29: =IF($B29="","",ROUND(F29*H29,2)) -> #N/A | J29: =3.14159*0.4^2 -> 0.5026544 | K29: =ROUND(J29*F28,2) -> 0
A30: 116 | B30: CDHU | C30: 4912030 | D30: =#N/A -> #N/A | E30: =#N/A -> #N/A | F30: 0 | G30: =#N/A -> #N/A | H30: =IF(G30="","",ROUND(G30*(1+$I$2),2)) -> #N/A | I30: =IF($B30="","",ROUND(F30*H30,2)) -> #N/A
A31: 116 | B31: CDHU | C31: 4912110 | D31: =#N/A -> #N/A | E31: =#N/A -> #N/A | F31: 0 | G31: =#N/A -> #N/A | H31: =IF(G31="","",ROUND(G31*(1+$I$2),2)) -> #N/A | I31: =IF($B31="","",ROUND(F31*H31,2)) -> #N/A
A32: 116 | B32: CDHU | C32: 4912120 | D32: =#N/A -> #N/A | E32: =#N/A -> #N/A | F32: 0 | G32: =#N/A -> #N/A | H32: =IF(G32="","",ROUND(G32*(1+$I$2),2)) -> #N/A | I32: =IF($B32="","",ROUND(F32*H32,2)) -> #N/A
A33: 116 | B33: CDHU | C33: 4906400 | D33: =#N/A -> #N/A | E33: =#N/A -> #N/A | F33: 0 | G33: =#N/A -> #N/A | H33: =IF(G33="","",ROUND(G33*(1+$I$2),2)) -> #N/A | I33: =IF($B33="","",ROUND(F33*H33,2)) -> #N/A
A34: 116 | B34: CDHU | C34: 5406160 | D34: =#N/A -> #N/A | E34: =#N/A -> #N/A | F34: 0 | G34: =#N/A -> #N/A | H34: =IF(G34="","",ROUND(G34*(1+$I$2),2)) -> #N/A | I34: =IF($B34="","",ROUND(F34*H34,2)) -> #N/A
A35: 116 | B35: CDHU | C35: 1002020 | D35: =#N/A -> #N/A | E35: =#N/A -> #N/A | F35: 0 | G35: =#N/A -> #N/A | H35: =IF(G35="","",ROUND(G35*(1+$I$2),2)) -> #N/A | I35: =IF($B35="","",ROUND(F35*H35,2)) -> #N/A
A36: 116 | B36: CDHU | C36: 0702020 | D36: =#N/A -> #N/A | E36: =#N/A -> #N/A | F36: 0 | G36: =#N/A -> #N/A | H36: =IF(G36="","",ROUND(G36*(1+$I$2),2)) -> #N/A | I36: =IF($B36="","",ROUND(F36*H36,2)) -> #N/A
A37: 120 | B37: CDHU | C37: COMP 02 | D37: =#N/A -> #N/A | E37: =#N/A -> #N/A | F37: 0 | G37: =#N/A -> #N/A | H37: =IF(G37="","",ROUND(G37*(1+$I$2),2)) -> #N/A | I37: =IF($B37="","",ROUND(F37*H37,2)) -> #N/A
A38: 135 | B38: CDHU | C38: 4612160 | D38: =#N/A -> #N/A | E38: =#N/A -> #N/A | F38: 0 | G38: =#N/A -> #N/A | H38: =IF(G38="","",ROUND(G38*(1+$I$2),2)) -> #N/A | I38: =IF($B38="","",ROUND(F38*H38,2)) -> #N/A | J38: =3.14159*0.4^2 -> 0.5026544 | K38: =ROUND(J38*#REF!,2) -> #REF!
A39: 140 | B39: CDHU | C39: 5406160 | D39: =#N/A -> #N/A | E39: =#N/A -> #N/A | F39: 0 | G39: =#N/A -> #N/A | H39: =IF(G39="","",ROUND(G39*(1+$I$2),2)) -> #N/A | I39: =IF($B39="","",ROUND(F39*H39,2)) -> #N/A
A40: 140 | B40: CDHU | C40: 1002020 | D40: =#N/A -> #N/A | E40: =#N/A -> #N/A | F40: 0 | G40: =#N/A -> #N/A | H40: =IF(G40="","",ROUND(G40*(1+$I$2),2)) -> #N/A | I40: =IF($B40="","",ROUND(F40*H40,2)) -> #N/A
...

Sheet BDI
A5: DEMONSTRATIVO DE COMPOSIÇÃO DO BDI (acórdão 2622/2013-TCU-Plenário)
A6: Objeto: Pavimenteção de Vias Pública
A7: Local: Rua Natal Pitarelo, Rua André Bambrila Vacari e Av. N. S. do Amparo
A9: COMPOSIÇÃO DO BDI (acórdão 2622/2013-TCU-Plenário)
A10: ITENS | B10: DESCRIÇÃO | C10: %
A11: AC | B11: Administraçao Central | C11: 0.0352
A12: S | B12: Seguros | C12: 0.0032
A13: R | B13: Riscos | C13: 0.0025
A14: G | B14: Garantias | C14: 0.0025
A15: DF | B15: Despesas Financeiras | C15: 0.0102
A16: L | B16: Lucro/Remuneração | C16: 0.03
A17: l | B17: Impostos/tributos | C17: =C18+C19+C20+C21 -> 0.1315
B18: PIS | C18: 0.0065
B19: COFINS | C19: 0.03
B20: ISS | C20: 0.05
B21: Contribuição Previdenciaria | C21: 0.045
A22: Taxa do BDI (%) | C22: =(((1+C11+C12+C13+C14)*(1+C15)*(1+C16))/(1-C17))-1 -> 0.25004486
A24: Declaramos sob pena da Lei que a alternativa adotada pela Prefeitura do Municipio de Amparo é COM Desoneração e que esta é a mais vantajosa para a Administração Pública.
A28: Assinatura do Responsável Técnico
A29: Carlos Eduardo Mazzetto
A30: eng. civil smdu
A31: crea 5060363666

Sheet Memorial de Calculo
D1: MEMORIAL DE CÁLCULO
G2: SIM | H2: BDI = | I2: 0.25
A3: OBRA: Pavimentação das vias - Avenida Nossa Senhora do Amparo - Rua Natal Pitarello - Rua André Brambilla Vaccari
A4: CDHU | C4: BOLETIM DE REFERENCIA DE CUSTOS - TABELA DE SERVIÇOS | E4: Versão 191 | H4: DATA BASE | I4: AGOSTO DE 2022
A5: INDICE | B5: FONTE | C5: CÓDIGO | D5: DESCRIÇÃO | E5: UNID. | F5: QUANT. | G5: VALOR UNIT. | I5: TOTAL | J5: OPERAÇÕES
G6: S/ BDI | H6: C/ BDI
C7: 1 | D7: Avenida Nossa Senhora do Amparo, n°0 - Chácara Bocaina | H7: =IF(G7="","",ROUND(G7*(1+$I$2),2)) | I7: =SUBTOTAL(9,I8:I34) -> 1074355
C8: 1.1 | D8: SERVIÇOS PRELIMINARES | H8: =IF(G8="","",ROUND(G8*(1+$I$2),2)) | I8: =SUBTOTAL(9,I9:I11) -> 12443.41
A9: 1 | B9: CDHU | C9: 02.08.040 | D9: Placa em lona com impressão digital e requadro em metalon | E9: M2 | F9: 6 | G9: 432.38 | H9: =IF(G9="","",ROUND(G9*(1+$I$2),2)) -> 540.48 | I9: =IF($B9="","",ROUND(F9*H9,2)) -> 3242.88 | J9: altura 2 m x compr. 3 m
A10: 2 | B10: CDHU | C10: 02.10.060 | D10: Locação de vias, calçadas, tanques e lagoas | E10: M2 | F10: =F13 -> 4088.32 | G10: 1.72 | H10: =IF(G10="","",ROUND(G10*(1+$I$2),2)) -> 2.15 | I10: =IF($B10="","",ROUND(F10*H10,2)) -> 8789.89
A11: 3 | B11: CDHU | C11: 02.10.040 | D11: Locação de rede de canalização | E11: M | F11: =F27 -> 236 | G11: 1.39 | H11: =IF(G11="","",ROUND(G11*(1+$I$2),2)) -> 1.74 | I11: =IF($B11="","",ROUND(F11*H11,2)) -> 410.64
C12: 1.2 | D12: Pavimentação | H12: =IF(G12="","",ROUND(G12*(1+$I$2),2)) | I12: =SUBTOTAL(9,I13:I17) -> 700690.66
A13: 1 | B13: CDHU | C13: 54.01.400 | D13: Abertura de caixa até 25 cm, inclui escavação, compactação, transporte e preparo do sub-leito | E13: M2 | F13: 4088.32 | G13: 24.81 | H13: =IF(G13="","",ROUND(G13*(1+$I$2),2)) -> 31.01 | I13: =IF($B13="","",ROUND(F13*H13,2)) -> 126778.8 | J13: extraido do cad (fig 2) 4088,32
A14: 2 | B14: CDHU | C14: 54.01.210 | D14: Base de brita graduada | E14: M3 | F14: =4088.32*0.2 -> 817.664 | G14: 224.1 | H14: =IF(G14="","",ROUND(G14*(1+$I$2),2)) -> 280.13 | I14: =IF($B14="","",ROUND(F14*H14,2)) -> 229052.22 | J14: 4088,32 x 0,20
A15: 3 | B15: CDHU | C15: 54.03.230 | D15: Imprimação betuminosa ligante | E15: M2 | F15: 3700.58 | G15: 7.78 | H15: =IF(G15="","",ROUND(G15*(1+$I$2),2)) -> 9.73 | I15: =IF($B15="","",ROUND(F15*H15,2)) -> 36006.64 | J15: extraido do cad (fig 3) 3700,58
A16: 4 | B16: CDHU | C16: 54.03.240 | D16: Imprimação betuminosa impermeabilizante | E16: M2 | F16: =F15 -> 3700.58 | G16: 15.7 | H16: =IF(G16="","",ROUND(G16*(1+$I$2),2)) -> 19.63 | I16: =IF($B16="","",ROUND(F16*H16,2)) -> 72642.39 | J16: extraido do cad (fig 3) 3700,58
A17: 5 | B17: CDHU | C17: 54.03.210 | D17: Camada de rolamento em concreto betuminoso usinado quente - CBUQ | E17: M3 | F17: =3700.58*0.03 -> 111.0174 | G17: 1702.15 | H17: =IF(G17="","",ROUND(G17*(1+$I$2),2)) -> 2127.69 | I17: =IF($B17="","",ROUND(F17*H17,2)) -> 236210.61 | J17: 3700,58 X 0,03
C18: 1.3 | D18: DRENAGEM SUPERFICIAL | I18: =SUBTOTAL(9,I19:I20) -> 100738.68
A19: 1 | B19: CDHU | C19: 54.06.040 | D19: Guia pré-moldada reta tipo PMSP 100 - fck 25 MPa | E19: M | F19: =442.01+435.69+46.45 -> 924.15 | G19: 53.44 | H19: =IF(G19="","",ROUND(G19*(1+$I$2),2)) -> 66.8 | I19: =IF($B19="","",ROUND(F19*H19,2)) -> 61733.22 | J19: (fig 1) 442,01 + 435, 69 + 46,45
A20: 2 | B20: CDHU | C20: 54.06.160 | D20: Sarjeta ou sarjetão moldado no local, tipo PMSP em concreto com fck 20 MPa | E20: M3 | F20: =F19*0.3*0.15 -> 41.58675 | G20: 750.34 | H20: =IF(G20="","",ROUND(G20*(1+$I$2),2)) -> 937.93 | I20: =IF($B20="","",ROUND(F20*H20,2)) -> 39005.46 | J20: 924,15 X 0,30 X 0,15
C21: 1.4 | D21: DRENAGEM | H21: =IF(G21="","",ROUND(G21*(1+$I$2),2)) | I21: =SUBTOTAL(9,I22:I32) -> 259541.95
A22: 1 | B22: CDHU | C22: 07.02.020 | D22: Escavação mecanizada de valas ou cavas com profundidade de até 2 m | E22: M3 | F22: =97*0.8+236*1.8 -> 502.4 | G22: 11.3 | H22: =IF(G22="","",ROUND(G22*(1+$I$2),2)) -> 14.13 | I22: =IF($B22="","",ROUND(F22*H22,2)) -> 7098.91 | J22: TUBO # 40 97 X 0,80 -- TUBO # 60 236 X 1,80
A23: 2 | B23: CDHU | C23: 07.11.020 | D23: Reaterro compactado mecanizado de vala ou cava com compactador | E23: M3 | F23: =97*0.2+236*0.43 -> 120.88 | G23: 6.3 | H23: =IF(G23="","",ROUND(G23*(1+$I$2),2)) -> 7.88 | I23: =IF($B23="","",ROUND(F23*H23,2)) -> 952.53 | J23: TUBO # 40 97 X 0,20 -- TUBO # 60 236 X 0,43
A24: 3 | B24: CDHU | C24: 07.10.020 | D24: Espalhamento de solo em bota-fora com compactação sem controle | E24: M3 | F24: =F22-F23 -> 381.52 | G24: 6.89 | H24: =IF(G24="","",ROUND(G24*(1+$I$2),2)) -> 8.61 | I24: =IF($B24="","",ROUND(F24*H24,2)) -> 3284.89 | J24: DIFERENÇA ENTRE ESCAVAÇÃO E REATERRO
A25: 4 | B25: CDHU | C25: 11.18.040 | D25: Lastro de pedra britada | E25: M3 | F25: =236*0.24 -> 56.64 | G25: 160.61 | H25: =IF(G25="","",ROUND(G25*(1+$I$2),2)) -> 200.76 | I25: =IF($B25="","",ROUND(F25*H25,2)) -> 11371.05 | J25: TUBO # 60 236 X 0,24
A26: 5 | B26: CDHU | C26: 46.12.260 | D26: Tubo de concreto (PA-1), DN= 400mm | E26: M | F26: =4*4+9+8+4*6+10+11+19 -> 97 | G26: 134.17 | H26: =IF(G26="","",ROUND(G26*(1+$I$2),2)) -> 167.71 | I26: =IF($B26="","",ROUND(F26*H26,2)) -> 16267.87 | J26: 4 X 4 + 9 + 8 + 4 X 6 + 10 + 11 +19
A27: 6 | B27: CDHU | C27: 46.12.150 | D27: Tubo de concreto (PA-2), DN= 600mm | E27: M | F27: =18+19+31+34+22+23+13+11+52+13 -> 236 | G27: 200.81 | H27: =IF(G27="","",ROUND(G27*(1+$I$2),2)) -> 251.01 | I27: =IF($B27="","",ROUND(F27*H27,2)) -> 59238.36 | J27: 18 + 19 + 31 + 34 + 22 + 23 + 13 + 11 + 52 + 13
A28: 7 | B28: CDHU | C28: 49.12.010 | D28: Boca de lobo simples tipo PMSP com tampa de concreto | E28: UN | F28: 17 | G28: 3220.76 | H28: =IF(G28="","",ROUND(G28*(1+$I$2),2)) -> 4025.95 | I28: =IF($B28="","",ROUND(F28*H28,2)) -> 68441.15 | J28: 17
A29: 8 | B29: CDHU | C29: 49.12.110 | D29: Poço de visita de 1,60 x 1,60 x 1,60 m - tipo PMSP | E29: UN | F29: 10 | G29: 5941.81 | H29: =IF(G29="","",ROUND(G29*(1+$I$2),2)) -> 7427.26 | I29: =IF($B29="","",ROUND(F29*H29,2)) -> 74272.6 | J29: 10
A30: 9 | B30: CDHU | C30: 49.12.120 | D30: Chaminé para poço de visita tipo PMSP em alvenaria, diâmetro interno 70 cm - pescoço | E30: M | F30: 10 | G30: 610.41 | H30: =IF(G30="","",ROUND(G30*(1+$I$2),2)) -> 763.01 | I30: =IF($B30="","",ROUND(F30*H30,2)) -> 7630.1 | J30: 10
A31: 10 | B31: CDHU | C31: 49.06.400 | D31: Tampão em ferro fundido, diâmetro de 600 mm, classe B 125 (ruptura > 125 kN) | E31: UN | F31: 10 | G31: 453.52 | H31: =IF(G31="","",ROUND(G31*(1+$I$2),2)) -> 566.9 | I31: =IF($B31="","",ROUND(F31*H31,2)) -> 5669 | J31: 10
A32: 11 | B32: CDHU | C32: COMP 03 | D32: Muro ALA, Base do Muro ALA ((1,38 m + 2,98 m) X 1,80 m comprimento), Altura chegada tubo (1,20 m) | E32: UN | F32: 3 | G32: 1417.46 | H32: =IF(G32="","",ROUND(G32*(1+$I$2),2)) -> 1771.83 | I32: =IF($B32="","",ROUND(F32*H32,2)) -> 5315.49 | J32: 3
C33: 1.5 | D33: Elaboração de "As Built" | I33: =SUBTOTAL(9,I34:I34) -> 940.31
A34: 1 | B34: CDHU | C34: 01.20.280 | D34: Levantamento planimétrico de área pavimentada para veículo e pedestre | E34: M2 | F34: 4088.32 | G34: 0.18 | H34: =IF(G34="","",ROUND(G34*(1+$I$2),2)) -> 0.23 | I34: =IF($B34="","",ROUND(F34*H34,2)) -> 940.31 | J34: extraido do cad (fig 2) 4088,32
C35: 2 | D35: Rua Natal Pitarello - Jardim Serra das Estâncias | H35: =IF(G35="","",ROUND(G35*(1+$I$2),2)) | I35: =SUBTOTAL(9,I36:I62) -> 1620840.3
C36: 2.1 | D36: SERVIÇOS PRELIMINARES | H36: =IF(G36="","",ROUND(G36*(1+$I$2),2)) | I36: =SUBTOTAL(9,I37:I39) -> 18509.06
A37: 1 | B37: CDHU | C37: 02.08.040 | D37: Placa em lona com impressão digital e requadro em metalon | E37: M2 | F37: 6 | G37: 432.38 | H37: =IF(G37="","",ROUND(G37*(1+$I$2),2)) -> 540.48 | I37: =IF($B37="","",ROUND(F37*H37,2)) -> 3242.88 | J37: altura 2 m x compr. 3 m
A38: 2 | B38: CDHU | C38: 02.10.060 | D38: Locação de vias, calçadas, tanques e lagoas | E38: M2 | F38: =F41 -> 6750.12 | G38: 1.72 | H38: =IF(G38="","",ROUND(G38*(1+$I$2),2)) -> 2.15 | I38: =IF($B38="","",ROUND(F38*H38,2)) -> 14512.76 | J38: extraidos do cad figs (3, 1 e 2) 2975,21 + 3488,94 + 285,97
A39: 3 | B39: CDHU | C39: 02.10.040 | D39: Locação de rede de canalização | E39: M | F39: =F55 -> 433 | G39: 1.39 | H39: =IF(G39="","",ROUND(G39*(1+$I$2),2)) -> 1.74 | I39: =IF($B39="","",ROUND(F39*H39,2)) -> 753.42
C40: 2.2 | D40: Pavimentação | H40: =IF(G40="","",ROUND(G40*(1+$I$2),2)) | I40: =SUBTOTAL(9,I41:I45) -> 1216551.9
...

Sheet Composição_de_Serviços
B3: OBRA: Pavimentação das vias - Avenida Nossa Senhora do Amparo - Rua Natal Pitarello - Rua André Brambilla Vaccari
C4: PLANILHA ORÇAMENTÁRIA - COMPOSIÇÃO | E4: Com desoneração | G4: NÃO
B5: CDHU | C5: Versão 191 | E5: 0 | G5: AGOSTO/22
B6: FONTE | C6: CÓDIGO | D6: DESCRIÇÃO | E6: UNID. | F6: QUANT. | G6: VALOR UNIT. | H6: TOTAL
C7: 1.0 | D7: SERVIÇOS PRELIMINARES | H7: =SUBTOTAL(9,H8:H12) -> #N/A
B8: CDHU | C8: 0208040 | D8: =#N/A -> #N/A | E8: =#N/A -> #N/A | F8: 6 | G8: =#N/A -> #N/A | H8: =IF($B8="","",ROUND(F8*G8,2)) -> #N/A
H9: =IF($B9="","",ROUND(F9*G9,2))
B10: COMPOSIÇÃO | C10: 2.0 | D10: PAVIMENTO NOVO | E10: m² | F10: 1 | H10: =SUBTOTAL(9,H11:H15) -> #N/A | I10: COMPOSIÇÃO
B11: CDHU | C11: 5401030 | D11: =#N/A -> #N/A | E11: =#N/A -> #N/A | F11: 1 | G11: =#N/A -> #N/A | H11: =IF($B11="","",ROUND(F11*G11,2)) -> #N/A | I11: PAVIMENTAÇÃO ASFÁLTICA: Compreendendo abertura de caixa até 40 cm, regularização e compactação do subleito 95%PN, base de brita graduada (BGS - es.= 20 cm), imprimações e camada de rolamento asfáltico usinado a quente.(CXBUQ, esp. = 3 cm - acabado)
B12: CDHU | C12: 5401210 | D12: =#N/A -> #N/A | E12: =#N/A -> #N/A | F12: 0.2 | G12: =#N/A -> #N/A | H12: =IF($B12="","",ROUND(F12*G12,2)) -> #N/A
B13: CDHU | C13: 5403230 | D13: =#N/A -> #N/A | E13: =#N/A -> #N/A | F13: 1 | G13: =#N/A -> #N/A | H13: =IF($B13="","",ROUND(F13*G13,2)) -> #N/A
B14: CDHU | C14: 5403240 | D14: =#N/A -> #N/A | E14: =#N/A -> #N/A | F14: 1 | G14: =#N/A -> #N/A | H14: =IF($B14="","",ROUND(F14*G14,2)) -> #N/A
B15: CDHU | C15: 5403210 | D15: =#N/A -> #N/A | E15: =#N/A -> #N/A | F15: 0.03 | G15: =#N/A -> #N/A | H15: =IF($B15="","",ROUND(F15*G15,2)) -> #N/A
H16: =IF($B16="","",ROUND(F16*G16,2))
B17: COMPOSIÇÃO | C17: 3.0 | D17: RECAPEAMENTO ASFÁLTICO, SOBRE ASFÁLTO (3 CM DE CAPA ASFÁLTICA) | E17: m² | F17: 1 | H17: =SUBTOTAL(9,H18:H20) -> #N/A | I17: COMPOSIÇÃO
