Workbook

Sheet MENU
C2: ESTUDO TÉCNICO DE VIABILIDADE ECONÔMICA DA OPERAÇÃO DO SERVIÇO DE TRANSPORTE COLETIVO DA CIDADE DE AMPARO
B3: CONCORRÊNCIA Nº 003/18 | C3: ANEXO IV.1 - ESTUDO TÉCNICO DE VIABILIDADE ECONÔMICA - ORÇAMENTO ESTIMADO
C5: DATA BASE DE CÁLCULO: MARÇO 2020
B6: ESTE ESTUDO TÉCNICO CONTEM AS SEGUINTES ABAS E ITENS:
B8: ABA | C8: ITEM
B9: TIPOLOGIA | C9: TIPOLOGIA DA FROTA
B10: 1. DADOS OPERACIONAIS | C10: 1. - DADOS OPERACIONAIS
C11: 1.1. - COMPOSIÇÃO DA FROTA
C12: 1.2. - COMPOSIÇÃO DA QUILOMETRAGEM
C13: 1.2.1 - PERCURSO MÉDIO MENSAL - PMM
C14: 1.3. - PASSAGEIROS TRANSPORTADOS
B15: 2. COEFICIENTES | C15: 2. - COEFICIENTES DE CONSUMOS E PARÂMETROS ADOTADOS
C16: 2.1. - COEFICIENTES DE CONSUMO DE COMBUSTÍVEIS
C17: 2.1.1. - COEFICIENTES DE CONSUMO DE ÓLEO DIESEL
C18: 2.1.2. - COEFICIENTES DE CONSUMO DE ARLA32
C19: 2.2. - COEFICIENTE DE CONSUMO DE LUBRIFICANTES
C20: 2.3. - PARÂMETROS DE MATERIAL DE RODAGEM
C21: 2.3.1. - VIDA ÚTIL DE PNEU
C22: 2.3.2. - NÚMERO DE PNEU POR JOGOS
C23: 2.3.3. - NÚMERO DE RECAPAGEM
C24: 2.4. - COEFICIENTE PEÇAS E ACESSÓRIOS
C25: 2.5. - CAPITAL INVESTIDO EM VEÍCULOS
C26: 2.5.1. - VIDA ECONOMICAMENTE ÚTIL DE VEÍCULOS DA FROTA
C27: 2.5.2. - VALOR RESIDUAL DE VEÍCULOS DA FROTA
... C38: 2.8.3 - REMUNERAÇÃO DO ALMOXARIFADO
B39: 3. PREÇOS INSUMOS | C39: 3. - PREÇOS DE INSUMOS, SALÁRIOS E BENEFÍCIOS
C40: 3.1. - PREÇOS DE COMBUSTÍVEIS
C41: 3.2. - PREÇO DE LUBRIFICANTES
C42: 3.3. - PREÇOS DE MATERIAL DE RODAGEM
C43: 3.3.1. - PREÇOS DE PNEU NOVO
C44: 3.3.2. - PREÇOS DE RECAPAGEM
C45: 3.4. - PREÇOS DE VEÍCULOS
C46: 3.4.1. - PREÇO DE VEÍCULO NOVO COMPLETO COM RODAGEM
C47: ="3.4.1.1 - PREÇO DE VEÍCULO COM FATOR DE DEPRECIAÇÃO - "&TIPOLOGIA!$E$10 -> 3.4.1.1 - PREÇO DE VEÍCULO COM FATOR DE DEPRECIAÇÃO - MICROÔNIBUS
C48: ="3.4.1.2 - PREÇO DE VEÍCULO COM FATOR DE DEPRECIAÇÃO - "&TIPOLOGIA!$E$11 -> 3.4.1.2 - PREÇO DE VEÍCULO COM FATOR DE DEPRECIAÇÃO - CONVENCIONAL
C49: ="3.4.1.3 - PREÇO DE VEÍCULO COM FATOR DE DEPRECIAÇÃO - "&TIPOLOGIA!$E$12 -> 3.4.1.3 - PREÇO DE VEÍCULO COM FATOR DE DEPRECIAÇÃO - -
C50: 3.4.2. - PREÇO DE VEÍCULO NOVO COMPLETO SEM RODAGEM
C51: ="3.4.2.1 - PREÇO DE VEÍCULO COM FATOR DE DEPRECIAÇÃO DE VEÍCULO S/ RODAGEM - "&TIPOLOGIA!$E$10 -> 3.4.2.1 - PREÇO DE VEÍCULO COM FATOR DE DEPRECIAÇÃO DE VEÍCULO S/ RODAGEM - MICROÔNIBUS
C52: ="3.4.2.2 - PREÇO DE VEÍCULO COM FATOR DE DEPRECIAÇÃO DE VEÍCULO S/ RODAGEM - "&TIPOLOGIA!$E$11 -> 3.4.2.2 - PREÇO DE VEÍCULO COM FATOR DE DEPRECIAÇÃO DE VEÍCULO S/ RODAGEM - CONVENCIONAL
C53: ="3.4.2.3 - PREÇO DE VEÍCULO COM FATOR DE DEPRECIAÇÃO DE VEÍCULO S/ RODAGEM - "&TIPOLOGIA!$E$12 -> 3.4.2.3 - PREÇO DE VEÍCULO COM FATOR DE DEPRECIAÇÃO DE VEÍCULO S/ RODAGEM - -
...

Sheet TIPOLOGIA
E2: SECRETARIA MUNICIPAL DE DESENVOLVIMENTO URBANO
E3: =MENU!$B$3&" - "&+MENU!$B$4 -> CONCORRÊNCIA Nº 003/18 -
E4: =+MENU!$C$2 -> ESTUDO TÉCNICO DE VIABILIDADE ECONÔMICA DA OPERAÇÃO DO SERVIÇO DE TRANSPORTE COLETIVO DA CIDADE DE AMPARO
E5: =+MENU!$C$3 -> ANEXO IV.1 - ESTUDO TÉCNICO DE VIABILIDADE ECONÔMICA - ORÇAMENTO ESTIMADO | P5: =+MENU!$C$5 -> DATA BASE DE CÁLCULO: MARÇO 2020
B7: =+MENU!C9 -> TIPOLOGIA DA FROTA
D9: FROTA | E9: TERMINOLOGIA | K9: LEGENDAS
D10: 1 | E10: MICROÔNIBUS | K10: (Veíc./Mês) | M10: Veículo por mês
D11: 2 | E11: CONVENCIONAL | K11: (km/Mês) | M11: Quilômetargem Mensal
D12: 3 | E12: - | K12: (km/ANUAL) | M12: Quilômetargem Anual
K13: (Passag./Mês) | M13: Passageiro Mensal
K14: (ℓ/km.) | M14: Litro por Quilômetro
B15: CAMPOS A SEREM PREENCHIDOS NESTE ARQUIVO | K15: (%/Mês) | M15: Coeficiente Percentual Mensal
K16: (km/Mês/pneu) | M16: Quilômetargem Mensal por Pneu
B17: ELEMENTO | G17: CAMPO A SER DIGITADO | K17: (un./jogos) | M17: Unidade por jogos de Pneu
B18: Campos NA COR AMARELA deverão ser Prenchidos (Entrada de dados) | K18: (% a.m.) | M18: Coeficiente Percentual Mensal
K19: (%/Veíc.) | M19: Coeficiente Percentual por Veículo
K20: (Func./Veíc. Op.) | M20: Funcionário por Veículo Operacional
K21: (%/P. Op.) | M21: Coeficiente Percentual sobre Pessoal de Operação
K22: (Un./Mês) | M22: Unidade Mensal
K23: (Ticket/Mês) | M23: Quantitativo de Ticket por Mês
K24: (R$/ℓ) | M24: Valor em Reais por Litro
K25: (R$/un.) | M25: Valor em Reais por Unidade
K26: (R$/Veíc.) | M26: Valor em Reais por Veículo
K27: (R$/km) | M27: Valor em Reais por Quilômetro
K28: (R$/Veíc./ano) | M28: Valor em Reais por Veículo Ano
K29: (R$/Func./Mês) | M29: Valor em Reais por Funciónario por Mês
K30: (R$/Dia/Func.) | M30: Valor em Reais Diário por Funciónario
... K34: (Func./Veíc. Op.) | M34: Funcionário por Veículo Operacional

Sheet 1. DADOS OPERACIONAIS
E2: SECRETARIA MUNICIPAL DE DESENVOLVIMENTO URBANO
E3: =MENU!$B$3&" - "&+MENU!$B$4 -> CONCORRÊNCIA Nº 003/18 -
E4: =+MENU!$C$2 -> ESTUDO TÉCNICO DE VIABILIDADE ECONÔMICA DA OPERAÇÃO DO SERVIÇO DE TRANSPORTE COLETIVO DA CIDADE DE AMPARO
E5: =+MENU!$C$3 -> ANEXO IV.1 - ESTUDO TÉCNICO DE VIABILIDADE ECONÔMICA - ORÇAMENTO ESTIMADO | T5: =+MENU!$C$5 -> DATA BASE DE CÁLCULO: MARÇO 2020
B7: =+MENU!C10 -> 1. - DADOS OPERACIONAIS
C9: =+MENU!$C$11 -> 1.1. - COMPOSIÇÃO DA FROTA
D11: FROTA | E11: Un. | F11: 1 | G11: =+F11+1 -> 2 | H11: =+G11+1 -> 3 | I11: =+H11+1 -> 4 | J11: =+I11+1 -> 5 | K11: =+J11+1 -> 6 | L11: =+K11+1 -> 7 | M11: =+L11+1 -> 8 | N11: =+M11+1 -> 9 | ... T11: =+S11+1 -> 15
A12: 1 | D12: =VLOOKUP(A12,TIPOLOGIA!$D$10:$E$12,2,0) -> MICROÔNIBUS | E12: (Veíc./Mês) | F12: 4 | G12: =+F12 -> 4 | H12: =+G12 -> 4 | I12: =+H12 -> 4 | J12: =+I12 -> 4 | K12: =+J12 -> 4 | L12: =+K12 -> 4 | M12: =+L12 -> 4 | N12: =+M12 -> 4 | ... T12: =+S12 -> 4
A13: 2 | D13: =VLOOKUP(A13,TIPOLOGIA!$D$10:$E$12,2,0) -> CONVENCIONAL | E13: (Veíc./Mês) | F13: 8 | G13: =+F13 -> 8 | H13: =+G13 -> 8 | I13: =+H13 -> 8 | J13: =+I13 -> 8 | K13: =+J13 -> 8 | L13: =+K13 -> 8 | M13: =+L13 -> 8 | N13: =+M13 -> 8 | ... T13: =+S13 -> 8
A14: 3 | D14: =VLOOKUP(A14,TIPOLOGIA!$D$10:$E$12,2,0) -> - | E14: (Veíc./Mês) | F14: 0 | G14: =+F14 -> 0 | H14: =+G14 -> 0 | I14: =+H14 -> 0 | J14: =+I14 -> 0 | K14: =+J14 -> 0 | L14: =+K14 -> 0 | M14: =+L14 -> 0 | N14: =+M14 -> 0 | ... T14: =+S14 -> 0
C15: FROTA OPERACIONAL | E15: =E14 -> (Veíc./Mês) | F15: =SUM(F12:F14) -> 12 | G15: =SUM(G12:G14) -> 12 | H15: =SUM(H12:H14) -> 12 | I15: =SUM(I12:I14) -> 12 | J15: =SUM(J12:J14) -> 12 | K15: =SUM(K12:K14) -> 12 | L15: =SUM(L12:L14) -> 12 | M15: =SUM(M12:M14) -> 12 | ... T15: =SUM(T12:T14) -> 12
A16: 1 | D16: =VLOOKUP(A16,TIPOLOGIA!$D$10:$E$12,2,0) -> MICROÔNIBUS | E16: (Veíc./Mês) | F16: 0 | G16: =+F16 -> 0 | H16: =+G16 -> 0 | I16: =+H16 -> 0 | J16: =+I16 -> 0 | K16: =+J16 -> 0 | L16: =+K16 -> 0 | M16: =+L16 -> 0 | N16: =+M16 -> 0 | ... T16: =+S16 -> 0
A17: 2 | D17: =VLOOKUP(A17,TIPOLOGIA!$D$10:$E$12,2,0) -> CONVENCIONAL | E17: (Veíc./Mês) | F17: 2 | G17: =+F17 -> 2 | H17: =+G17 -> 2 | I17: =+H17 -> 2 | J17: =+I17 -> 2 | K17: =+J17 -> 2 | L17: =+K17 -> 2 | M17: =+L17 -> 2 | N17: =+M17 -> 2 | ... T17: =+S17 -> 2
A18: 3 | D18: =VLOOKUP(A18,TIPOLOGIA!$D$10:$E$12,2,0) -> - | E18: (Veíc./Mês) | F18: 0 | G18: =+F18 -> 0 | H18: =+G18 -> 0 | I18: =+H18 -> 0 | J18: =+I18 -> 0 | K18: =+J18 -> 0 | L18: =+K18 -> 0 | M18: =+L18 -> 0 | N18: =+M18 -> 0 | ... T18: =+S18 -> 0
C19: FROTA RESERVA | E19: =E18 -> (Veíc./Mês) | F19: =SUM(F16:F18) -> 2 | G19: =SUM(G16:G18) -> 2 | H19: =SUM(H16:H18) -> 2 | I19: =SUM(I16:I18) -> 2 | J19: =SUM(J16:J18) -> 2 | K19: =SUM(K16:K18) -> 2 | L19: =SUM(L16:L18) -> 2 | M19: =SUM(M16:M18) -> 2 | ... T19: =SUM(T16:T18) -> 2
A20: 1 | D20: =VLOOKUP(A20,TIPOLOGIA!$D$10:$E$12,2,0) -> MICROÔNIBUS | E20: (Veíc./Mês) | F20: =SUM(F12,F16) -> 4 | G20: =SUM(G12,G16) -> 4 | H20: =SUM(H12,H16) -> 4 | I20: =SUM(I12,I16) -> 4 | J20: =SUM(J12,J16) -> 4 | K20: =SUM(K12,K16) -> 4 | L20: =SUM(L12,L16) -> 4 | M20: =SUM(M12,M16) -> 4 | ... T20: =SUM(T12,T16) -> 4
A21: 2 | D21: =VLOOKUP(A21,TIPOLOGIA!$D$10:$E$12,2,0) -> CONVENCIONAL | E21: (Veíc./Mês) | F21: =SUM(F13,F17) -> 10 | G21: =SUM(G13,G17) -> 10 | H21: =SUM(H13,H17) -> 10 | I21: =SUM(I13,I17) -> 10 | J21: =SUM(J13,J17) -> 10 | K21: =SUM(K13,K17) -> 10 | L21: =SUM(L13,L17) -> 10 | M21: =SUM(M13,M17) -> 10 | ... T21: =SUM(T13,T17) -> 10
A22: 3 | D22: =VLOOKUP(A22,TIPOLOGIA!$D$10:$E$12,2,0) -> - | E22: (Veíc./Mês) | F22: =SUM(F14,F18) -> 0 | G22: =SUM(G14,G18) -> 0 | H22: =SUM(H14,H18) -> 0 | I22: =SUM(I14,I18) -> 0 | J22: =SUM(J14,J18) -> 0 | K22: =SUM(K14,K18) -> 0 | L22: =SUM(L14,L18) -> 0 | M22: =SUM(M14,M18) -> 0 | ... T22: =SUM(T14,T18) -> 0
C23: FROTA TOTAL | E23: =E22 -> (Veíc./Mês) | F23: =SUM(F20:F22) -> 14 | G23: =SUM(G20:G22) -> 14 | H23: =SUM(H20:H22) -> 14 | I23: =SUM(I20:I22) -> 14 | J23: =SUM(J20:J22) -> 14 | K23: =SUM(K20:K22) -> 14 | L23: =SUM(L20:L22) -> 14 | M23: =SUM(M20:M22) -> 14 | ... T23: =SUM(T20:T22) -> 14
C26: =+MENU!$C$12 -> 1.2. - COMPOSIÇÃO DA QUILOMETRAGEM | F26: 5935.9936 | S26: PERCENTUAL ADOTADO DE OCIOSIDADE DE QUILOMETRAGEM: | T26: 0.05
D28: QUILOMETRAGEM | F28: 1 | G28: =+F28+1 -> 2 | H28: =+G28+1 -> 3 | I28: =+H28+1 -> 4 | J28: =+I28+1 -> 5 | K28: =+J28+1 -> 6 | L28: =+K28+1 -> 7 | M28: =+L28+1 -> 8 | N28: =+M28+1 -> 9 | ... T28: =+S28+1 -> 15
A29: 1 | D29: =VLOOKUP(A29,TIPOLOGIA!$D$10:$E$12,2,0) -> MICROÔNIBUS | E29: (km/Mês) | F29: =+F26*F12 -> 23743.974 | G29: =F29 -> 23743.974 | H29: =G29 -> 23743.974 | I29: =H29 -> 23743.974 | J29: =I29 -> 23743.974 | K29: =J29 -> 23743.974 | L29: =K29 -> 23743.974 | M29: =L29 -> 23743.974 | N29: =M29 -> 23743.974 | ... T29: =S29 -> 23743.974
A30: 2 | D30: =VLOOKUP(A30,TIPOLOGIA!$D$10:$E$12,2,0) -> CONVENCIONAL | E30: (km/Mês) | F30: =+F13*F26 -> 47487.948 | G30: =F30 -> 47487.948 | H30: =G30 -> 47487.948 | I30: =H30 -> 47487.948 | J30: =I30 -> 47487.948 | K30: =J30 -> 47487.948 | L30: =K30 -> 47487.948 | M30: =L30 -> 47487.948 | N30: =M30 -> 47487.948 | ... T30: =S30 -> 47487.948
A31: 3 | D31: =VLOOKUP(A31,TIPOLOGIA!$D$10:$E$12,2,0) -> - | E31: (km/Mês) | F31: 0 | G31: =F31 -> 0 | H31: =G31 -> 0 | I31: =H31 -> 0 | J31: =I31 -> 0 | K31: =J31 -> 0 | L31: =K31 -> 0 | M31: =L31 -> 0 | N31: =M31 -> 0 | ... T31: =S31 -> 0
C32: QUILOMETRAGEM EFETIVA | E32: (km/Mês) | F32: =SUM(F29:F31) -> 71231.923 | G32: =SUM(G29:G31) -> 71231.923 | H32: =SUM(H29:H31) -> 71231.923 | I32: =SUM(I29:I31) -> 71231.923 | J32: =SUM(J29:J31) -> 71231.923 | K32: =SUM(K29:K31) -> 71231.923 | L32: =SUM(L29:L31) -> 71231.923 | M32: =SUM(M29:M31) -> 71231.923 | ... T32: =SUM(T29:T31) -> 71231.923
A33: 1 | D33: =VLOOKUP(A33,TIPOLOGIA!$D$10:$E$12,2,0) -> MICROÔNIBUS | E33: (km/Mês) | F33: =+F29*$T$26 -> 1187.1987 | G33: =+G29*$T$26 -> 1187.1987 | H33: =+H29*$T$26 -> 1187.1987 | I33: =+I29*$T$26 -> 1187.1987 | J33: =+J29*$T$26 -> 1187.1987 | K33: =+K29*$T$26 -> 1187.1987 | L33: =+L29*$T$26 -> 1187.1987 | M33: =+M29*$T$26 -> 1187.1987 | ... T33: =+T29*$T$26 -> 1187.1987
A34: 2 | D34: =VLOOKUP(A34,TIPOLOGIA!$D$10:$E$12,2,0) -> CONVENCIONAL | E34: (km/Mês) | F34: =+F30*$T$26 -> 2374.3974 | G34: =+G30*$T$26 -> 2374.3974 | H34: =+H30*$T$26 -> 2374.3974 | I34: =+I30*$T$26 -> 2374.3974 | J34: =+J30*$T$26 -> 2374.3974 | K34: =+K30*$T$26 -> 2374.3974 | L34: =+L30*$T$26 -> 2374.3974 | M34: =+M30*$T$26 -> 2374.3974 | ... T34: =+T30*$T$26 -> 2374.3974
A35: 3 | D35: =VLOOKUP(A35,TIPOLOGIA!$D$10:$E$12,2,0) -> - | E35: (km/Mês) | F35: =+F31*$T$26 -> 0 | G35: =+G31*$T$26 -> 0 | H35: =+H31*$T$26 -> 0 | I35: =+I31*$T$26 -> 0 | J35: =+J31*$T$26 -> 0 | K35: =+K31*$T$26 -> 0 | L35: =+L31*$T$26 -> 0 | M35: =+M31*$T$26 -> 0 | ... T35: =+T31*$T$26 -> 0
C36: QUILOMETRAGEM OCIOSA | E36: (km/Mês) | F36: =SUM(F33:F35) -> 3561.5961 | G36: =SUM(G33:G35) -> 3561.5961 | H36: =SUM(H33:H35) -> 3561.5961 | I36: =SUM(I33:I35) -> 3561.5961 | J36: =SUM(J33:J35) -> 3561.5961 | K36: =SUM(K33:K35) -> 3561.5961 | L36: =SUM(L33:L35) -> 3561.5961 | M36: =SUM(M33:M35) -> 3561.5961 | ... T36: =SUM(T33:T35) -> 3561.5961
A37: 1 | D37: =VLOOKUP(A37,TIPOLOGIA!$D$10:$E$12,2,0) -> MICROÔNIBUS | E37: (km/Mês) | F37: =SUM(F29,F33) -> 24931.173 | G37: =SUM(G29,G33) -> 24931.173 | H37: =SUM(H29,H33) -> 24931.173 | I37: =SUM(I29,I33) -> 24931.173 | J37: =SUM(J29,J33) -> 24931.173 | K37: =SUM(K29,K33) -> 24931.173 | L37: =SUM(L29,L33) -> 24931.173 | M37: =SUM(M29,M33) -> 24931.173 | ... T37: =SUM(T29,T33) -> 24931.173
A38: 2 | D38: =VLOOKUP(A38,TIPOLOGIA!$D$10:$E$12,2,0) -> CONVENCIONAL | E38: (km/Mês) | F38: =SUM(F30,F34) -> 49862.346 | G38: =SUM(G30,G34) -> 49862.346 | H38: =SUM(H30,H34) -> 49862.346 | I38: =SUM(I30,I34) -> 49862.346 | J38: =SUM(J30,J34) -> 49862.346 | K38: =SUM(K30,K34) -> 49862.346 | L38: =SUM(L30,L34) -> 49862.346 | M38: =SUM(M30,M34) -> 49862.346 | ... T38: =SUM(T30,T34) -> 49862.346
A39: 3 | D39: =VLOOKUP(A39,TIPOLOGIA!$D$10:$E$12,2,0) -> - | E39: (km/Mês) | F39: =SUM(F31,F35) -> 0 | G39: =SUM(G31,G35) -> 0 | H39: =SUM(H31,H35) -> 0 | I39: =SUM(I31,I35) -> 0 | J39: =SUM(J31,J35) -> 0 | K39: =SUM(K31,K35) -> 0 | L39: =SUM(L31,L35) -> 0 | M39: =SUM(M31,M35) -> 0 | ... T39: =SUM(T31,T35) -> 0
C40: QUILOMETRAGEM MENSAL TOTAL | E40: (km/Mês) | F40: =SUM(F37:F39) -> 74793.519 | G40: =SUM(G37:G39) -> 74793.519 | H40: =SUM(H37:H39) -> 74793.519 | I40: =SUM(I37:I39) -> 74793.519 | J40: =SUM(J37:J39) -> 74793.519 | K40: =SUM(K37:K39) -> 74793.519 | L40: =SUM(L37:L39) -> 74793.519 | M40: =SUM(M37:M39) -> 74793.519 | ... T40: =SUM(T37:T39) -> 74793.519
C41: QUILOMETRAGEM ANUAL TOTAL | E41: (km/ANUAL) | F41: =+F40*12 -> 897522.23 | G41: =+G40*12 -> 897522.23 | H41: =+H40*12 -> 897522.23 | I41: =+I40*12 -> 897522.23 | J41: =+J40*12 -> 897522.23 | K41: =+K40*12 -> 897522.23 | L41: =+L40*12 -> 897522.23 | M41: =+M40*12 -> 897522.23 | ... T41: =+T40*12 -> 897522.23
C43: =+MENU!$C$13 -> 1.2.1 - PERCURSO MÉDIO MENSAL - PMM
D45: QUILOMETRAGEM | F45: 1 | G45: =+F45+1 -> 2 | H45: =+G45+1 -> 3 | I45: =+H45+1 -> 4 | J45: =+I45+1 -> 5 | K45: =+J45+1 -> 6 | L45: =+K45+1 -> 7 | M45: =+L45+1 -> 8 | N45: =+M45+1 -> 9 | ... T45: =+S45+1 -> 15
A46: 1 | D46: =VLOOKUP(A46,TIPOLOGIA!$D$10:$E$12,2,0) -> MICROÔNIBUS | E46: (km/Mês) | F46: =IFERROR(F37/F12,0) -> 6232.7932 | G46: =IFERROR(G37/G12,0) -> 6232.7932 | H46: =IFERROR(H37/H12,0) -> 6232.7932 | I46: =IFERROR(I37/I12,0) -> 6232.7932 | J46: =IFERROR(J37/J12,0) -> 6232.7932 | K46: =IFERROR(K37/K12,0) -> 6232.7932 | L46: =IFERROR(L37/L12,0) -> 6232.7932 | M46: =IFERROR(M37/M12,0) -> 6232.7932 | ... T46: =IFERROR(T37/T12,0) -> 6232.7932
A47: 2 | D47: =VLOOKUP(A47,TIPOLOGIA!$D$10:$E$12,2,0) -> CONVENCIONAL | E47: (km/Mês) | F47: =IFERROR(F38/F13,2) -> 6232.7932 | G47: =IFERROR(G38/G13,2) -> 6232.7932 | H47: =IFERROR(H38/H13,2) -> 6232.7932 | I47: =IFERROR(I38/I13,2) -> 6232.7932 | J47: =IFERROR(J38/J13,2) -> 6232.7932 | K47: =IFERROR(K38/K13,2) -> 6232.7932 | L47: =IFERROR(L38/L13,2) -> 6232.7932 | M47: =IFERROR(M38/M13,2) -> 6232.7932 | ... T47: =IFERROR(T38/T13,2) -> 6232.7932
A48: 3 | D48: =VLOOKUP(A48,TIPOLOGIA!$D$10:$E$12,2,0) -> - | E48: (km/Mês) | F48: =IFERROR(F39/F14,0) -> 0 | G48: =IFERROR(G39/G14,0) -> 0 | H48: =IFERROR(H39/H14,0) -> 0 | I48: =IFERROR(I39/I14,0) -> 0 | J48: =IFERROR(J39/J14,0) -> 0 | K48: =IFERROR(K39/K14,0) -> 0 | L48: =IFERROR(L39/L14,0) -> 0 | M48: =IFERROR(M39/M14,0) -> 0 | ... T48: =IFERROR(T39/T14,0) -> 0
C50: =+MENU!$C$14 -> 1.3. - PASSAGEIROS TRANSPORTADOS
...

Sheet 2. COEFICIENTES
E2: SECRETARIA MUNICIPAL DE DESENVOLVIMENTO URBANO
E3: =MENU!$B$3&" - "&+MENU!$B$4 -> CONCORRÊNCIA Nº 003/18 -
E4: =+MENU!$C$2 -> ESTUDO TÉCNICO DE VIABILIDADE ECONÔMICA DA OPERAÇÃO DO SERVIÇO DE TRANSPORTE COLETIVO DA CIDADE DE AMPARO
E5: =+MENU!$C$3 -> ANEXO IV.1 - ESTUDO TÉCNICO DE VIABILIDADE ECONÔMICA - ORÇAMENTO ESTIMADO | T5: =+MENU!$C$5 -> DATA BASE DE CÁLCULO: MARÇO 2020
B7: =+MENU!$C$15 -> 2. - COEFICIENTES DE CONSUMOS E PARÂMETROS ADOTADOS
C9: =+MENU!$C$16 -> 2.1. - COEFICIENTES DE CONSUMO DE COMBUSTÍVEIS
C11: =+MENU!$C$17 -> 2.1.1. - COEFICIENTES DE CONSUMO DE ÓLEO DIESEL
C13: ÓLEO DIESEL | E13: Un. | F13: 1 | G13: =+F13+1 -> 2 | H13: =+G13+1 -> 3 | I13: =+H13+1 -> 4 | J13: =+I13+1 -> 5 | K13: =+J13+1 -> 6 | L13: =+K13+1 -> 7 | M13: =+L13+1 -> 8 | N13: =+M13+1 -> 9 | ... T13: =+S13+1 -> 15
A14: 1 | D14: =VLOOKUP(A14,TIPOLOGIA!$D$10:$E$12,2,0) -> MICROÔNIBUS | E14: (ℓ/km.) | F14: 0.2505 | G14: =+F14 -> 0.2505 | H14: =+G14 -> 0.2505 | I14: =+H14 -> 0.2505 | J14: =+I14 -> 0.2505 | K14: =+J14 -> 0.2505 | L14: =+K14 -> 0.2505 | M14: =+L14 -> 0.2505 | N14: =+M14 -> 0.2505 | ... T14: =+S14 -> 0.2505
A15: 2 | D15: =VLOOKUP(A15,TIPOLOGIA!$D$10:$E$12,2,0) -> CONVENCIONAL | E15: =+E14 -> (ℓ/km.) | F15: 0.4102 | G15: =+F15 -> 0.4102 | H15: =+G15 -> 0.4102 | I15: =+H15 -> 0.4102 | J15: =+I15 -> 0.4102 | K15: =+J15 -> 0.4102 | L15: =+K15 -> 0.4102 | M15: =+L15 -> 0.4102 | N15: =+M15 -> 0.4102 | ... T15: =+S15 -> 0.4102
A16: 3 | D16: =VLOOKUP(A16,TIPOLOGIA!$D$10:$E$12,2,0) -> - | E16: =+E15 -> (ℓ/km.) | F16: 0 | G16: =+F16 -> 0 | H16: =+G16 -> 0 | I16: =+H16 -> 0 | J16: =+I16 -> 0 | K16: =+J16 -> 0 | L16: =+K16 -> 0 | M16: =+L16 -> 0 | N16: =+M16 -> 0 | ... T16: =+S16 -> 0
C18: =+MENU!$C$18 -> 2.1.2. - COEFICIENTES DE CONSUMO DE ARLA32
C20: ARLA32 | E20: Un. | F20: 1 | G20: =+F20+1 -> 2 | H20: =+G20+1 -> 3 | I20: =+H20+1 -> 4 | J20: =+I20+1 -> 5 | K20: =+J20+1 -> 6 | L20: =+K20+1 -> 7 | M20: =+L20+1 -> 8 | N20: =+M20+1 -> 9 | ... T20: =+S20+1 -> 15
A21: 1 | D21: Coeficiente de correlação de consumo do Arla32 relacionado ao consumo de diesel | E21: (%/Mês) | F21: 0.032 | G21: =+F21 -> 0.032 | H21: =+G21 -> 0.032 | I21: =+H21 -> 0.032 | J21: =+I21 -> 0.032 | K21: =+J21 -> 0.032 | L21: =+K21 -> 0.032 | M21: =+L21 -> 0.032 | N21: =+M21 -> 0.032 | ... T21: =+S21 -> 0.032
C24: =+MENU!$C$19 -> 2.2. - COEFICIENTE DE CONSUMO DE LUBRIFICANTES
C26: LUBRIFICANTES | E26: Un. | F26: 1 | G26: =+F26+1 -> 2 | H26: =+G26+1 -> 3 | I26: =+H26+1 -> 4 | J26: =+I26+1 -> 5 | K26: =+J26+1 -> 6 | L26: =+K26+1 -> 7 | M26: =+L26+1 -> 8 | N26: =+M26+1 -> 9 | ... T26: =+S26+1 -> 15
D27: Coef. % sobre Preço de Óleo Diesel | E27: (%/Mês) | F27: 0.045 | G27: =+F27 -> 0.045 | H27: =+G27 -> 0.045 | I27: =+H27 -> 0.045 | J27: =+I27 -> 0.045 | K27: =+J27 -> 0.045 | L27: =+K27 -> 0.045 | M27: =+L27 -> 0.045 | N27: =+M27 -> 0.045 | ... S27: =+R27 -> 0.045 | T27: =S27 -> 0.045
C30: =+MENU!$C$20 -> 2.3. - PARÂMETROS DE MATERIAL DE RODAGEM
C32: =+MENU!$C$21 -> 2.3.1. - VIDA ÚTIL DE PNEU
C34: VIDA ÚTIL PNEU | E34: Un. | F34: 1 | G34: =+F34+1 -> 2 | H34: =+G34+1 -> 3 | I34: =+H34+1 -> 4 | J34: =+I34+1 -> 5 | K34: =+J34+1 -> 6 | L34: =+K34+1 -> 7 | M34: =+L34+1 -> 8 | N34: =+M34+1 -> 9 | ... T34: =+S34+1 -> 15
A35: 1 | D35: =VLOOKUP(A35,TIPOLOGIA!$D$10:$E$12,2,0) -> MICROÔNIBUS | E35: (km/Mês/pneu) | F35: 105000 | G35: =F35 -> 105000 | H35: =G35 -> 105000 | I35: =H35 -> 105000 | J35: =I35 -> 105000 | K35: =J35 -> 105000 | L35: =K35 -> 105000 | M35: =L35 -> 105000 | N35: =M35 -> 105000 | ... T35: =S35 -> 105000
A36: 2 | D36: =VLOOKUP(A36,TIPOLOGIA!$D$10:$E$12,2,0) -> CONVENCIONAL | E36: =+E35 -> (km/Mês/pneu) | F36: 105000 | G36: =F36 -> 105000 | H36: =G36 -> 105000 | I36: =H36 -> 105000 | J36: =I36 -> 105000 | K36: =J36 -> 105000 | L36: =K36 -> 105000 | M36: =L36 -> 105000 | N36: =M36 -> 105000 | ... T36: =S36 -> 105000
A37: 3 | D37: =VLOOKUP(A37,TIPOLOGIA!$D$10:$E$12,2,0) -> - | E37: =+E36 -> (km/Mês/pneu) | F37: 0 | G37: =F37 -> 0 | H37: =G37 -> 0 | I37: =H37 -> 0 | J37: =I37 -> 0 | K37: =J37 -> 0 | L37: =K37 -> 0 | M37: =L37 -> 0 | N37: =M37 -> 0 | ... T37: =S37 -> 0
C39: =+MENU!$C$22 -> 2.3.2. - NÚMERO DE PNEU POR JOGOS
C41: NÚMERO DE PNEUS POR JOGOS | E41: Un. | F41: 1 | G41: =+F41+1 -> 2 | H41: =+G41+1 -> 3 | I41: =+H41+1 -> 4 | J41: =+I41+1 -> 5 | K41: =+J41+1 -> 6 | L41: =+K41+1 -> 7 | M41: =+L41+1 -> 8 | N41: =+M41+1 -> 9 | ... T41: =+S41+1 -> 15
A42: 1 | D42: =VLOOKUP(A42,TIPOLOGIA!$D$10:$E$12,2,0) -> MICROÔNIBUS | E42: (un./jogos) | F42: 4 | G42: =F42 -> 4 | H42: =G42 -> 4 | I42: =H42 -> 4 | J42: =I42 -> 4 | K42: =J42 -> 4 | L42: =K42 -> 4 | M42: =L42 -> 4 | N42: =M42 -> 4 | ... T42: =S42 -> 4
A43: 2 | D43: =VLOOKUP(A43,TIPOLOGIA!$D$10:$E$12,2,0) -> CONVENCIONAL | E43: =+E42 -> (un./jogos) | F43: 6 | G43: =F43 -> 6 | H43: =G43 -> 6 | I43: =H43 -> 6 | J43: =I43 -> 6 | K43: =J43 -> 6 | L43: =K43 -> 6 | M43: =L43 -> 6 | N43: =M43 -> 6 | ... T43: =S43 -> 6
A44: 3 | D44: =VLOOKUP(A44,TIPOLOGIA!$D$10:$E$12,2,0) -> - | E44: =+E43 -> (un./jogos) | F44: 0 | G44: =F44 -> 0 | H44: =G44 -> 0 | I44: =H44 -> 0 | J44: =I44 -> 0 | K44: =J44 -> 0 | L44: =K44 -> 0 | M44: =L44 -> 0 | N44: =M44 -> 0 | ... T44: =S44 -> 0
C46: =+MENU!$C$23 -> 2.3.3. - NÚMERO DE RECAPAGEM
C48: NÚMERO DE RECAPAGEM | E48: Un. | F48: 1 | G48: =+F48+1 -> 2 | H48: =+G48+1 -> 3 | I48: =+H48+1 -> 4 | J48: =+I48+1 -> 5 | K48: =+J48+1 -> 6 | L48: =+K48+1 -> 7 | M48: =+L48+1 -> 8 | N48: =+M48+1 -> 9 | ... T48: =+S48+1 -> 15
A49: 1 | D49: =VLOOKUP(A49,TIPOLOGIA!$D$10:$E$12,2,0) -> MICROÔNIBUS | E49: (un./jogos) | F49: 1 | G49: =F49 -> 1 | H49: =G49 -> 1 | I49: =H49 -> 1 | J49: =I49 -> 1 | K49: =J49 -> 1 | L49: =K49 -> 1 | M49: =L49 -> 1 | N49: =M49 -> 1 | ... T49: =S49 -> 1
A50: 2 | D50: =VLOOKUP(A50,TIPOLOGIA!$D$10:$E$12,2,0) -> CONVENCIONAL | E50: =+E49 -> (un./jogos) | F50: 2 | G50: =F50 -> 2 | H50: =G50 -> 2 | I50: =H50 -> 2 | J50: =I50 -> 2 | K50: =J50 -> 2 | L50: =K50 -> 2 | M50: =L50 -> 2 | N50: =M50 -> 2 | ... T50: =S50 -> 2
A51: 3 | D51: =VLOOKUP(A51,TIPOLOGIA!$D$10:$E$12,2,0) -> - | E51: =+E50 -> (un./jogos) | F51: 0 | G51: =F51 -> 0 | H51: =G51 -> 0 | I51: =H51 -> 0 | J51: =I51 -> 0 | K51: =J51 -> 0 | L51: =K51 -> 0 | M51: =L51 -> 0 | N51: =M51 -> 0 | ... T51: =S51 -> 0
C54: =+MENU!$C$24 -> 2.4. - COEFICIENTE PEÇAS E ACESSÓRIOS
D56: PEÇAS E ACESSÓRIOS | E56: Un. | F56: 1 | G56: =+F56+1 -> 2 | H56: =+G56+1 -> 3 | I56: =+H56+1 -> 4 | J56: =+I56+1 -> 5 | K56: =+J56+1 -> 6 | L56: =+K56+1 -> 7 | M56: =+L56+1 -> 8 | N56: =+M56+1 -> 9 | ... T56: =+S56+1 -> 15
D57: Coeficiente Anual sobre preço de Veículo Novo ponderado | E57: (% a.m.) | F57: =ROUND(((4%+5%)/2)/12,4) -> 0.0038 | G57: =F57 -> 0.0038 | H57: =G57 -> 0.0038 | I57: =H57 -> 0.0038 | J57: =I57 -> 0.0038 | K57: =J57 -> 0.0038 | L57: =K57 -> 0.0038 | M57: =L57 -> 0.0038 | N57: =M57 -> 0.0038 | ... T57: =S57 -> 0.0038
C60: =+MENU!$C$25 -> 2.5. - CAPITAL INVESTIDO EM VEÍCULOS
C62: =+MENU!$C$26 -> 2.5.1. - VIDA ECONOMICAMENTE ÚTIL DE VEÍCULOS DA FROTA
C64: VIDA ÚTIL VEÍCULO DA FROTA | E64: Un. | F64: 1 | G64: =+F64+1 -> 2 | H64: =+G64+1 -> 3 | I64: =+H64+1 -> 4 | J64: =+I64+1 -> 5 | K64: =+J64+1 -> 6 | L64: =+K64+1 -> 7 | M64: =+L64+1 -> 8 | N64: =+M64+1 -> 9 | ... T64: =+S64+1 -> 15
A65: 1 | D65: =VLOOKUP(A65,TIPOLOGIA!$D$10:$E$12,2,0) -> MICROÔNIBUS | E65: (ano) | F65: 8 | G65: =F65 -> 8 | H65: =G65 -> 8 | I65: =H65 -> 8 | J65: =I65 -> 8 | K65: =J65 -> 8 | L65: =K65 -> 8 | M65: =L65 -> 8 | N65: =M65 -> 8 | ... T65: =S65 -> 8
...

Sheet 3. PREÇOS INSUMOS
F2: SECRETARIA MUNICIPAL DE DESENVOLVIMENTO URBANO
F3: =MENU!$B$3&" - "&+MENU!$B$4 -> CONCORRÊNCIA Nº 003/18 -
F4: =+MENU!$C$2 -> ESTUDO TÉCNICO DE VIABILIDADE ECONÔMICA DA OPERAÇÃO DO SERVIÇO DE TRANSPORTE COLETIVO DA CIDADE DE AMPARO
F5: =+MENU!$C$3 -> ANEXO IV.1 - ESTUDO TÉCNICO DE VIABILIDADE ECONÔMICA - ORÇAMENTO ESTIMADO | U5: =+MENU!$C$5 -> DATA BASE DE CÁLCULO: MARÇO 2020
B7: =+MENU!$C$39 -> 3. - PREÇOS DE INSUMOS, SALÁRIOS E BENEFÍCIOS
C9: =+MENU!$C$40 -> 3.1. - PREÇOS DE COMBUSTÍVEIS
C11: COMBUSTÍVEIS | F11: Un. | G11: 1 | H11: =+G11+1 -> 2 | I11: =+H11+1 -> 3 | J11: =+I11+1 -> 4 | K11: =+J11+1 -> 5 | L11: =+K11+1 -> 6 | M11: =+L11+1 -> 7 | N11: =+M11+1 -> 8 | O11: =+N11+1 -> 9 | ... U11: =+T11+1 -> 15
D12: Preço de Óleo Diesel | F12: (R$/ℓ) | G12: 2.659 | H12: =+G12 -> 2.659 | I12: =+H12 -> 2.659 | J12: =+I12 -> 2.659 | K12: =+J12 -> 2.659 | L12: =+K12 -> 2.659 | M12: =+L12 -> 2.659 | N12: =+M12 -> 2.659 | O12: =+N12 -> 2.659 | ... U12: =+T12 -> 2.659
D13: Preço de Arla32 | F13: (R$/ℓ) | G13: 1.2 | H13: =+G13 -> 1.2 | I13: =+H13 -> 1.2 | J13: =+I13 -> 1.2 | K13: =+J13 -> 1.2 | L13: =+K13 -> 1.2 | M13: =+L13 -> 1.2 | N13: =+M13 -> 1.2 | O13: =+N13 -> 1.2 | ... U13: =+T13 -> 1.2
C16: =+MENU!$C$41 -> 3.2. - PREÇO DE LUBRIFICANTES
C18: LUBRIFICANTES | F18: Un. | G18: 1 | H18: =+G18+1 -> 2 | I18: =+H18+1 -> 3 | J18: =+I18+1 -> 4 | K18: =+J18+1 -> 5 | L18: =+K18+1 -> 6 | M18: =+L18+1 -> 7 | N18: =+M18+1 -> 8 | O18: =+N18+1 -> 9 | ... U18: =+T18+1 -> 15
D19: Valor de Lubrificantes por Litro | F19: (R$/ℓ) | G19: =ROUND('2. COEFICIENTES'!F27*G12,4) -> 0.1197 | H19: =ROUND('2. COEFICIENTES'!G27*H12,4) -> 0.1197 | I19: =ROUND('2. COEFICIENTES'!H27*I12,4) -> 0.1197 | J19: =ROUND('2. COEFICIENTES'!I27*J12,4) -> 0.1197 | K19: =ROUND('2. COEFICIENTES'!J27*K12,4) -> 0.1197 | L19: =ROUND('2. COEFICIENTES'!K27*L12,4) -> 0.1197 | M19: =ROUND('2. COEFICIENTES'!L27*M12,4) -> 0.1197 | N19: =ROUND('2. COEFICIENTES'!M27*N12,4) -> 0.1197 | ... U19: =ROUND('2. COEFICIENTES'!T27*U12,4) -> 0.1197
C22: =+MENU!$C$42 -> 3.3. - PREÇOS DE MATERIAL DE RODAGEM
C24: =+MENU!$C$43 -> 3.3.1. - PREÇOS DE PNEU NOVO
C26: PNEU NOVO | F26: Un. | G26: 1 | H26: =+G26+1 -> 2 | I26: =+H26+1 -> 3 | J26: =+I26+1 -> 4 | K26: =+J26+1 -> 5 | L26: =+K26+1 -> 6 | M26: =+L26+1 -> 7 | N26: =+M26+1 -> 8 | O26: =+N26+1 -> 9 | ... U26: =+T26+1 -> 15
A27: 1 | D27: =VLOOKUP(A27,TIPOLOGIA!$D$10:$E$12,2,0) -> MICROÔNIBUS | F27: (R$/un.) | G27: 512.56 | H27: =G27 -> 512.56 | I27: =H27 -> 512.56 | J27: =I27 -> 512.56 | K27: =J27 -> 512.56 | L27: =K27 -> 512.56 | M27: =L27 -> 512.56 | N27: =M27 -> 512.56 | O27: =N27 -> 512.56 | ... U27: =T27 -> 512.56
A28: 2 | D28: =VLOOKUP(A28,TIPOLOGIA!$D$10:$E$12,2,0) -> CONVENCIONAL | F28: =+F27 -> (R$/un.) | G28: 1252.15 | H28: =G28 -> 1252.15 | I28: =H28 -> 1252.15 | J28: =I28 -> 1252.15 | K28: =J28 -> 1252.15 | L28: =K28 -> 1252.15 | M28: =L28 -> 1252.15 | N28: =M28 -> 1252.15 | O28: =N28 -> 1252.15 | ... U28: =T28 -> 1252.15
A29: 3 | D29: =VLOOKUP(A29,TIPOLOGIA!$D$10:$E$12,2,0) -> - | F29: =+F28 -> (R$/un.) | G29: 0 | H29: =G29 -> 0 | I29: =H29 -> 0 | J29: =I29 -> 0 | K29: =J29 -> 0 | L29: =K29 -> 0 | M29: =L29 -> 0 | N29: =M29 -> 0 | O29: =N29 -> 0 | ... U29: =T29 -> 0
C31: =+MENU!$C$44 -> 3.3.2. - PREÇOS DE RECAPAGEM
C33: RECAPAGEM | F33: Un. | G33: 1 | H33: =+G33+1 -> 2 | I33: =+H33+1 -> 3 | J33: =+I33+1 -> 4 | K33: =+J33+1 -> 5 | L33: =+K33+1 -> 6 | M33: =+L33+1 -> 7 | N33: =+M33+1 -> 8 | O33: =+N33+1 -> 9 | ... U33: =+T33+1 -> 15
A34: 1 | D34: =VLOOKUP(A34,TIPOLOGIA!$D$10:$E$12,2,0) -> MICROÔNIBUS | F34: (R$/un.) | G34: 298 | H34: =G34 -> 298 | I34: =H34 -> 298 | J34: =I34 -> 298 | K34: =J34 -> 298 | L34: =K34 -> 298 | M34: =L34 -> 298 | N34: =M34 -> 298 | O34: =N34 -> 298 | ... U34: =T34 -> 298
A35: 2 | D35: =VLOOKUP(A35,TIPOLOGIA!$D$10:$E$12,2,0) -> CONVENCIONAL | F35: (R$/un.) | G35: 457 | H35: =G35 -> 457 | I35: =H35 -> 457 | J35: =I35 -> 457 | K35: =J35 -> 457 | L35: =K35 -> 457 | M35: =L35 -> 457 | N35: =M35 -> 457 | O35: =N35 -> 457 | ... U35: =T35 -> 457
A36: 3 | D36: =VLOOKUP(A36,TIPOLOGIA!$D$10:$E$12,2,0) -> - | F36: (R$/un.) | G36: 0 | H36: =G36 -> 0 | I36: =H36 -> 0 | J36: =I36 -> 0 | K36: =J36 -> 0 | L36: =K36 -> 0 | M36: =L36 -> 0 | N36: =M36 -> 0 | O36: =N36 -> 0 | ... U36: =T36 -> 0
C39: =+MENU!$C$45 -> 3.4. - PREÇOS DE VEÍCULOS
C41: =+MENU!$C$46 -> 3.4.1. - PREÇO DE VEÍCULO NOVO COMPLETO COM RODAGEM
C43: Preço de Veículo Novo Completo | F43: Un. | G43: 1 | H43: =+G43+1 -> 2 | I43: =+H43+1 -> 3 | J43: =+I43+1 -> 4 | K43: =+J43+1 -> 5 | L43: =+K43+1 -> 6 | M43: =+L43+1 -> 7 | N43: =+M43+1 -> 8 | O43: =+N43+1 -> 9 | ... U43: =+T43+1 -> 15
A44: 1 | D44: ="Preço de 1 Veíc. "&VLOOKUP(A44,TIPOLOGIA!$D$10:$E$12,2,0) -> Preço de 1 Veíc. MICROÔNIBUS | F44: (R$/Veíc.) | G44: 309000 | H44: =G44 -> 309000 | I44: =H44 -> 309000 | J44: =I44 -> 309000 | K44: =J44 -> 309000 | L44: =K44 -> 309000 | M44: =L44 -> 309000 | N44: =M44 -> 309000 | O44: =N44 -> 309000 | ... U44: =T44 -> 309000
A45: 2 | D45: ="Preço de 1 Veíc. "&VLOOKUP(A45,TIPOLOGIA!$D$10:$E$12,2,0) -> Preço de 1 Veíc. CONVENCIONAL | F45: =+F44 -> (R$/Veíc.) | G45: 388000 | H45: =G45 -> 388000 | I45: =H45 -> 388000 | J45: =I45 -> 388000 | K45: =J45 -> 388000 | L45: =K45 -> 388000 | M45: =L45 -> 388000 | N45: =M45 -> 388000 | O45: =N45 -> 388000 | ... U45: =T45 -> 388000
A46: 3 | D46: ="Preço de 1 Veíc. "&VLOOKUP(A46,TIPOLOGIA!$D$10:$E$12,2,0) -> Preço de 1 Veíc. - | F46: =+F45 -> (R$/Veíc.) | G46: 0 | H46: =G46 -> 0 | I46: =H46 -> 0 | J46: =I46 -> 0 | K46: =J46 -> 0 | L46: =K46 -> 0 | M46: =L46 -> 0 | N46: =M46 -> 0 | O46: =N46 -> 0 | ... U46: =T46 -> 0
A48: 1 | C48: =+MENU!$C$47 -> 3.4.1.1 - PREÇO DE VEÍCULO COM FATOR DE DEPRECIAÇÃO - MICROÔNIBUS
C50: FAIXA ETÁRIA | E50: Fator de depreciação | F50: % valor do veíc. novo | G50: 1 | H50: =+G50+1 -> 2 | I50: =+H50+1 -> 3 | J50: =+I50+1 -> 4 | K50: =+J50+1 -> 5 | L50: =+K50+1 -> 6 | M50: =+L50+1 -> 7 | N50: =+M50+1 -> 8 | O50: =+N50+1 -> 9 | ... U50: =+T50+1 -> 15
C51: 0 | D51: 00 a 01 ano | E51: =(1-'2. COEFICIENTES'!$F$72)*('2. COEFICIENTES'!$F$65/SUM($C$51:$C$59)) -> 0.18888889 | F51: 1 | G51: =G$44*$F51 -> 309000 | H51: =H$44*$F51 -> 309000 | I51: =I$44*$F51 -> 309000 | J51: =J$44*$F51 -> 309000 | K51: =K$44*$F51 -> 309000 | L51: =L$44*$F51 -> 309000 | M51: =M$44*$F51 -> 309000 | N51: =N$44*$F51 -> 309000 | ... U51: =U$44*$F51 -> 309000
C52: 1 | D52: 01 a 02 ano | E52: =(1-'2. COEFICIENTES'!$F$72)*(('2. COEFICIENTES'!$F$65-MAX($C$51:C52))/SUM($C$51:$C$59)) -> 0.16527778 | F52: =F51-E51 -> 0.81111111 | G52: =G$44*$F52 -> 250633.33 | H52: =H$44*$F52 -> 250633.33 | I52: =I$44*$F52 -> 250633.33 | J52: =J$44*$F52 -> 250633.33 | K52: =K$44*$F52 -> 250633.33 | L52: =L$44*$F52 -> 250633.33 | M52: =M$44*$F52 -> 250633.33 | N52: =N$44*$F52 -> 250633.33 | ... U52: =U$44*$F52 -> 250633.33
C53: 2 | D53: 02 a 03 ano | E53: =(1-'2. COEFICIENTES'!$F$72)*(('2. COEFICIENTES'!$F$65-MAX($C$51:C53))/SUM($C$51:$C$59)) -> 0.14166667 | F53: =F52-E52 -> 0.64583333 | G53: =G$44*$F53 -> 199562.5 | H53: =H$44*$F53 -> 199562.5 | I53: =I$44*$F53 -> 199562.5 | J53: =J$44*$F53 -> 199562.5 | K53: =K$44*$F53 -> 199562.5 | L53: =L$44*$F53 -> 199562.5 | M53: =M$44*$F53 -> 199562.5 | N53: =N$44*$F53 -> 199562.5 | ... U53: =U$44*$F53 -> 199562.5
C54: 3 | D54: 03 a 04 ano | E54: =(1-'2. COEFICIENTES'!$F$72)*(('2. COEFICIENTES'!$F$65-MAX($C$51:C54))/SUM($C$51:$C$59)) -> 0.11805556 | F54: =F53-E53 -> 0.50416667 | G54: =G$44*$F54 -> 155787.5 | H54: =H$44*$F54 -> 155787.5 | I54: =I$44*$F54 -> 155787.5 | J54: =J$44*$F54 -> 155787.5 | K54: =K$44*$F54 -> 155787.5 | L54: =L$44*$F54 -> 155787.5 | M54: =M$44*$F54 -> 155787.5 | N54: =N$44*$F54 -> 155787.5 | ... U54: =U$44*$F54 -> 155787.5
C55: 4 | D55: 04 a 05 ano | E55: =(1-'2. COEFICIENTES'!$F$72)*(('2. COEFICIENTES'!$F$65-MAX($C$51:C55))/SUM($C$51:$C$59)) -> 0.094444444 | F55: =F54-E54 -> 0.38611111 | G55: =G$44*$F55 -> 119308.33 | H55: =H$44*$F55 -> 119308.33 | I55: =I$44*$F55 -> 119308.33 | J55: =J$44*$F55 -> 119308.33 | K55: =K$44*$F55 -> 119308.33 | L55: =L$44*$F55 -> 119308.33 | M55: =M$44*$F55 -> 119308.33 | N55: =N$44*$F55 -> 119308.33 | ... U55: =U$44*$F55 -> 119308.33
C56: 5 | D56: 05 a 06 ano | E56: =(1-'2. COEFICIENTES'!$F$72)*(('2. COEFICIENTES'!$F$65-MAX($C$51:C56))/SUM($C$51:$C$59)) -> 0.070833333 | F56: =F55-E55 -> 0.29166667 | G56: =G$44*$F56 -> 90125 | H56: =H$44*$F56 -> 90125 | I56: =I$44*$F56 -> 90125 | J56: =J$44*$F56 -> 90125 | K56: =K$44*$F56 -> 90125 | L56: =L$44*$F56 -> 90125 | M56: =M$44*$F56 -> 90125 | N56: =N$44*$F56 -> 90125 | ... U56: =U$44*$F56 -> 90125
C57: 6 | D57: 06 a 07 ano | E57: =(1-'2. COEFICIENTES'!$F$72)*(('2. COEFICIENTES'!$F$65-MAX($C$51:C57))/SUM($C$51:$C$59)) -> 0.047222222 | F57: =F56-E56 -> 0.22083333 | G57: =G$44*$F57 -> 68237.5 | H57: =H$44*$F57 -> 68237.5 | I57: =I$44*$F57 -> 68237.5 | J57: =J$44*$F57 -> 68237.5 | K57: =K$44*$F57 -> 68237.5 | L57: =L$44*$F57 -> 68237.5 | M57: =M$44*$F57 -> 68237.5 | N57: =N$44*$F57 -> 68237.5 | ... U57: =U$44*$F57 -> 68237.5
C58: 7 | D58: 07 a 08 ano | E58: =(1-'2. COEFICIENTES'!$F$72)*(('2. COEFICIENTES'!$F$65-MAX($C$51:C58))/SUM($C$51:$C$59)) -> 0.023611111 | F58: =F57-E57 -> 0.17361111 | G58: =G$44*$F58 -> 53645.833 | H58: =H$44*$F58 -> 53645.833 | I58: =I$44*$F58 -> 53645.833 | J58: =J$44*$F58 -> 53645.833 | K58: =K$44*$F58 -> 53645.833 | L58: =L$44*$F58 -> 53645.833 | M58: =M$44*$F58 -> 53645.833 | N58: =N$44*$F58 -> 53645.833 | ... U58: =U$44*$F58 -> 53645.833
C59: 8 | D59: 08 a 09 ano | E59: =IF(C59>'2. COEFICIENTES'!$F$65,0,(1-'2. COEFICIENTES'!$F$72)*(('2. COEFICIENTES'!$F$65-MAX($C$51:C59))/SUM($C$51:$C$59))) -> 0 | F59: =F58-E58 -> 0.15 | G59: =G$44*$F59 -> 46350 | H59: =H$44*$F59 -> 46350 | I59: =I$44*$F59 -> 46350 | J59: =J$44*$F59 -> 46350 | K59: =K$44*$F59 -> 46350 | L59: =L$44*$F59 -> 46350 | M59: =M$44*$F59 -> 46350 | N59: =N$44*$F59 -> 46350 | ... U59: =U$44*$F59 -> 46350
...

Sheet 4. CUSTOS VARIÁVEIS
E2: SECRETARIA MUNICIPAL DE DESENVOLVIMENTO URBANO
E3: =MENU!$B$3&" - "&+MENU!$B$4 -> CONCORRÊNCIA Nº 003/18 -
E4: =+MENU!$C$2 -> ESTUDO TÉCNICO DE VIABILIDADE ECONÔMICA DA OPERAÇÃO DO SERVIÇO DE TRANSPORTE COLETIVO DA CIDADE DE AMPARO
E5: =+MENU!$C$3 -> ANEXO IV.1 - ESTUDO TÉCNICO DE VIABILIDADE ECONÔMICA - ORÇAMENTO ESTIMADO | T5: =+MENU!$C$5 -> DATA BASE DE CÁLCULO: MARÇO 2020
B7: =+MENU!$C$63 -> 4. - CÁLCULO DOS CUSTOS VARIÁVEIS
C9: =+MENU!$C$64 -> 4.1. - CÁLCULO DOS CUSTEIOS COM COMBUSTÍVEIS
C11: =+MENU!$C$65 -> 4.1.1. - CUSTEIOS COM ÓLEO DIESEL
C13: ÓLEO DIESEL | E13: Un. | F13: 1 | G13: =+F13+1 -> 2 | H13: =+G13+1 -> 3 | I13: =+H13+1 -> 4 | J13: =+I13+1 -> 5 | K13: =+J13+1 -> 6 | L13: =+K13+1 -> 7 | M13: =+L13+1 -> 8 | N13: =+M13+1 -> 9 | ... T13: =+S13+1 -> 15
A14: 1 | D14: =VLOOKUP(A14,TIPOLOGIA!$D$10:$E$12,2,0) -> MICROÔNIBUS | E14: (R$/mês) | F14: ='3. PREÇOS INSUMOS'!G$12*'2. COEFICIENTES'!F14*'1. DADOS OPERACIONAIS'!F37 -> 16606.143 | G14: ='3. PREÇOS INSUMOS'!H$12*'2. COEFICIENTES'!G14*'1. DADOS OPERACIONAIS'!G37 -> 16606.143 | H14: ='3. PREÇOS INSUMOS'!I$12*'2. COEFICIENTES'!H14*'1. DADOS OPERACIONAIS'!H37 -> 16606.143 | I14: ='3. PREÇOS INSUMOS'!J$12*'2. COEFICIENTES'!I14*'1. DADOS OPERACIONAIS'!I37 -> 16606.143 | J14: ='3. PREÇOS INSUMOS'!K$12*'2. COEFICIENTES'!J14*'1. DADOS OPERACIONAIS'!J37 -> 16606.143 | K14: ='3. PREÇOS INSUMOS'!L$12*'2. COEFICIENTES'!K14*'1. DADOS OPERACIONAIS'!K37 -> 16606.143 | L14: ='3. PREÇOS INSUMOS'!M$12*'2. COEFICIENTES'!L14*'1. DADOS OPERACIONAIS'!L37 -> 16606.143 | M14: ='3. PREÇOS INSUMOS'!N$12*'2. COEFICIENTES'!M14*'1. DADOS OPERACIONAIS'!M37 -> 16606.143 | ... T14: ='3. PREÇOS INSUMOS'!U$12*'2. COEFICIENTES'!T14*'1. DADOS OPERACIONAIS'!T37 -> 16606.143
A15: 2 | D15: =VLOOKUP(A15,TIPOLOGIA!$D$10:$E$12,2,0) -> CONVENCIONAL | E15: =+E14 -> (R$/mês) | F15: ='3. PREÇOS INSUMOS'!G$12*'2. COEFICIENTES'!F15*'1. DADOS OPERACIONAIS'!F38 -> 54385.948 | G15: ='3. PREÇOS INSUMOS'!H$12*'2. COEFICIENTES'!G15*'1. DADOS OPERACIONAIS'!G38 -> 54385.948 | H15: ='3. PREÇOS INSUMOS'!I$12*'2. COEFICIENTES'!H15*'1. DADOS OPERACIONAIS'!H38 -> 54385.948 | I15: ='3. PREÇOS INSUMOS'!J$12*'2. COEFICIENTES'!I15*'1. DADOS OPERACIONAIS'!I38 -> 54385.948 | J15: ='3. PREÇOS INSUMOS'!K$12*'2. COEFICIENTES'!J15*'1. DADOS OPERACIONAIS'!J38 -> 54385.948 | K15: ='3. PREÇOS INSUMOS'!L$12*'2. COEFICIENTES'!K15*'1. DADOS OPERACIONAIS'!K38 -> 54385.948 | L15: ='3. PREÇOS INSUMOS'!M$12*'2. COEFICIENTES'!L15*'1. DADOS OPERACIONAIS'!L38 -> 54385.948 | M15: ='3. PREÇOS INSUMOS'!N$12*'2. COEFICIENTES'!M15*'1. DADOS OPERACIONAIS'!M38 -> 54385.948 | ... T15: ='3. PREÇOS INSUMOS'!U$12*'2. COEFICIENTES'!T15*'1. DADOS OPERACIONAIS'!T38 -> 54385.948
A16: 3 | D16: =VLOOKUP(A16,TIPOLOGIA!$D$10:$E$12,2,0) -> - | E16: =+E15 -> (R$/mês) | F16: ='3. PREÇOS INSUMOS'!G$12*'2. COEFICIENTES'!F16*'1. DADOS OPERACIONAIS'!F39 -> 0 | G16: ='3. PREÇOS INSUMOS'!H$12*'2. COEFICIENTES'!G16*'1. DADOS OPERACIONAIS'!G39 -> 0 | H16: ='3. PREÇOS INSUMOS'!I$12*'2. COEFICIENTES'!H16*'1. DADOS OPERACIONAIS'!H39 -> 0 | I16: ='3. PREÇOS INSUMOS'!J$12*'2. COEFICIENTES'!I16*'1. DADOS OPERACIONAIS'!I39 -> 0 | J16: ='3. PREÇOS INSUMOS'!K$12*'2. COEFICIENTES'!J16*'1. DADOS OPERACIONAIS'!J39 -> 0 | K16: ='3. PREÇOS INSUMOS'!L$12*'2. COEFICIENTES'!K16*'1. DADOS OPERACIONAIS'!K39 -> 0 | L16: ='3. PREÇOS INSUMOS'!M$12*'2. COEFICIENTES'!L16*'1. DADOS OPERACIONAIS'!L39 -> 0 | M16: ='3. PREÇOS INSUMOS'!N$12*'2. COEFICIENTES'!M16*'1. DADOS OPERACIONAIS'!M39 -> 0 | ... T16: ='3. PREÇOS INSUMOS'!U$12*'2. COEFICIENTES'!T16*'1. DADOS OPERACIONAIS'!T39 -> 0
A17: 3 | D17: total de custeios com Óleo Diesel | E17: =+E16 -> (R$/mês) | F17: =SUM(F14:F16) -> 70992.091 | G17: =SUM(G14:G16) -> 70992.091 | H17: =SUM(H14:H16) -> 70992.091 | I17: =SUM(I14:I16) -> 70992.091 | J17: =SUM(J14:J16) -> 70992.091 | K17: =SUM(K14:K16) -> 70992.091 | L17: =SUM(L14:L16) -> 70992.091 | M17: =SUM(M14:M16) -> 70992.091 | ... T17: =SUM(T14:T16) -> 70992.091
A18: 3 | D18: total de custeios com Óleo Diesel | E18: (R$/ANUAL) | F18: =+F17*12 -> 851905.09 | G18: =+G17*12 -> 851905.09 | H18: =+H17*12 -> 851905.09 | I18: =+I17*12 -> 851905.09 | J18: =+J17*12 -> 851905.09 | K18: =+K17*12 -> 851905.09 | L18: =+L17*12 -> 851905.09 | M18: =+M17*12 -> 851905.09 | ... T18: =+T17*12 -> 851905.09
C20: =+MENU!$C$66 -> 4.1.2. - CUSTEIOS COM ARLA32
C22: ARLA32 | E22: Un. | F22: 1 | G22: =+F22+1 -> 2 | H22: =+G22+1 -> 3 | I22: =+H22+1 -> 4 | J22: =+I22+1 -> 5 | K22: =+J22+1 -> 6 | L22: =+K22+1 -> 7 | M22: =+L22+1 -> 8 | N22: =+M22+1 -> 9 | ... T22: =+S22+1 -> 15
A23: 1 | D23: =VLOOKUP(A23,TIPOLOGIA!$D$10:$E$12,2,0) -> MICROÔNIBUS | E23: (R$/mês) | F23: =+'2. COEFICIENTES'!F14*'2. COEFICIENTES'!F$21*'3. PREÇOS INSUMOS'!G$13*'1. DADOS OPERACIONAIS'!F37 -> 239.81794 | G23: =+'2. COEFICIENTES'!G14*'2. COEFICIENTES'!G$21*'3. PREÇOS INSUMOS'!H$13*'1. DADOS OPERACIONAIS'!G37 -> 239.81794 | H23: =+'2. COEFICIENTES'!H14*'2. COEFICIENTES'!H$21*'3. PREÇOS INSUMOS'!I$13*'1. DADOS OPERACIONAIS'!H37 -> 239.81794 | I23: =+'2. COEFICIENTES'!I14*'2. COEFICIENTES'!I$21*'3. PREÇOS INSUMOS'!J$13*'1. DADOS OPERACIONAIS'!I37 -> 239.81794 | J23: =+'2. COEFICIENTES'!J14*'2. COEFICIENTES'!J$21*'3. PREÇOS INSUMOS'!K$13*'1. DADOS OPERACIONAIS'!J37 -> 239.81794 | K23: =+'2. COEFICIENTES'!K14*'2. COEFICIENTES'!K$21*'3. PREÇOS INSUMOS'!L$13*'1. DADOS OPERACIONAIS'!K37 -> 239.81794 | L23: =+'2. COEFICIENTES'!L14*'2. COEFICIENTES'!L$21*'3. PREÇOS INSUMOS'!M$13*'1. DADOS OPERACIONAIS'!L37 -> 239.81794 | M23: =+'2. COEFICIENTES'!M14*'2. COEFICIENTES'!M$21*'3. PREÇOS INSUMOS'!N$13*'1. DADOS OPERACIONAIS'!M37 -> 239.81794 | ... T23: =+'2. COEFICIENTES'!T14*'2. COEFICIENTES'!T$21*'3. PREÇOS INSUMOS'!U$13*'1. DADOS OPERACIONAIS'!T37 -> 239.81794
A24: 2 | D24: =VLOOKUP(A24,TIPOLOGIA!$D$10:$E$12,2,0) -> CONVENCIONAL | E24: =+E23 -> (R$/mês) | F24: =+'2. COEFICIENTES'!F15*'2. COEFICIENTES'!F$21*'3. PREÇOS INSUMOS'!G$13*'1. DADOS OPERACIONAIS'!F38 -> 785.41572 | G24: =+'2. COEFICIENTES'!G15*'2. COEFICIENTES'!G$21*'3. PREÇOS INSUMOS'!H$13*'1. DADOS OPERACIONAIS'!G38 -> 785.41572 | H24: =+'2. COEFICIENTES'!H15*'2. COEFICIENTES'!H$21*'3. PREÇOS INSUMOS'!I$13*'1. DADOS OPERACIONAIS'!H38 -> 785.41572 | I24: =+'2. COEFICIENTES'!I15*'2. COEFICIENTES'!I$21*'3. PREÇOS INSUMOS'!J$13*'1. DADOS OPERACIONAIS'!I38 -> 785.41572 | J24: =+'2. COEFICIENTES'!J15*'2. COEFICIENTES'!J$21*'3. PREÇOS INSUMOS'!K$13*'1. DADOS OPERACIONAIS'!J38 -> 785.41572 | K24: =+'2. COEFICIENTES'!K15*'2. COEFICIENTES'!K$21*'3. PREÇOS INSUMOS'!L$13*'1. DADOS OPERACIONAIS'!K38 -> 785.41572 | L24: =+'2. COEFICIENTES'!L15*'2. COEFICIENTES'!L$21*'3. PREÇOS INSUMOS'!M$13*'1. DADOS OPERACIONAIS'!L38 -> 785.41572 | M24: =+'2. COEFICIENTES'!M15*'2. COEFICIENTES'!M$21*'3. PREÇOS INSUMOS'!N$13*'1. DADOS OPERACIONAIS'!M38 -> 785.41572 | ... T24: =+'2. COEFICIENTES'!T15*'2. COEFICIENTES'!T$21*'3. PREÇOS INSUMOS'!U$13*'1. DADOS OPERACIONAIS'!T38 -> 785.41572
A25: 3 | D25: =VLOOKUP(A25,TIPOLOGIA!$D$10:$E$12,2,0) -> - | E25: =+E24 -> (R$/mês) | F25: =+'2. COEFICIENTES'!F16*'2. COEFICIENTES'!F$21*'3. PREÇOS INSUMOS'!G$13*'1. DADOS OPERACIONAIS'!F39 -> 0 | G25: =+'2. COEFICIENTES'!G16*'2. COEFICIENTES'!G$21*'3. PREÇOS INSUMOS'!H$13*'1. DADOS OPERACIONAIS'!G39 -> 0 | H25: =+'2. COEFICIENTES'!H16*'2. COEFICIENTES'!H$21*'3. PREÇOS INSUMOS'!I$13*'1. DADOS OPERACIONAIS'!H39 -> 0 | I25: =+'2. COEFICIENTES'!I16*'2. COEFICIENTES'!I$21*'3. PREÇOS INSUMOS'!J$13*'1. DADOS OPERACIONAIS'!I39 -> 0 | J25: =+'2. COEFICIENTES'!J16*'2. COEFICIENTES'!J$21*'3. PREÇOS INSUMOS'!K$13*'1. DADOS OPERACIONAIS'!J39 -> 0 | K25: =+'2. COEFICIENTES'!K16*'2. COEFICIENTES'!K$21*'3. PREÇOS INSUMOS'!L$13*'1. DADOS OPERACIONAIS'!K39 -> 0 | L25: =+'2. COEFICIENTES'!L16*'2. COEFICIENTES'!L$21*'3. PREÇOS INSUMOS'!M$13*'1. DADOS OPERACIONAIS'!L39 -> 0 | M25: =+'2. COEFICIENTES'!M16*'2. COEFICIENTES'!M$21*'3. PREÇOS INSUMOS'!N$13*'1. DADOS OPERACIONAIS'!M39 -> 0 | ... T25: =+'2. COEFICIENTES'!T16*'2. COEFICIENTES'!T$21*'3. PREÇOS INSUMOS'!U$13*'1. DADOS OPERACIONAIS'!T39 -> 0
D26: total de custeios com Arla32 | E26: =+E25 -> (R$/mês) | F26: =SUM(F23:F25) -> 1025.2337 | G26: =SUM(G23:G25) -> 1025.2337 | H26: =SUM(H23:H25) -> 1025.2337 | I26: =SUM(I23:I25) -> 1025.2337 | J26: =SUM(J23:J25) -> 1025.2337 | K26: =SUM(K23:K25) -> 1025.2337 | L26: =SUM(L23:L25) -> 1025.2337 | M26: =SUM(M23:M25) -> 1025.2337 | ... T26: =SUM(T23:T25) -> 1025.2337
D27: total de custeios com Arla32 | E27: (R$/ANUAL) | F27: =+F26*12 -> 12302.804 | G27: =+G26*12 -> 12302.804 | H27: =+H26*12 -> 12302.804 | I27: =+I26*12 -> 12302.804 | J27: =+J26*12 -> 12302.804 | K27: =+K26*12 -> 12302.804 | L27: =+L26*12 -> 12302.804 | M27: =+M26*12 -> 12302.804 | ... T27: =+T26*12 -> 12302.804
C30: =+MENU!$C$67 -> 4.2. - CÁLCULO DOS CUSTEIOS COM LUBRIFICANTES
C32: LUBRIFICANTES | E32: Un. | F32: 1 | G32: =+F32+1 -> 2 | H32: =+G32+1 -> 3 | I32: =+H32+1 -> 4 | J32: =+I32+1 -> 5 | K32: =+J32+1 -> 6 | L32: =+K32+1 -> 7 | M32: =+L32+1 -> 8 | N32: =+M32+1 -> 9 | ... T32: =+S32+1 -> 15
A33: 1 | D33: =VLOOKUP(A33,TIPOLOGIA!$D$10:$E$12,2,0) -> MICROÔNIBUS | E33: (R$/mês) | F33: =+'3. PREÇOS INSUMOS'!G$19*'1. DADOS OPERACIONAIS'!F37 -> 2984.2614 | G33: =+'3. PREÇOS INSUMOS'!H$19*'1. DADOS OPERACIONAIS'!G37 -> 2984.2614 | H33: =+'3. PREÇOS INSUMOS'!I$19*'1. DADOS OPERACIONAIS'!H37 -> 2984.2614 | I33: =+'3. PREÇOS INSUMOS'!J$19*'1. DADOS OPERACIONAIS'!I37 -> 2984.2614 | J33: =+'3. PREÇOS INSUMOS'!K$19*'1. DADOS OPERACIONAIS'!J37 -> 2984.2614 | K33: =+'3. PREÇOS INSUMOS'!L$19*'1. DADOS OPERACIONAIS'!K37 -> 2984.2614 | L33: =+'3. PREÇOS INSUMOS'!M$19*'1. DADOS OPERACIONAIS'!L37 -> 2984.2614 | M33: =+'3. PREÇOS INSUMOS'!N$19*'1. DADOS OPERACIONAIS'!M37 -> 2984.2614 | ... T33: =+'3. PREÇOS INSUMOS'!U$19*'1. DADOS OPERACIONAIS'!T37 -> 2984.2614
A34: 2 | D34: =VLOOKUP(A34,TIPOLOGIA!$D$10:$E$12,2,0) -> CONVENCIONAL | E34: =+E33 -> (R$/mês) | F34: =+'3. PREÇOS INSUMOS'!G$19*'1. DADOS OPERACIONAIS'!F38 -> 5968.5228 | G34: =+'3. PREÇOS INSUMOS'!H$19*'1. DADOS OPERACIONAIS'!G38 -> 5968.5228 | H34: =+'3. PREÇOS INSUMOS'!I$19*'1. DADOS OPERACIONAIS'!H38 -> 5968.5228 | I34: =+'3. PREÇOS INSUMOS'!J$19*'1. DADOS OPERACIONAIS'!I38 -> 5968.5228 | J34: =+'3. PREÇOS INSUMOS'!K$19*'1. DADOS OPERACIONAIS'!J38 -> 5968.5228 | K34: =+'3. PREÇOS INSUMOS'!L$19*'1. DADOS OPERACIONAIS'!K38 -> 5968.5228 | L34: =+'3. PREÇOS INSUMOS'!M$19*'1. DADOS OPERACIONAIS'!L38 -> 5968.5228 | M34: =+'3. PREÇOS INSUMOS'!N$19*'1. DADOS OPERACIONAIS'!M38 -> 5968.5228 | ... T34: =+'3. PREÇOS INSUMOS'!U$19*'1. DADOS OPERACIONAIS'!T38 -> 5968.5228
A35: 3 | D35: =VLOOKUP(A35,TIPOLOGIA!$D$10:$E$12,2,0) -> - | E35: =+E34 -> (R$/mês) | F35: =+'3. PREÇOS INSUMOS'!G$19*'1. DADOS OPERACIONAIS'!F39 -> 0 | G35: =+'3. PREÇOS INSUMOS'!H$19*'1. DADOS OPERACIONAIS'!G39 -> 0 | H35: =+'3. PREÇOS INSUMOS'!I$19*'1. DADOS OPERACIONAIS'!H39 -> 0 | I35: =+'3. PREÇOS INSUMOS'!J$19*'1. DADOS OPERACIONAIS'!I39 -> 0 | J35: =+'3. PREÇOS INSUMOS'!K$19*'1. DADOS OPERACIONAIS'!J39 -> 0 | K35: =+'3. PREÇOS INSUMOS'!L$19*'1. DADOS OPERACIONAIS'!K39 -> 0 | L35: =+'3. PREÇOS INSUMOS'!M$19*'1. DADOS OPERACIONAIS'!L39 -> 0 | M35: =+'3. PREÇOS INSUMOS'!N$19*'1. DADOS OPERACIONAIS'!M39 -> 0 | ... T35: =+'3. PREÇOS INSUMOS'!U$19*'1. DADOS OPERACIONAIS'!T39 -> 0
D36: total de custeios com Lubrificantes | E36: =+E35 -> (R$/mês) | F36: =SUM(F33:F35) -> 8952.7842 | G36: =SUM(G33:G35) -> 8952.7842 | H36: =SUM(H33:H35) -> 8952.7842 | I36: =SUM(I33:I35) -> 8952.7842 | J36: =SUM(J33:J35) -> 8952.7842 | K36: =SUM(K33:K35) -> 8952.7842 | L36: =SUM(L33:L35) -> 8952.7842 | M36: =SUM(M33:M35) -> 8952.7842 | ... T36: =SUM(T33:T35) -> 8952.7842
D37: total de custeios com Lubrificantes | E37: (R$/ANUAL) | F37: =+F36*12 -> 107433.41 | G37: =+G36*12 -> 107433.41 | H37: =+H36*12 -> 107433.41 | I37: =+I36*12 -> 107433.41 | J37: =+J36*12 -> 107433.41 | K37: =+K36*12 -> 107433.41 | L37: =+L36*12 -> 107433.41 | M37: =+M36*12 -> 107433.41 | ... T37: =+T36*12 -> 107433.41
C40: =+MENU!$C$68 -> 4.3. - CÁLCULO DOS CUSTEIOS COM RODAGEM
C42: =+MENU!$C$69 -> 4.3.1. - CUSTEIOS COM PNEU NOVO
C44: PNEU NOVO | E44: Un. | F44: 1 | G44: =+F44+1 -> 2 | H44: =+G44+1 -> 3 | I44: =+H44+1 -> 4 | J44: =+I44+1 -> 5 | K44: =+J44+1 -> 6 | L44: =+K44+1 -> 7 | M44: =+L44+1 -> 8 | N44: =+M44+1 -> 9 | ... T44: =+S44+1 -> 15
A45: 1 | D45: =VLOOKUP(A45,TIPOLOGIA!$D$10:$E$12,2,0) -> MICROÔNIBUS | E45: (R$/mês) | F45: =IFERROR(('2. COEFICIENTES'!F42*'3. PREÇOS INSUMOS'!G$27*'1. DADOS OPERACIONAIS'!F37)/'2. COEFICIENTES'!F35,0) -> 486.80846 | G45: =IFERROR(('2. COEFICIENTES'!G42*'3. PREÇOS INSUMOS'!H$27*'1. DADOS OPERACIONAIS'!G37)/'2. COEFICIENTES'!G35,0) -> 486.80846 | H45: =IFERROR(('2. COEFICIENTES'!H42*'3. PREÇOS INSUMOS'!I$27*'1. DADOS OPERACIONAIS'!H37)/'2. COEFICIENTES'!H35,0) -> 486.80846 | I45: =IFERROR(('2. COEFICIENTES'!I42*'3. PREÇOS INSUMOS'!J$27*'1. DADOS OPERACIONAIS'!I37)/'2. COEFICIENTES'!I35,0) -> 486.80846 | J45: =IFERROR(('2. COEFICIENTES'!J42*'3. PREÇOS INSUMOS'!K$27*'1. DADOS OPERACIONAIS'!J37)/'2. COEFICIENTES'!J35,0) -> 486.80846 | K45: =IFERROR(('2. COEFICIENTES'!K42*'3. PREÇOS INSUMOS'!L$27*'1. DADOS OPERACIONAIS'!K37)/'2. COEFICIENTES'!K35,0) -> 486.80846 | L45: =IFERROR(('2. COEFICIENTES'!L42*'3. PREÇOS INSUMOS'!M$27*'1. DADOS OPERACIONAIS'!L37)/'2. COEFICIENTES'!L35,0) -> 486.80846 | M45: =IFERROR(('2. COEFICIENTES'!M42*'3. PREÇOS INSUMOS'!N$27*'1. DADOS OPERACIONAIS'!M37)/'2. COEFICIENTES'!M35,0) -> 486.80846 | ... T45: =IFERROR(('2. COEFICIENTES'!T42*'3. PREÇOS INSUMOS'!U$27*'1. DADOS OPERACIONAIS'!T37)/'2. COEFICIENTES'!T35,0) -> 486.80846
A46: 2 | D46: =VLOOKUP(A46,TIPOLOGIA!$D$10:$E$12,2,0) -> CONVENCIONAL | E46: =+E45 -> (R$/mês) | F46: =IFERROR(('2. COEFICIENTES'!F43*'3. PREÇOS INSUMOS'!G$27*'1. DADOS OPERACIONAIS'!F38)/'2. COEFICIENTES'!F36,0) -> 1460.4254 | G46: =IFERROR(('2. COEFICIENTES'!G43*'3. PREÇOS INSUMOS'!H$27*'1. DADOS OPERACIONAIS'!G38)/'2. COEFICIENTES'!G36,0) -> 1460.4254 | H46: =IFERROR(('2. COEFICIENTES'!H43*'3. PREÇOS INSUMOS'!I$27*'1. DADOS OPERACIONAIS'!H38)/'2. COEFICIENTES'!H36,0) -> 1460.4254 | I46: =IFERROR(('2. COEFICIENTES'!I43*'3. PREÇOS INSUMOS'!J$27*'1. DADOS OPERACIONAIS'!I38)/'2. COEFICIENTES'!I36,0) -> 1460.4254 | J46: =IFERROR(('2. COEFICIENTES'!J43*'3. PREÇOS INSUMOS'!K$27*'1. DADOS OPERACIONAIS'!J38)/'2. COEFICIENTES'!J36,0) -> 1460.4254 | K46: =IFERROR(('2. COEFICIENTES'!K43*'3. PREÇOS INSUMOS'!L$27*'1. DADOS OPERACIONAIS'!K38)/'2. COEFICIENTES'!K36,0) -> 1460.4254 | L46: =IFERROR(('2. COEFICIENTES'!L43*'3. PREÇOS INSUMOS'!M$27*'1. DADOS OPERACIONAIS'!L38)/'2. COEFICIENTES'!L36,0) -> 1460.4254 | M46: =IFERROR(('2. COEFICIENTES'!M43*'3. PREÇOS INSUMOS'!N$27*'1. DADOS OPERACIONAIS'!M38)/'2. COEFICIENTES'!M36,0) -> 1460.4254 | ... T46: =IFERROR(('2. COEFICIENTES'!T43*'3. PREÇOS INSUMOS'!U$27*'1. DADOS OPERACIONAIS'!T38)/'2. COEFICIENTES'!T36,0) -> 1460.4254
A47: 3 | D47: =VLOOKUP(A47,TIPOLOGIA!$D$10:$E$12,2,0) -> - | E47: =+E46 -> (R$/mês) | F47: =IFERROR(('2. COEFICIENTES'!F44*'3. PREÇOS INSUMOS'!G$27*'1. DADOS OPERACIONAIS'!F39)/'2. COEFICIENTES'!F37,0) -> 0 | G47: =IFERROR(('2. COEFICIENTES'!G44*'3. PREÇOS INSUMOS'!H$27*'1. DADOS OPERACIONAIS'!G39)/'2. COEFICIENTES'!G37,0) -> 0 | H47: =IFERROR(('2. COEFICIENTES'!H44*'3. PREÇOS INSUMOS'!I$27*'1. DADOS OPERACIONAIS'!H39)/'2. COEFICIENTES'!H37,0) -> 0 | I47: =IFERROR(('2. COEFICIENTES'!I44*'3. PREÇOS INSUMOS'!J$27*'1. DADOS OPERACIONAIS'!I39)/'2. COEFICIENTES'!I37,0) -> 0 | J47: =IFERROR(('2. COEFICIENTES'!J44*'3. PREÇOS INSUMOS'!K$27*'1. DADOS OPERACIONAIS'!J39)/'2. COEFICIENTES'!J37,0) -> 0 | K47: =IFERROR(('2. COEFICIENTES'!K44*'3. PREÇOS INSUMOS'!L$27*'1. DADOS OPERACIONAIS'!K39)/'2. COEFICIENTES'!K37,0) -> 0 | L47: =IFERROR(('2. COEFICIENTES'!L44*'3. PREÇOS INSUMOS'!M$27*'1. DADOS OPERACIONAIS'!L39)/'2. COEFICIENTES'!L37,0) -> 0 | M47: =IFERROR(('2. COEFICIENTES'!M44*'3. PREÇOS INSUMOS'!N$27*'1. DADOS OPERACIONAIS'!M39)/'2. COEFICIENTES'!M37,0) -> 0 | ... T47: =IFERROR(('2. COEFICIENTES'!T44*'3. PREÇOS INSUMOS'!U$27*'1. DADOS OPERACIONAIS'!T39)/'2. COEFICIENTES'!T37,0) -> 0
D48: total de custeios com Pneu Novo | E48: =+E47 -> (R$/mês) | F48: =SUM(F45:F47) -> 1947.2338 | G48: =SUM(G45:G47) -> 1947.2338 | H48: =SUM(H45:H47) -> 1947.2338 | I48: =SUM(I45:I47) -> 1947.2338 | J48: =SUM(J45:J47) -> 1947.2338 | K48: =SUM(K45:K47) -> 1947.2338 | L48: =SUM(L45:L47) -> 1947.2338 | M48: =SUM(M45:M47) -> 1947.2338 | ... T48: =SUM(T45:T47) -> 1947.2338
D49: total de custeios com Pneu Novo | E49: (R$/ANUAL) | F49: =+F48*12 -> 23366.806 | G49: =+G48*12 -> 23366.806 | H49: =+H48*12 -> 23366.806 | I49: =+I48*12 -> 23366.806 | J49: =+J48*12 -> 23366.806 | K49: =+K48*12 -> 23366.806 | L49: =+L48*12 -> 23366.806 | M49: =+M48*12 -> 23366.806 | ... T49: =+T48*12 -> 23366.806
C51: =+MENU!$C$70 -> 4.3.2. - CUSTEIOS COM RECAPAGEM
C53: RECAPAGEM | E53: Un. | F53: 1 | G53: =+F53+1 -> 2 | H53: =+G53+1 -> 3 | I53: =+H53+1 -> 4 | J53: =+I53+1 -> 5 | K53: =+J53+1 -> 6 | L53: =+K53+1 -> 7 | M53: =+L53+1 -> 8 | N53: =+M53+1 -> 9 | ... T53: =+S53+1 -> 15
A54: 1 | D54: =VLOOKUP(A54,TIPOLOGIA!$D$10:$E$12,2,0) -> MICROÔNIBUS | E54: (R$/mês) | F54: =IFERROR(('2. COEFICIENTES'!F42*'2. COEFICIENTES'!F49*'3. PREÇOS INSUMOS'!G$34*'1. DADOS OPERACIONAIS'!F37)/'2. COEFICIENTES'!F35,0) -> 283.02817 | G54: =IFERROR(('2. COEFICIENTES'!G42*'2. COEFICIENTES'!G49*'3. PREÇOS INSUMOS'!H$34*'1. DADOS OPERACIONAIS'!G37)/'2. COEFICIENTES'!G35,0) -> 283.02817 | H54: =IFERROR(('2. COEFICIENTES'!H42*'2. COEFICIENTES'!H49*'3. PREÇOS INSUMOS'!I$34*'1. DADOS OPERACIONAIS'!H37)/'2. COEFICIENTES'!H35,0) -> 283.02817 | I54: =IFERROR(('2. COEFICIENTES'!I42*'2. COEFICIENTES'!I49*'3. PREÇOS INSUMOS'!J$34*'1. DADOS OPERACIONAIS'!I37)/'2. COEFICIENTES'!I35,0) -> 283.02817 | J54: =IFERROR(('2. COEFICIENTES'!J42*'2. COEFICIENTES'!J49*'3. PREÇOS INSUMOS'!K$34*'1. DADOS OPERACIONAIS'!J37)/'2. COEFICIENTES'!J35,0) -> 283.02817 | K54: =IFERROR(('2. COEFICIENTES'!K42*'2. COEFICIENTES'!K49*'3. PREÇOS INSUMOS'!L$34*'1. DADOS OPERACIONAIS'!K37)/'2. COEFICIENTES'!K35,0) -> 283.02817 | L54: =IFERROR(('2. COEFICIENTES'!L42*'2. COEFICIENTES'!L49*'3. PREÇOS INSUMOS'!M$34*'1. DADOS OPERACIONAIS'!L37)/'2. COEFICIENTES'!L35,0) -> 283.02817 | M54: =IFERROR(('2. COEFICIENTES'!M42*'2. COEFICIENTES'!M49*'3. PREÇOS INSUMOS'!N$34*'1. DADOS OPERACIONAIS'!M37)/'2. COEFICIENTES'!M35,0) -> 283.02817 | ... T54: =IFERROR(('2. COEFICIENTES'!T42*'2. COEFICIENTES'!T49*'3. PREÇOS INSUMOS'!U$34*'1. DADOS OPERACIONAIS'!T37)/'2. COEFICIENTES'!T35,0) -> 283.02817
A55: 2 | D55: =VLOOKUP(A55,TIPOLOGIA!$D$10:$E$12,2,0) -> CONVENCIONAL | E55: =+E54 -> (R$/mês) | F55: =IFERROR(('2. COEFICIENTES'!F43*'2. COEFICIENTES'!F50*'3. PREÇOS INSUMOS'!G$34*'1. DADOS OPERACIONAIS'!F38)/'2. COEFICIENTES'!F36,0) -> 1698.169 | G55: =IFERROR(('2. COEFICIENTES'!G43*'2. COEFICIENTES'!G50*'3. PREÇOS INSUMOS'!H$34*'1. DADOS OPERACIONAIS'!G38)/'2. COEFICIENTES'!G36,0) -> 1698.169 | H55: =IFERROR(('2. COEFICIENTES'!H43*'2. COEFICIENTES'!H50*'3. PREÇOS INSUMOS'!I$34*'1. DADOS OPERACIONAIS'!H38)/'2. COEFICIENTES'!H36,0) -> 1698.169 | I55: =IFERROR(('2. COEFICIENTES'!I43*'2. COEFICIENTES'!I50*'3. PREÇOS INSUMOS'!J$34*'1. DADOS OPERACIONAIS'!I38)/'2. COEFICIENTES'!I36,0) -> 1698.169 | J55: =IFERROR(('2. COEFICIENTES'!J43*'2. COEFICIENTES'!J50*'3. PREÇOS INSUMOS'!K$34*'1. DADOS OPERACIONAIS'!J38)/'2. COEFICIENTES'!J36,0) -> 1698.169 | K55: =IFERROR(('2. COEFICIENTES'!K43*'2. COEFICIENTES'!K50*'3. PREÇOS INSUMOS'!L$34*'1. DADOS OPERACIONAIS'!K38)/'2. COEFICIENTES'!K36,0) -> 1698.169 | L55: =IFERROR(('2. COEFICIENTES'!L43*'2. COEFICIENTES'!L50*'3. PREÇOS INSUMOS'!M$34*'1. DADOS OPERACIONAIS'!L38)/'2. COEFICIENTES'!L36,0) -> 1698.169 | M55: =IFERROR(('2. COEFICIENTES'!M43*'2. COEFICIENTES'!M50*'3. PREÇOS INSUMOS'!N$34*'1. DADOS OPERACIONAIS'!M38)/'2. COEFICIENTES'!M36,0) -> 1698.169 | ... T55: =IFERROR(('2. COEFICIENTES'!T43*'2. COEFICIENTES'!T50*'3. PREÇOS INSUMOS'!U$34*'1. DADOS OPERACIONAIS'!T38)/'2. COEFICIENTES'!T36,0) -> 1698.169
A56: 3 | D56: =VLOOKUP(A56,TIPOLOGIA!$D$10:$E$12,2,0) -> - | E56: =+E55 -> (R$/mês) | F56: =IFERROR(('2. COEFICIENTES'!F44*'2. COEFICIENTES'!F51*'3. PREÇOS INSUMOS'!G$34*'1. DADOS OPERACIONAIS'!F39)/'2. COEFICIENTES'!F37,0) -> 0 | G56: =IFERROR(('2. COEFICIENTES'!G44*'2. COEFICIENTES'!G51*'3. PREÇOS INSUMOS'!H$34*'1. DADOS OPERACIONAIS'!G39)/'2. COEFICIENTES'!G37,0) -> 0 | H56: =IFERROR(('2. COEFICIENTES'!H44*'2. COEFICIENTES'!H51*'3. PREÇOS INSUMOS'!I$34*'1. DADOS OPERACIONAIS'!H39)/'2. COEFICIENTES'!H37,0) -> 0 | I56: =IFERROR(('2. COEFICIENTES'!I44*'2. COEFICIENTES'!I51*'3. PREÇOS INSUMOS'!J$34*'1. DADOS OPERACIONAIS'!I39)/'2. COEFICIENTES'!I37,0) -> 0 | J56: =IFERROR(('2. COEFICIENTES'!J44*'2. COEFICIENTES'!J51*'3. PREÇOS INSUMOS'!K$34*'1. DADOS OPERACIONAIS'!J39)/'2. COEFICIENTES'!J37,0) -> 0 | K56: =IFERROR(('2. COEFICIENTES'!K44*'2. COEFICIENTES'!K51*'3. PREÇOS INSUMOS'!L$34*'1. DADOS OPERACIONAIS'!K39)/'2. COEFICIENTES'!K37,0) -> 0 | L56: =IFERROR(('2. COEFICIENTES'!L44*'2. COEFICIENTES'!L51*'3. PREÇOS INSUMOS'!M$34*'1. DADOS OPERACIONAIS'!L39)/'2. COEFICIENTES'!L37,0) -> 0 | M56: =IFERROR(('2. COEFICIENTES'!M44*'2. COEFICIENTES'!M51*'3. PREÇOS INSUMOS'!N$34*'1. DADOS OPERACIONAIS'!M39)/'2. COEFICIENTES'!M37,0) -> 0 | ... T56: =IFERROR(('2. COEFICIENTES'!T44*'2. COEFICIENTES'!T51*'3. PREÇOS INSUMOS'!U$34*'1. DADOS OPERACIONAIS'!T39)/'2. COEFICIENTES'!T37,0) -> 0
...

Sheet 5. CUSTOS FIXOS (PESSOAL)
E2: SECRETARIA MUNICIPAL DE DESENVOLVIMENTO URBANO
E3: =MENU!$B$3&" - "&+MENU!$B$4 -> CONCORRÊNCIA Nº 003/18 -
E4: =+MENU!$C$2 -> ESTUDO TÉCNICO DE VIABILIDADE ECONÔMICA DA OPERAÇÃO DO SERVIÇO DE TRANSPORTE COLETIVO DA CIDADE DE AMPARO
E5: =+MENU!$C$3 -> ANEXO IV.1 - ESTUDO TÉCNICO DE VIABILIDADE ECONÔMICA - ORÇAMENTO ESTIMADO | T5: =+MENU!$C$5 -> DATA BASE DE CÁLCULO: MARÇO 2020
B7: =+MENU!$C$73 -> 5. - CÁLCULO DOS CUSTOS FIXOS (COM PESSOAL)
C9: =+MENU!$C$74 -> 5.1. - CÁLCULO DOS CUSTEIOS COM PESSOAL DE OPERAÇÃO
C11: =+MENU!$C$75 -> 5.1.1. - CUSTEIOS COM MOTORISTAS
C13: MOTORISTAS | E13: Un. | F13: 1 | G13: =+F13+1 -> 2 | H13: =+G13+1 -> 3 | I13: =+H13+1 -> 4 | J13: =+I13+1 -> 5 | K13: =+J13+1 -> 6 | L13: =+K13+1 -> 7 | M13: =+L13+1 -> 8 | N13: =+M13+1 -> 9 | ... T13: =+S13+1 -> 15
D14: ="FROTA OPERACIONAL" -> FROTA OPERACIONAL | E14: (Veíc. Op./mês) | F14: =+'1. DADOS OPERACIONAIS'!F15 -> 12 | G14: =+'1. DADOS OPERACIONAIS'!G15 -> 12 | H14: =+'1. DADOS OPERACIONAIS'!H15 -> 12 | I14: =+'1. DADOS OPERACIONAIS'!I15 -> 12 | J14: =+'1. DADOS OPERACIONAIS'!J15 -> 12 | K14: =+'1. DADOS OPERACIONAIS'!K15 -> 12 | L14: =+'1. DADOS OPERACIONAIS'!L15 -> 12 | M14: =+'1. DADOS OPERACIONAIS'!M15 -> 12 | ... T14: =+'1. DADOS OPERACIONAIS'!T15 -> 12
D15: FATOR DE UTILIZAÇÃO | E15: (Func./Veíc. Op.) | F15: =+'2. COEFICIENTES'!F82 -> 2.21 | G15: =+'2. COEFICIENTES'!G82 -> 2.21 | H15: =+'2. COEFICIENTES'!H82 -> 2.21 | I15: =+'2. COEFICIENTES'!I82 -> 2.21 | J15: =+'2. COEFICIENTES'!J82 -> 2.21 | K15: =+'2. COEFICIENTES'!K82 -> 2.21 | L15: =+'2. COEFICIENTES'!L82 -> 2.21 | M15: =+'2. COEFICIENTES'!M82 -> 2.21 | ... T15: =+'2. COEFICIENTES'!T82 -> 2.21
D16: SALÁRIO BASE MENSAL | E16: (R$/Func.) | F16: =+'3. PREÇOS INSUMOS'!G178 -> 1919.66 | G16: =+'3. PREÇOS INSUMOS'!H178 -> 1919.66 | H16: =+'3. PREÇOS INSUMOS'!I178 -> 1919.66 | I16: =+'3. PREÇOS INSUMOS'!J178 -> 1919.66 | J16: =+'3. PREÇOS INSUMOS'!K178 -> 1919.66 | K16: =+'3. PREÇOS INSUMOS'!L178 -> 1919.66 | L16: =+'3. PREÇOS INSUMOS'!M178 -> 1919.66 | M16: =+'3. PREÇOS INSUMOS'!N178 -> 1919.66 | ... T16: =+'3. PREÇOS INSUMOS'!U178 -> 1919.66
D17: ENCARGOS SOCIAIS | E17: (%/mês) | F17: ='2. COEFICIENTES'!$F$119 -> 0.42713 | G17: ='2. COEFICIENTES'!G119 -> 0.65419 | H17: ='2. COEFICIENTES'!H119 -> 0.65419 | I17: ='2. COEFICIENTES'!I119 -> 0.65419 | J17: ='2. COEFICIENTES'!J119 -> 0.65419 | K17: ='2. COEFICIENTES'!K119 -> 0.65419 | L17: ='2. COEFICIENTES'!L119 -> 0.65419 | M17: ='2. COEFICIENTES'!M119 -> 0.65419 | N17: ='2. COEFICIENTES'!N119 -> 0.65419 | ... T17: ='2. COEFICIENTES'!T119 -> 0.65419
D18: TOTAL DE CUSTEIOS - MOTORISTAS | E18: (R$/mês) | F18: =(F14*F15*F16)*(1+F17) -> 72654.308 | G18: =(G14*G15*G16)*(1+G17) -> 84213.793 | H18: =(H14*H15*H16)*(1+H17) -> 84213.793 | I18: =(I14*I15*I16)*(1+I17) -> 84213.793 | J18: =(J14*J15*J16)*(1+J17) -> 84213.793 | K18: =(K14*K15*K16)*(1+K17) -> 84213.793 | L18: =(L14*L15*L16)*(1+L17) -> 84213.793 | M18: =(M14*M15*M16)*(1+M17) -> 84213.793 | ... T18: =(T14*T15*T16)*(1+T17) -> 84213.793
D19: TOTAL DE CUSTEIOS - MOTORISTAS | E19: (R$/Anual) | F19: =+F18*12 -> 871851.7 | G19: =+G18*12 -> 1010565.5 | H19: =+H18*12 -> 1010565.5 | I19: =+I18*12 -> 1010565.5 | J19: =+J18*12 -> 1010565.5 | K19: =+K18*12 -> 1010565.5 | L19: =+L18*12 -> 1010565.5 | M19: =+M18*12 -> 1010565.5 | ... T19: =+T18*12 -> 1010565.5
C21: =+MENU!$C$76 -> 5.1.2. - CUSTEIOS COM PESSOAL DE FISCALIZAÇÃO
C23: FISCALIZAÇÃO | E23: Un. | F23: 1 | G23: =+F23+1 -> 2 | H23: =+G23+1 -> 3 | I23: =+H23+1 -> 4 | J23: =+I23+1 -> 5 | K23: =+J23+1 -> 6 | L23: =+K23+1 -> 7 | M23: =+L23+1 -> 8 | N23: =+M23+1 -> 9 | ... T23: =+S23+1 -> 15
D24: ="FROTA OPERACIONAL" -> FROTA OPERACIONAL | E24: (Veíc. Op/mês) | F24: =+'1. DADOS OPERACIONAIS'!F15 -> 12 | G24: =+'1. DADOS OPERACIONAIS'!G15 -> 12 | H24: =+'1. DADOS OPERACIONAIS'!H15 -> 12 | I24: =+'1. DADOS OPERACIONAIS'!I15 -> 12 | J24: =+'1. DADOS OPERACIONAIS'!J15 -> 12 | K24: =+'1. DADOS OPERACIONAIS'!K15 -> 12 | L24: =+'1. DADOS OPERACIONAIS'!L15 -> 12 | M24: =+'1. DADOS OPERACIONAIS'!M15 -> 12 | ... T24: =+'1. DADOS OPERACIONAIS'!T15 -> 12
D25: FATOR DE UTILIZAÇÃO | E25: (Func./Veíc. Op) | F25: =+'2. COEFICIENTES'!F83 -> 0.2 | G25: =+'2. COEFICIENTES'!G83 -> 0.2 | H25: =+'2. COEFICIENTES'!H83 -> 0.2 | I25: =+'2. COEFICIENTES'!I83 -> 0.2 | J25: =+'2. COEFICIENTES'!J83 -> 0.2 | K25: =+'2. COEFICIENTES'!K83 -> 0.2 | L25: =+'2. COEFICIENTES'!L83 -> 0.2 | M25: =+'2. COEFICIENTES'!M83 -> 0.2 | ... T25: =+'2. COEFICIENTES'!T83 -> 0.2
D26: SALÁRIO BASE MENSAL | E26: (R$/Func.) | F26: =+'3. PREÇOS INSUMOS'!G179 -> 2204.99 | G26: =+'3. PREÇOS INSUMOS'!H179 -> 2204.99 | H26: =+'3. PREÇOS INSUMOS'!I179 -> 2204.99 | I26: =+'3. PREÇOS INSUMOS'!J179 -> 2204.99 | J26: =+'3. PREÇOS INSUMOS'!K179 -> 2204.99 | K26: =+'3. PREÇOS INSUMOS'!L179 -> 2204.99 | L26: =+'3. PREÇOS INSUMOS'!M179 -> 2204.99 | M26: =+'3. PREÇOS INSUMOS'!N179 -> 2204.99 | ... T26: =+'3. PREÇOS INSUMOS'!U179 -> 2204.99
D27: ENCARGOS SOCIAIS | E27: (%/mês) | F27: ='2. COEFICIENTES'!F119 -> 0.42713 | G27: ='2. COEFICIENTES'!G119 -> 0.65419 | H27: ='2. COEFICIENTES'!H119 -> 0.65419 | I27: ='2. COEFICIENTES'!I119 -> 0.65419 | J27: ='2. COEFICIENTES'!J119 -> 0.65419 | K27: ='2. COEFICIENTES'!K119 -> 0.65419 | L27: ='2. COEFICIENTES'!L119 -> 0.65419 | M27: ='2. COEFICIENTES'!M119 -> 0.65419 | ... T27: ='2. COEFICIENTES'!T119 -> 0.65419
D28: TOTAL DE CUSTEIOS - FISCALIZAÇÃO | E28: (R$/mês) | F28: =(F24*F25*F26)*(1+F27) -> 7552.3377 | G28: =(G24*G25*G26)*(1+G27) -> 8753.9338 | H28: =(H24*H25*H26)*(1+H27) -> 8753.9338 | I28: =(I24*I25*I26)*(1+I27) -> 8753.9338 | J28: =(J24*J25*J26)*(1+J27) -> 8753.9338 | K28: =(K24*K25*K26)*(1+K27) -> 8753.9338 | L28: =(L24*L25*L26)*(1+L27) -> 8753.9338 | M28: =(M24*M25*M26)*(1+M27) -> 8753.9338 | ... T28: =(T24*T25*T26)*(1+T27) -> 8753.9338
D29: TOTAL DE CUSTEIOS - FISCALIZAÇÃO | E29: (R$/Anual) | F29: =+F28*12 -> 90628.053 | G29: =+G28*12 -> 105047.21 | H29: =+H28*12 -> 105047.21 | I29: =+I28*12 -> 105047.21 | J29: =+J28*12 -> 105047.21 | K29: =+K28*12 -> 105047.21 | L29: =+L28*12 -> 105047.21 | M29: =+M28*12 -> 105047.21 | ... T29: =+T28*12 -> 105047.21
C31: =+MENU!$C$77 -> 5.1.3. - CUSTEIOS COM COBRADOR
