Workbook

Sheet ORÇAMENTO
D1: Orçamento Referencia
A4: Obra: | B4: Pavimentação da Rua Albertino Lastória - Trecho I
A5: Local: | B5: Rua Albertino Latória, distrito de Três Pontes Amparo SP
A6: Operação | B6: 1068046-40 | D6: P + Brasil | E6: 892996 | F6: DATA BASE | H6: 44197
I8: BDI | J8: 0.2685
A10: Item | B10: Codigo | C10: Fonte | D10: Evento | E10: Macrosserviço / Serviço | F10: Qtd. | G10: Und. | H10: Custo Unitário | I10: Preço Unitário | J10: Preço Total
A11: 1 | E11: Serviços Iniciais | J11: =SUBTOTAL(9,J12:J13) -> 5670.18
A12: 1.1 | B12: 4813 | C12: SINAPI | D12: 9 | E12: PLACA DE OBRA (PARA CONSTRUCAO CIVIL) EM CHAPA GALVANIZADA *N. 22*, ADESIVADA, DE *2,0 X 1,125* M | F12: 6 | G12: M2 | H12: 200 | I12: =ROUND((H12*$J$8)+H12,2) -> 253.7 | J12: =F12*I12 -> 1522.2
A13: 1.2 | B13: 10775 | C13: SINAPI | D13: 1 | E13: LOCACAO DE CONTAINER 2,30 X 6,00 M, ALT. 2,50 M, COM 1 SANITARIO, PARA ESCRITORIO, COMPLETO, SEM DIVISORIAS INTERNAS | F13: 6 | G13: MES | H13: 545 | I13: =ROUND((H13*$J$8)+H13,2) -> 691.33 | J13: =F13*I13 -> 4147.98
A14: 2 | E14: Demolições e Retiradas | J14: =SUBTOTAL(9,J15:J16)-0.01 -> 308.0376
A15: 2.1 | B15: 97636 | C15: SINAPI | D15: 2 | E15: DEMOLIÇÃO PARCIAL DE PAVIMENTO ASFÁLTICO, DE FORMA MECANIZADA, SEM REAPROVEITAMENTO. AF_12/2017 | F15: 17.15 | G15: M2 | H15: 13.59 | I15: =ROUND((H15*$J$8)+H15,2) -> 17.24 | J15: =F15*I15 -> 295.666
A16: 2.2 | B16: 100981 | C16: SINAPI | D16: 2 | E16: CARGA, MANOBRA E DESCARGA DE ENTULHO EM CAMINHÃO BASCULANTE 6 M³ - CARGA COM ESCAVADEIRA HIDRÁULICA (CAÇAMBA DE 0,80 M³ / 111 HP) E DESCARGA LIVRE (UNIDADE: M3). AF_07/2020 | F16: 1.68 | G16: M3 | H16: 5.81 | I16: =ROUND((H16*$J$8)+H16,2) -> 7.37 | J16: =F16*I16 -> 12.3816
A17: 3 | E17: Pavimentação | J17: =SUBTOTAL(9,J18:J23) -> 92263.435
A18: 3.1 | B18: 95147 | C18: SINAPI | D18: 3 | E18: ABERTURA DE CAIXA ATÉ 25CM, INCLUSIVE ESCAVAÇÃO, COMPACTAÇÃO, TRANSPORTE E PREPARO DO SUB-LEITO - SINAPI 07/2020 | F18: 1179.97 | G18: M2 | H18: 12.54 | I18: =ROUND((H18*$J$8)+H18,2) -> 15.91 | J18: =F18*I18 -> 18773.323
A19: 3.2 | B19: 96396 | C19: SINAPI | D19: 3 | E19: EXECUÇÃO E COMPACTAÇÃO DE BASE E OU SUB BASE PARA PAVIMENTAÇÃO DE BRITA GRADUADA SIMPLES - EXCLUSIVE CARGA E TRANSPORTE. AF_11/2019 | F19: 155.4 | G19: M3 | H19: 100.32 | I19: =ROUND((H19*$J$8)+H19,2) -> 127.26 | J19: =F19*I19 -> 19776.204
A20: 3.3 | B20: 95430 | C20: SINAPI | D20: 3 | E20: TRANSPORTE COM CAMINHÃO BASCULANTE DE 18 M³, EM VIA URBANA PAVIMENTADA, ADICIONAL PARA DMT EXCEDENTE A 30 KM (UNIDADE: TXKM). AF_07/2020 | F20: 7878.91 | G20: TXKM | H20: 0.82 | I20: =ROUND((H20*$J$8)+H20,2) -> 1.04 | J20: =F20*I20 -> 8194.0664
A21: 3.4 | B21: 96402 | C21: SINAPI | D21: 4 | E21: EXECUÇÃO DE PINTURA DE LIGAÇÃO COM EMULSÃO ASFÁLTICA RR-2C. AF_11/2019 | F21: 1035.92 | G21: M2 | H21: 1.92 | I21: =ROUND((H21*$J$8)+H21,2) -> 2.44 | J21: =F21*I21 -> 2527.6448
A22: 3.5 | B22: 95995 | C22: SINAPI | D22: 4 | E22: EXECUÇÃO DE PAVIMENTO COM APLICAÇÃO DE CONCRETO ASFÁLTICO, CAMADA DE ROLAMENTO - EXCLUSIVE CARGA E TRANSPORTE. AF_11/2019 | F22: 31.08 | G22: M3 | H22: 918.69 | I22: =ROUND((H22*$J$8)+H22,2) -> 1165.36 | J22: =F22*I22 -> 36219.389
A23: 3.6 | B23: 93179 | C23: SINAPI | D23: 4 | E23: TRANSPORTE DE MATERIAL ASFALTICO, COM CAMINHÃO COM CAPACIDADE DE 20000 L EM RODOVIA NÃO PAVIMENTADA PARA DISTÂNCIAS MÉDIAS DE TRANSPORTE IGUAL OU INFERIOR A 100 KM. AF_02/2016 | F23: 2666.46 | G23: TXKM | H23: 2 | I23: =ROUND((H23*$J$8)+H23,2) -> 2.54 | J23: =F23*I23 -> 6772.8084
A24: 4 | E24: Drenagem | J24: =SUBTOTAL(9,J25:J37)+0.02 -> 70249.04
A25: 4.1 | B25: 02.10.060 | C25: CDHU-180D | D25: 5 | E25: Locação de vias, calçadas, tanques e lagos | F25: 1179.97 | G25: M2 | H25: 1.19 | I25: =ROUND((H25*$J$8)+H25,2) -> 1.51 | J25: =F25*I25 -> 1781.7547
A26: 4.2 | B26: 94273 | C26: SINAPI | D26: 5 | E26: ASSENTAMENTO DE GUIA (MEIO-FIO) EM TRECHO RETO, CONFECCIONADA EM CONCRETO PRÉ-FABRICADO, DIMENSÕES 100X15X13X30 CM (COMPRIMENTO X BASE INFERIOR X BASE SUPERIOR X ALTURA), PARA VIAS URBANAS (USO VIÁRIO). AF_06/2016 | F26: 320.1 | G26: M | H26: 36.97 | I26: =ROUND((H26*$J$8)+H26,2) -> 46.9 | J26: =F26*I26 -> 15012.69
A27: 4.3 | B27: 94281 | C27: SINAPI | D27: 5 | E27: EXECUÇÃO DE SARJETA DE CONCRETO USINADO, MOLDADA IN LOCO EM TRECHO RETO, 30 CM BASE X 15 CM ALTURA. AF_06/2016 | F27: 320.1 | G27: M | H27: 39 | I27: =ROUND((H27*$J$8)+H27,2) -> 49.47 | J27: =F27*I27 -> 15835.347
A28: 4.4 | B28: 90093 | C28: SINAPI | D28: 6 | E28: ESCAVAÇÃO MECANIZADA DE VALA COM PROF. MAIOR QUE 1,5 M ATÉ 3,0 M (MÉDIA ENTRE MONTANTE E JUSANTE/UMA COMPOSIÇÃO POR TRECHO), COM ESCAVADEIRA HIDRÁULICA (0,8 M3/111 HP), LARG. DE 1,5 M A 2,5 M, EM SOLO DE 1A CATEGORIA, LOCAIS COM BAIXO NÍVEL DE INTERFERÊNCIA. AF_01/2015 | F28: 268.32 | G28: M3 | H28: 4.53 | I28: =ROUND((H28*$J$8)+H28,2) -> 5.75 | J28: =F28*I28 -> 1542.84
A29: 4.5 | B29: 100323 | C29: SINAPI | D29: 6 | E29: LASTRO COM MATERIAL GRANULAR (AREIA MÉDIA), APLICADO EM PISOS OU RADIERS, ESPESSURA DE *10 CM*. AF_07/2019 | F29: 12.16 | G29: M3 | H29: 87.84 | I29: =ROUND((H29*$J$8)+H29,2) -> 111.43 | J29: =F29*I29 -> 1354.9888
A30: 4.6 | B30: 95568 | C30: SINAPI | D30: 6 | E30: TUBO DE CONCRETO (SIMPLES) PARA REDES COLETORAS DE ÁGUAS PLUVIAIS, DIÂMETRO DE 400 MM, JUNTA RÍGIDA, INSTALADO EM LOCAL COM BAIXO NÍVEL DE INTERFERÊNCIAS - FORNECIMENTO E ASSENTAMENTO. AF_12/2015 | F30: 8 | G30: M | H30: 82.89 | I30: =ROUND((H30*$J$8)+H30,2) -> 105.15 | J30: =F30*I30 -> 841.2
A31: 4.7 | B31: 92212 | C31: SINAPI | D31: 6 | E31: TUBO DE CONCRETO PARA REDES COLETORAS DE ÁGUAS PLUVIAIS, DIÂMETRO DE 600 MM, JUNTA RÍGIDA, INSTALADO EM LOCAL COM BAIXO NÍVEL DE INTERFERÊNCIAS - FORNECIMENTO E ASSENTAMENTO. AF_12/2015 | F31: 80 | G31: M | H31: 178.77 | I31: =ROUND((H31*$J$8)+H31,2) -> 226.77 | J31: =F31*I31 -> 18141.6
A32: 4.8 | B32: 93382 | C32: SINAPI | D32: 6 | E32: REATERRO MANUAL DE VALAS COM COMPACTAÇÃO MECANIZADA. AF_04/2016 | F32: 23.84 | G32: M3 | H32: 27.67 | I32: =ROUND((H32*$J$8)+H32,2) -> 35.1 | J32: =F32*I32 -> 836.784
A33: 4.9 | B33: 93376 | C33: SINAPI | D33: 6 | E33: REATERRO MECANIZADO DE VALA COM RETROESCAVADEIRA (CAPACIDADE DA CAÇAMBA DA RETRO: 0,26 M³ / POTÊNCIA: 88 HP), LARGURA ATÉ 0,8 M, PROFUNDIDADE DE 1,5 A 3,0 M, COM SOLO DE 1ª CATEGORIA EM LOCAIS COM ALTO NÍVEL DE INTERFERÊNCIA. AF_04/2016 | F33: 162.32 | G33: M3 | H33: 12.7 | I33: =ROUND((H33*$J$8)+H33,2) -> 16.11 | J33: =F33*I33 -> 2614.9752
A34: 4.10 | B34: 99280 | C34: SINAPI | D34: 6 | E34: BASE PARA POÇO DE VISITA CIRCULAR PARA DRENAGEM, EM ALVENARIA COM TIJOLOS CERÂMICOS MACIÇOS, DIÂMETRO INTERNO = 0,8 M, PROFUNDIDADE = 1,45 M, EXCLUINDO TAMPÃO. AF_05/2018 | F34: 2 | G34: UN | H34: 1543.12 | I34: =ROUND((H34*$J$8)+H34,2) -> 1957.45 | J34: =F34*I34 -> 3914.9
A35: 4.11 | B35: 98051 | C35: SINAPI | D35: 6 | E35: CHAMINÉ CIRCULAR PARA POÇO DE VISITA PARA ESGOTO, EM ALVENARIA COM TIJOLOS CERÂMICOS MACIÇOS, DIÂMETRO INTERNO = 0,6 M. AF_05/2018 | F35: 2 | G35: M | H35: 747.65 | I35: =ROUND((H35*$J$8)+H35,2) -> 948.39 | J35: =F35*I35 -> 1896.78
A36: 4.12 | B36: 98114 | C36: SINAPI | D36: 6 | E36: TAMPA CIRCULAR PARA ESGOTO E DRENAGEM, EM FERRO FUNDIDO, DIÂMETRO INTERNO = 0,6 M. AF_05/2018 | F36: 2 | G36: UN | H36: 560.85 | I36: =ROUND((H36*$J$8)+H36,2) -> 711.44 | J36: =F36*I36 -> 1422.88
A37: 4.13 | B37: 49.12.058 | C37: CDHU-180D | D37: 6 | E37: Boca de Leão simples com grelha - cops 178 | F37: 2 | G37: UN | H37: 1991.44 | I37: =ROUND((H37*$J$8)+H37,2) -> 2526.14 | J37: =F37*I37 -> 5052.28
A38: 5 | E38: Sinalização | J38: =SUBTOTAL(9,J39:J41) -> 2149.813
A39: 5.1 | B39: 72947 | C39: SINAPI | D39: 7 | E39: SINALIZACAO HORIZONTAL COM TINTA RETRORREFLETIVA A BASE DE RESINA ACRILICA COM MICROESFERAS DE VIDRO | F39: 41.92 | G39: M2 | H39: 15.33 | I39: =ROUND((H39*$J$8)+H39,2) -> 19.45 | J39: =F39*I39 -> 815.344
A40: 5.2 | B40: 34723 | C40: SINAPI | D40: 7 | E40: PLACA DE SINALIZACAO EM CHAPA DE ACO NUM 16 COM PINTURA REFLETIVA | F40: 0.3 | G40: M2 | H40: 693 | I40: =ROUND((H40*$J$8)+H40,2) -> 879.07 | J40: =F40*I40 -> 263.721
A41: 5.3 | B41: 46.08.070 | C41: CDHU-180D | D41: 7 | E41: Tubo galvanizado sem costura schedule 40, DN= 2 1/2´, inclusive conexões | F41: 3.6 | G41: M | H41: 234.47 | I41: =ROUND((H41*$J$8)+H41,2) -> 297.43 | J41: =F41*I41 -> 1070.748
A42: 6 | E42: Acessibilidade | J42: =SUBTOTAL(9,J43:J45) -> 21929.53
A43: 6.2 | B43: 98525 | C43: SINAPI | D43: 8 | E43: LIMPEZA MECANIZADA DE CAMADA VEGETAL, VEGETAÇÃO E PEQUENAS ÁRVORES (DIÂMETRO DE TRONCO MENOR QUE 0,20 M), COM TRATOR DE ESTEIRAS.AF_05/2018 | F43: 474.08 | G43: M2 | H43: 0.3 | I43: =ROUND((H43*$J$8)+H43,2) -> 0.38 | J43: =F43*I43 -> 180.1504
A44: 6.3 | B44: 94991 | C44: SINAPI | D44: 8 | E44: EXECUÇÃO DE PASSEIO (CALÇADA) OU PISO DE CONCRETO COM CONCRETO MOLDADO IN LOCO, USINADO, ACABAMENTO CONVENCIONAL, NÃO ARMADO. AF_07/2016 | F44: 34.39 | G44: M3 | H44: 454.19 | I44: =ROUND((H44*$J$8)+H44,2) -> 576.14 | J44: =F44*I44 -> 19813.455
...

Sheet BDI
F1: Quadro de Composição do BDI | I1: Grau de Sigilo
I3: #PUBLICO
A5: Nº OPERAÇÃO | C5: Nº SICONV | E5: PROPONENTE / TOMADOR
A6: 1068046 | C6: 892996 | E6: Município de Amparo
A8: APELIDO DO EMPREENDIMENTO / DESCRIÇÃO DO LOTE
A9: PAVIMENTAÇÃO CHÁCARA DAS ÁGUAS - Trecho II / PROGRAMA PLANEJAMENTO URBANO PAVIMENTAÇÃO DE VIAS URBANAS
A11: Conforme legislação tributária municipal, definir estimativa de percentual da base de cálculo para o ISS: | I11: 0.6
A12: Sobre a base de cálculo, definir a respectiva alíquota do ISS (entre 2% e 5%): | I12: 0.05
A15: BDI 1
A17: TIPO DE OBRA
A18: Construção de Praças Urbanas, Rodovias, Ferrovias e recapeamento e pavimentação de vias urbanas
A20: Itens | I20: Siglas | J20: % Adotado
A22: Administração Central | I22: AC | J22: 0.038
A23: Seguro e Garantia | I23: SG | J23: 0.0032
A24: Risco | I24: R | J24: 0.005
A25: Despesas Financeiras | I25: DF | J25: 0.0102
A26: Lucro | I26: L | J26: 0.0664
A27: Tributos (impostos COFINS 3%, e PIS 0,65%) | I27: CP | J27: 0.0365
A28: Tributos (ISS, variável de acordo com o município) | I28: ISS | J28: 0.03
A29: Tributos (Contribuição Previdenciária sobre a Receita Bruta - 0% ou 4,5% - Desoneração) | I29: CPRB | J29: 0.045
A30: BDI SEM desoneração (Fórmula Acórdão TCU) | I30: BDI PAD | J30: 0.2073
A31: BDI COM desoneração | I31: BDI DES | J31: 0.2685
A35: Os valores de BDI foram calculados com o emprego da fórmula:
D36: BDI = | E36: (1+AC + S + R + G)*(1 + DF)*(1+L) | H36: - 1
E37: (1-CP-ISS-CRPB)
A39: Declaro para os devidos fins que, conforme legislação tributária municipal, a base de cálculo deste tipo de obra corresponde à 60%, com a respectiva alíquota de 5%.
A41: Declaro para os devidos fins que o regime de Contribuição Previdenciária sobre a Receita Bruta adotado para elaboração do orçamento foi COM Desoneração, e que esta é a alternativa mais adequada para a Administração Pública.
A43: Observações:
A46: Amparo / SP | G46: 44224
A47: Local | G47: Data
A50: Responsável Técnico
A51: Nome: | B51: Calos Eduardo Mazzetto
A52: CREA/CAU: | B52: 5060363666
A53: ART/RRT: | B53: 0

Sheet Eventograma
C1: EVENTOGRAMA
A4: Obra: | B4: Pavimentação da Rua Albertino Lastória - Trecho I
A5: Local: | B5: Rua Albertino Latória, distrito de Três Pontes Amparo SP
A6: Operação | B6: 1068046 | C6: P + Brasil 892996 | D6: DATA BASE | E6: 44197
A8: Evento | B8: Item | C8: Título do Evento / Descrição do Serviço | D8: Valor | E8: Total
A9: 1 | C9: Serviços Iniciais | E9: =D10 -> 1522.2
B10: =ORÇAMENTO!A13 -> 1.2 | C10: =ORÇAMENTO!E13 -> LOCACAO DE CONTAINER 2,30 X 6,00 M, ALT. 2,50 M, COM 1 SANITARIO, PARA ESCRITORIO, COMPLETO, SEM DIVISORIAS INTERNAS | D10: =ORÇAMENTO!J12 -> 1522.2
A11: 2 | C11: Demolições e Retiradas | E11: =SUM(D12:D13) -> 308.0476
B12: =ORÇAMENTO!A15 -> 2.1 | C12: =ORÇAMENTO!E15 -> DEMOLIÇÃO PARCIAL DE PAVIMENTO ASFÁLTICO, DE FORMA MECANIZADA, SEM REAPROVEITAMENTO. AF_12/2017 | D12: =ORÇAMENTO!J15 -> 295.666
B13: =ORÇAMENTO!A16 -> 2.2 | C13: =ORÇAMENTO!E16 -> CARGA, MANOBRA E DESCARGA DE ENTULHO EM CAMINHÃO BASCULANTE 6 M³ - CARGA COM ESCAVADEIRA HIDRÁULICA (CAÇAMBA DE 0,80 M³ / 111 HP) E DESCARGA LIVRE (UNIDADE: M3). AF_07/2020 | D13: =ORÇAMENTO!J16 -> 12.3816
A14: 3 | C14: Pavimentação Base | E14: =SUM(D15:D17) -> 46743.593
B15: =ORÇAMENTO!A18 -> 3.1 | C15: =ORÇAMENTO!E18 -> ABERTURA DE CAIXA ATÉ 25CM, INCLUSIVE ESCAVAÇÃO, COMPACTAÇÃO, TRANSPORTE E PREPARO DO SUB-LEITO - SINAPI 07/2020 | D15: =ORÇAMENTO!J18 -> 18773.323
B16: =ORÇAMENTO!A19 -> 3.2 | C16: =ORÇAMENTO!E19 -> EXECUÇÃO E COMPACTAÇÃO DE BASE E OU SUB BASE PARA PAVIMENTAÇÃO DE BRITA GRADUADA SIMPLES - EXCLUSIVE CARGA E TRANSPORTE. AF_11/2019 | D16: =ORÇAMENTO!J19 -> 19776.204
B17: =ORÇAMENTO!A20 -> 3.3 | C17: =ORÇAMENTO!E20 -> TRANSPORTE COM CAMINHÃO BASCULANTE DE 18 M³, EM VIA URBANA PAVIMENTADA, ADICIONAL PARA DMT EXCEDENTE A 30 KM (UNIDADE: TXKM). AF_07/2020 | D17: =ORÇAMENTO!J20 -> 8194.0664
A18: 4 | C18: Pavimentação Capa | E18: =SUM(D19:D21) -> 45519.842
B19: =ORÇAMENTO!A21 -> 3.4 | C19: =ORÇAMENTO!E21 -> EXECUÇÃO DE PINTURA DE LIGAÇÃO COM EMULSÃO ASFÁLTICA RR-2C. AF_11/2019 | D19: =ORÇAMENTO!J21 -> 2527.6448
B20: =ORÇAMENTO!A22 -> 3.5 | C20: =ORÇAMENTO!E22 -> EXECUÇÃO DE PAVIMENTO COM APLICAÇÃO DE CONCRETO ASFÁLTICO, CAMADA DE ROLAMENTO - EXCLUSIVE CARGA E TRANSPORTE. AF_11/2019 | D20: =ORÇAMENTO!J22 -> 36219.389
B21: =ORÇAMENTO!A23 -> 3.6 | C21: =ORÇAMENTO!E23 -> TRANSPORTE DE MATERIAL ASFALTICO, COM CAMINHÃO COM CAPACIDADE DE 20000 L EM RODOVIA NÃO PAVIMENTADA PARA DISTÂNCIAS MÉDIAS DE TRANSPORTE IGUAL OU INFERIOR A 100 KM. AF_02/2016 | D21: =ORÇAMENTO!J23 -> 6772.8084
A22: 5 | C22: Drenagem Superficial | E22: =SUM(D23:D25) -> 32629.792
B23: =ORÇAMENTO!A25 -> 4.1 | C23: =ORÇAMENTO!E25 -> Locação de vias, calçadas, tanques e lagos | D23: =ORÇAMENTO!J25 -> 1781.7547
B24: =ORÇAMENTO!A26 -> 4.2 | C24: =ORÇAMENTO!E26 -> ASSENTAMENTO DE GUIA (MEIO-FIO) EM TRECHO RETO, CONFECCIONADA EM CONCRETO PRÉ-FABRICADO, DIMENSÕES 100X15X13X30 CM (COMPRIMENTO X BASE INFERIOR X BASE SUPERIOR X ALTURA), PARA VIAS URBANAS (USO VIÁRIO). AF_06/2016 | D24: =ORÇAMENTO!J26 -> 15012.69
B25: =ORÇAMENTO!A27 -> 4.3 | C25: =ORÇAMENTO!E27 -> EXECUÇÃO DE SARJETA DE CONCRETO USINADO, MOLDADA IN LOCO EM TRECHO RETO, 30 CM BASE X 15 CM ALTURA. AF_06/2016 | D25: =ORÇAMENTO!J27 -> 15835.347
A26: 6 | C26: Drenagem Profunda | E26: =SUM(D27:D36) -> 37619.228
B27: =ORÇAMENTO!A28 -> 4.4 | C27: =ORÇAMENTO!E28 -> ESCAVAÇÃO MECANIZADA DE VALA COM PROF. MAIOR QUE 1,5 M ATÉ 3,0 M (MÉDIA ENTRE MONTANTE E JUSANTE/UMA COMPOSIÇÃO POR TRECHO), COM ESCAVADEIRA HIDRÁULICA (0,8 M3/111 HP), LARG. DE 1,5 M A 2,5 M, EM SOLO DE 1A CATEGORIA, LOCAIS COM BAIXO NÍVEL DE INTERFERÊNCIA. AF_01/2015 | D27: =ORÇAMENTO!J28 -> 1542.84
B28: =ORÇAMENTO!A29 -> 4.5 | C28: =ORÇAMENTO!E29 -> LASTRO COM MATERIAL GRANULAR (AREIA MÉDIA), APLICADO EM PISOS OU RADIERS, ESPESSURA DE *10 CM*. AF_07/2019 | D28: =ORÇAMENTO!J29 -> 1354.9888
B29: =ORÇAMENTO!A30 -> 4.6 | C29: =ORÇAMENTO!E30 -> TUBO DE CONCRETO (SIMPLES) PARA REDES COLETORAS DE ÁGUAS PLUVIAIS, DIÂMETRO DE 400 MM, JUNTA RÍGIDA, INSTALADO EM LOCAL COM BAIXO NÍVEL DE INTERFERÊNCIAS - FORNECIMENTO E ASSENTAMENTO. AF_12/2015 | D29: =ORÇAMENTO!J30 -> 841.2
B30: =ORÇAMENTO!A31 -> 4.7 | C30: =ORÇAMENTO!E31 -> TUBO DE CONCRETO PARA REDES COLETORAS DE ÁGUAS PLUVIAIS, DIÂMETRO DE 600 MM, JUNTA RÍGIDA, INSTALADO EM LOCAL COM BAIXO NÍVEL DE INTERFERÊNCIAS - FORNECIMENTO E ASSENTAMENTO. AF_12/2015 | D30: =ORÇAMENTO!J31 -> 18141.6
B31: =ORÇAMENTO!A32 -> 4.8 | C31: =ORÇAMENTO!E32 -> REATERRO MANUAL DE VALAS COM COMPACTAÇÃO MECANIZADA. AF_04/2016 | D31: =ORÇAMENTO!J32 -> 836.784
B32: =ORÇAMENTO!A33 -> 4.9 | C32: =ORÇAMENTO!E33 -> REATERRO MECANIZADO DE VALA COM RETROESCAVADEIRA (CAPACIDADE DA CAÇAMBA DA RETRO: 0,26 M³ / POTÊNCIA: 88 HP), LARGURA ATÉ 0,8 M, PROFUNDIDADE DE 1,5 A 3,0 M, COM SOLO DE 1ª CATEGORIA EM LOCAIS COM ALTO NÍVEL DE INTERFERÊNCIA. AF_04/2016 | D32: =ORÇAMENTO!J33 -> 2614.9752
B33: =ORÇAMENTO!A34 -> 4.10 | C33: =ORÇAMENTO!E34 -> BASE PARA POÇO DE VISITA CIRCULAR PARA DRENAGEM, EM ALVENARIA COM TIJOLOS CERÂMICOS MACIÇOS, DIÂMETRO INTERNO = 0,8 M, PROFUNDIDADE = 1,45 M, EXCLUINDO TAMPÃO. AF_05/2018 | D33: =ORÇAMENTO!J34 -> 3914.9
B34: =ORÇAMENTO!A35 -> 4.11 | C34: =ORÇAMENTO!E35 -> CHAMINÉ CIRCULAR PARA POÇO DE VISITA PARA ESGOTO, EM ALVENARIA COM TIJOLOS CERÂMICOS MACIÇOS, DIÂMETRO INTERNO = 0,6 M. AF_05/2018 | D34: =ORÇAMENTO!J35 -> 1896.78
B35: =ORÇAMENTO!A36 -> 4.12 | C35: =ORÇAMENTO!E36 -> TAMPA CIRCULAR PARA ESGOTO E DRENAGEM, EM FERRO FUNDIDO, DIÂMETRO INTERNO = 0,6 M. AF_05/2018 | D35: =ORÇAMENTO!J36 -> 1422.88
B36: =ORÇAMENTO!A37 -> 4.13 | C36: =ORÇAMENTO!E37 -> Boca de Leão simples com grelha - cops 178 | D36: =ORÇAMENTO!J37 -> 5052.28
A37: 7 | C37: Sinalização | E37: =SUM(D38:D40) -> 2149.813
B38: =ORÇAMENTO!A39 -> 5.1 | C38: =ORÇAMENTO!E39 -> SINALIZACAO HORIZONTAL COM TINTA RETRORREFLETIVA A BASE DE RESINA ACRILICA COM MICROESFERAS DE VIDRO | D38: =ORÇAMENTO!J39 -> 815.344
B39: =ORÇAMENTO!A40 -> 5.2 | C39: =ORÇAMENTO!E40 -> PLACA DE SINALIZACAO EM CHAPA DE ACO NUM 16 COM PINTURA REFLETIVA | D39: =ORÇAMENTO!J40 -> 263.721
B40: =ORÇAMENTO!A41 -> 5.3 | C40: =ORÇAMENTO!E41 -> Tubo galvanizado sem costura schedule 40, DN= 2 1/2´, inclusive conexões | D40: =ORÇAMENTO!J41 -> 1070.748
A41: 8 | C41: Acessibilidade | E41: =SUM(D42:D44) -> 21929.53
B42: =ORÇAMENTO!A43 -> 6.2 | C42: =ORÇAMENTO!E43 -> LIMPEZA MECANIZADA DE CAMADA VEGETAL, VEGETAÇÃO E PEQUENAS ÁRVORES (DIÂMETRO DE TRONCO MENOR QUE 0,20 M), COM TRATOR DE ESTEIRAS.AF_05/2018 | D42: =ORÇAMENTO!J43 -> 180.1504
B43: =ORÇAMENTO!A44 -> 6.3 | C43: =ORÇAMENTO!E44 -> EXECUÇÃO DE PASSEIO (CALÇADA) OU PISO DE CONCRETO COM CONCRETO MOLDADO IN LOCO, USINADO, ACABAMENTO CONVENCIONAL, NÃO ARMADO. AF_07/2016 | D43: =ORÇAMENTO!J44 -> 19813.455
...

Sheet Cronograma PLE
D1: Cronograma PLE
A4: Obra: | B4: Pavimentação da Rua Albertino Lastória - Trecho I
A5: Local: | B5: Rua Albertino Latória, distrito de Três Pontes Amparo SP
A6: Operação | B6: 1068046 | C6: P + Brasil 892996 | D6: DATA BASE | F6: 44197
A8: Evento | C8: Título do Evento / Descrição do Serviço | D8: Total | E8: MÊS 1 | G8: MÊS 2 | I8: MÊS 3 | K8: MÊS 4 | M8: MÊS 5 | O8: MÊS 6
E9: part % | F9: valor | G9: part % | H9: valor | I9: part % | J9: valor | K9: part % | L9: valor | M9: part % | N9: valor | O9: part % | P9: valor | T9: 2283.3
A10: 1 | C10: Serviços Iniciais | D10: =Eventograma!E9 -> 1522.2 | G10: 1 | H10: =G10*D10 -> 1522.2 | T10: 2405.179
A11: 2 | C11: Demolições e Retiradas | D11: =Eventograma!E11 -> 308.0476 | I11: 1 | J11: =I11*D11 -> 308.0476 | T11: 34838.966
A12: 3 | C12: Pavimentação Base | D12: =Eventograma!E14 -> 46743.593 | G12: 1 | H12: =G12*D12 -> 46743.593 | T12: 36782.723
A13: 4 | C13: Pavimentação Capa | D13: =Eventograma!E18 -> 45519.842 | K13: 1 | L13: =K13*D13 -> 45519.842 | T13: 36289.638
A14: 5 | C14: Drenagem Superficial | D14: =Eventograma!E22 -> 32629.792 | I14: 1 | J14: =I14*D14 -> 32629.792 | T14: 107759.31
A15: 6 | C15: Drenagem Profunda | D15: =Eventograma!E26 -> 37619.228 | E15: 1 | F15: =E15*D15 -> 37619.228 | T15: 4320.826
A16: 7 | C16: Sinalização | D16: =Eventograma!E37 -> 2149.813 | O16: 1 | P16: =O16*D16 -> 2149.813 | T16: 27313.929
A17: 8 | C17: Acessibilidade | D17: =Eventograma!E41 -> 21929.53 | M17: 1 | N17: =M17*D17 -> 21929.53 | T17: 3972.96
A18: 9 | C18: Placa de Obras | D18: =Eventograma!E45 -> 4147.98 | E18: 1 | F18: =D18 -> 4147.98
A19: 10 | C19: Muro de Arrimo | D19: =ORÇAMENTO!J46 -> 56205.668 | E19: 1 | F19: =D19 -> 56205.668
C21: TOTAL GERAL | D21: =SUM(D10:D19) -> 248775.69 | E21: =F21/$D$21 -> 0.39382013 | F21: =SUM(F10:F20) -> 97972.876 | G21: =H21/$D$21 -> 0.1940133 | H21: =SUM(H10:H20) -> 48265.793 | I21: =J21/$D$21 -> 0.13239975 | J21: =SUM(J10:J20) -> 32937.839 | K21: =L21/$D$21 -> 0.18297544 | L21: =SUM(L10:L20) -> 45519.842 | M21: =N21/$D$21 -> 0.08814981 | N21: =SUM(N10:N20) -> 21929.53 | O21: =P21/$D$21 -> 0.0086415717 | P21: =SUM(P10:P20) -> 2149.813
E22: =F22/$D$21 -> 0.39382013 | F22: =F21 -> 97972.876 | G22: =H22/$D$21 -> 0.58783343 | H22: =H21+F22 -> 146238.67 | I22: =J22/$D$21 -> 0.72023318 | J22: =J21+H22 -> 179176.51 | K22: =L22/$D$21 -> 0.90320862 | L22: =L21+J22 -> 224696.35 | M22: =N22/$D$21 -> 0.99135843 | N22: =N21+L22 -> 246625.88 | O22: =P22/$D$21 -> 1 | P22: =P21+N22 -> 248775.69
D25: Carlos Eduardo Mazzetto
D26: Eng. Civil SMDU
D27: CREA 5060363666
