Workbook
Name Excel_BuiltIn__FilterDatabase_2: [1]ORCAMENTO!#REF!
Name Excel_BuiltIn_Print_Area_2_1: [1]ORCAMENTO!#REF!

Sheet 180
G1: VERSÃO 180
G2: Vigência: a partir de 03/11/20
D3: BDI : 0,00 % | G3: L.S.: 97,78 %
A4: Referência | B4: Descrição | D4: Un | E4: Material | F4: Mão de Obra | G4: Custo Total
A5: 01 | B5: SERVIÇO TÉCNICO ESPECIALIZADO
A6: 01.02 | B6: Parecer técnico
A7: 01.02.071 | C7: Parecer técnico de fundações, contenções e recomendações gerais, para empreendimentos com área construída até 1.000 m² | D7: un | E7: 0 | F7: 4301.43 | G7: 4301.43
A8: 01.02.081 | C8: Parecer técnico de fundações, contenções e recomendações gerais, para empreendimentos com área construída de 1.001 a 2.000 m² | D8: un | E8: 0 | F8: 5720.07 | G8: 5720.07
A9: 01.02.091 | C9: Parecer técnico de fundações, contenções e recomendações gerais, para empreendimentos com área construída de 2.001 a 5.000 m² | D9: un | E9: 0 | F9: 9771.16 | G9: 9771.16
A10: 01.02.101 | C10: Parecer técnico de fundações, contenções e recomendações gerais, para empreendimentos com área construída de 5.001 a 10.000 m² | D10: un | E10: 0 | F10: 13397.41 | G10: 13397.41
A11: 01.02.111 | C11: Parecer técnico de fundações, contenções e recomendações gerais, para empreendimentos com área construída acima de 10.000 m² | D11: un | E11: 0 | F11: 15612.62 | G11: 15612.62
A12: 01.06 | B12: Projeto de instalações elétricas
A13: 01.06.021 | C13: Elaboração de projeto de adequação de entrada de energia elétrica junto a concessionária, com medição em baixa tensão e demanda até 75 kVA | D13: un | E13: 0 | F13: 5688.28 | G13: 5688.28
A14: 01.06.031 | C14: Elaboração de projeto de adequação de entrada de energia elétrica junto a concessionária, com medição em média tensão, subestação simplificada e demanda de 75 kVA a 300 kVA | D14: un | E14: 0 | F14: 9634.8 | G14: 9634.8
A15: 01.06.032 | C15: Elaboração de projeto de adequação de entrada de energia elétrica junto a concessionária, com medição em média tensão e demanda de 75 kVA a 300 kVA | D15: un | E15: 0 | F15: 13037.72 | G15: 13037.72
A16: 01.06.041 | C16: Elaboração de projeto de adequação de entrada de energia elétrica junto a concessionária, com medição em média tensão e demanda acima de 300 kVA a 2 MVA | D16: un | E16: 0 | F16: 17341.7 | G16: 17341.7
A17: 01.17 | B17: Projeto executivo
A18: 01.17.031 | C18: Projeto executivo de arquitetura em formato A1 | D18: un | E18: 0 | F18: 2206.14 | G18: 2206.14
A19: 01.17.041 | C19: Projeto executivo de arquitetura em formato A0 | D19: un | E19: 0 | F19: 2973.98 | G19: 2973.98
A20: 01.17.051 | C20: Projeto executivo de estrutura em formato A1 | D20: un | E20: 0 | F20: 1626.87 | G20: 1626.87
A21: 01.17.061 | C21: Projeto executivo de estrutura em formato A0 | D21: un | E21: 0 | F21: 2220.96 | G21: 2220.96
A22: 01.17.071 | C22: Projeto executivo de instalações hidráulicas em formato A1 | D22: un | E22: 0 | F22: 698.06 | G22: 698.06
A23: 01.17.081 | C23: Projeto executivo de instalações hidráulicas em formato A0 | D23: un | E23: 0 | F23: 927.81 | G23: 927.81
A24: 01.17.111 | C24: Projeto executivo de instalações elétricas em formato A1 | D24: un | E24: 0 | F24: 778.35 | G24: 778.35
A25: 01.17.121 | C25: Projeto executivo de instalações elétricas em formato A0 | D25: un | E25: 0 | F25: 1077.64 | G25: 1077.64
A26: 01.17.151 | C26: Projeto executivo de climatização em formato A1 | D26: un | E26: 0 | F26: 1502.89 | G26: 1502.89
A27: 01.17.161 | C27: Projeto executivo de climatização em formato A0 | D27: un | E27: 0 | F27: 2047.87 | G27: 2047.87
A28: 01.17.171 | C28: Projeto executivo de chuveiros automáticos em formato A1 | D28: un | E28: 0 | F28: 1264.83 | G28: 1264.83
A29: 01.17.181 | C29: Projeto executivo de chuveiros automáticos em formato A0 | D29: un | E29: 0 | F29: 1635.89 | G29: 1635.89
A30: 01.20 | B30: Levantamento topográfico e geofísico
A31: 01.20.010 | C31: Taxa de mobilização e desmobilização de equipamentos para execução de levantamento topográfico | D31: tx | E31: 1153.28 | F31: 0 | G31: 1153.28
A32: 01.20.691 | C32: Levantamento planimétrico cadastral com áreas ocupadas predominantemente por comunidades - área até 20.000 m² (mínimo de 3.500 m²) | D32: m² | E32: 0.31 | F32: 0.37 | G32: 0.68
A33: 01.20.701 | C33: Levantamento planimétrico cadastral com áreas ocupadas predominantemente por comunidades - área acima de 20.000 m² até 200.000 m² | D33: m² | E33: 0.25 | F33: 0.28 | G33: 0.53
A34: 01.20.711 | C34: Levantamento planimétrico cadastral com áreas ocupadas predominantemente por comunidades - área acima de 200.000 m² | D34: m² | E34: 0.2 | F34: 0.24 | G34: 0.44
A35: 01.20.721 | C35: Levantamento planimétrico cadastral com áreas até 50% de ocupação - área até 20.000 m² (mínimo de 3.500 m²) | D35: m² | E35: 0.28 | F35: 0.32 | G35: 0.6
A36: 01.20.731 | C36: Levantamento planimétrico cadastral com áreas até 50% de ocupação - área acima de 20.000 m² até 200.000 m² | D36: m² | E36: 0.13 | F36: 0.34 | G36: 0.47
A37: 01.20.741 | C37: Levantamento planimétrico cadastral com áreas até 50% de ocupação - área acima de 200.000 m² | D37: m² | E37: 0.18 | F37: 0.18 | G37: 0.36
A38: 01.20.751 | C38: Levantamento planimétrico cadastral com áreas acima de 50% de ocupação - área até 20.000 m² (mínimo de 4.000 m²) | D38: m² | E38: 0.25 | F38: 0.28 | G38: 0.53
A39: 01.20.761 | C39: Levantamento planimétrico cadastral com áreas acima de 50% de ocupação - área acima de 20.000 m² até 200.000 m² | D39: m² | E39: 0.21 | F39: 0.25 | G39: 0.46
A40: 01.20.771 | C40: Levantamento planimétrico cadastral com áreas acima de 50% de ocupação - área acima de 200.000 m² | D40: m² | E40: 0.2 | F40: 0.24 | G40: 0.44
...

Sheet Orcamento-PMA
A1: Prefeitura do Município de Amparo Secretaria Municipal de Desenvolvimento Urbano
A2: ORÇAMENTO
A3: Obra: | B3: Muro de Arrimo em Concreto Armado
A4: Local: | B4: Muro de arrimo da Rua Roma - Amparo / SP
A5: Data: | B5: 44181 | G5: ='180'!G2 -> Vigência: a partir de 03/11/20
H6: 0.26
B7: COM DESONERAÇÃO
A8: ITEM | B8: FONTE | C8: CÓDIGO | D8: DESCRIÇÃO | E8: UNID. | F8: QUANT. | G8: VALOR UNIT. | H8: TOTAL
A10: 1 | D10: Instalação do Canteiro de Obras | H10: =SUBTOTAL(109,H11:H16) -> 28593.31
A11: 1.1 | B11: CPOS | C11: 02.08.020 | D11: =VLOOKUP(C11,'180'!A9:G4099,3,0) -> Placa de identificação para obra | E11: =VLOOKUP(C11,'180'!A9:G4099,4,0) -> m² | F11: 6 | G11: =VLOOKUP(C11,'180'!A9:I4099,7,0) -> 591.53 | H11: =TRUNC(F11*G11,2) -> 3549.18
A12: 1.2 | B12: CPOS | C12: 02.03.120 | D12: =VLOOKUP(C12,'180'!A10:G4100,3,0) -> Tapume fixo para fechamento de áreas, com portão | E12: =VLOOKUP(C12,'180'!A10:G4100,4,0) -> m² | F12: 330 | G12: =VLOOKUP(C12,'180'!A10:I4100,7,0) -> 67.48 | H12: =TRUNC(F12*G12,2) -> 22268.4
A13: 1.3 | B13: CPOS | C13: 03.01.020 | D13: =VLOOKUP(C13,'180'!A11:G4101,3,0) -> Demolição manual de concreto simples | E13: =VLOOKUP(C13,'180'!A11:G4101,4,0) -> m³ | F13: 1 | G13: =VLOOKUP(C13,'180'!A11:I4101,7,0) -> 153.34 | H13: =TRUNC(F13*G13,2) -> 153.34
A14: 1.4 | B14: CPOS | C14: 03.07.010 | D14: =VLOOKUP(C14,'180'!A12:G4102,3,0) -> Demolição (levantamento) mecanizada de pavimento asfáltico, inclusive carregamento, transporte até 1 quilômetro e descarregamento | E14: =VLOOKUP(C14,'180'!A12:G4102,4,0) -> m² | F14: 100 | G14: =VLOOKUP(C14,'180'!A12:I4102,7,0) -> 17.91 | H14: =TRUNC(F14*G14,2) -> 1791
A15: 1.5 | B15: CPOS | C15: 05.07.050 | D15: =VLOOKUP(C15,'180'!A13:G4103,3,0) -> Remoção de entulho de obra com caçamba metálica - material volumoso e misturado por alvenaria, terra, madeira, papel, plástico e metal | E15: =VLOOKUP(C15,'180'!A13:G4103,4,0) -> m³ | F15: 1 | G15: =VLOOKUP(C15,'180'!A13:I4103,7,0) -> 87.39 | H15: =TRUNC(F15*G15,2) -> 87.39
A16: 1.6 | B16: CPOS | C16: 02.09.130 | D16: =VLOOKUP(C16,'180'!A14:G4104,3,0) -> Limpeza mecanizada do terreno, inclusive troncos com diâmetro acima de 15 cm até 50 cm, com caminhão à disposição dentro da obra, até o raio de 1 km | E16: =VLOOKUP(C16,'180'!A14:G4104,4,0) -> m² | F16: 300 | G16: =VLOOKUP(C16,'180'!A14:I4104,7,0) -> 2.48 | H16: =TRUNC(F16*G16,2) -> 744
A17: 2 | D17: Drenagem | H17: =SUBTOTAL(109,H18:H25) -> 27675.08
A18: 2.1 | B18: CPOS | C18: 07.02.020 | D18: =VLOOKUP(C18,'180'!A16:G4106,3,0) -> Escavação mecanizada de valas ou cavas com profundidade de até 2 m | E18: =VLOOKUP(C18,'180'!A16:G4106,4,0) -> m³ | F18: 944.25 | G18: =VLOOKUP(C18,'180'!A16:I4106,7,0) -> 6.34 | H18: =TRUNC(F18*G18,2) -> 5986.54
A19: 2.2 | B19: CPOS | C19: 07.02.060 | D19: =VLOOKUP(C19,'180'!A18:G4108,3,0) -> Escavação mecanizada de valas ou cavas com profundidade de até 4 m | E19: =VLOOKUP(C19,'180'!A17:G4107,4,0) -> m³ | F19: 10 | G19: =VLOOKUP(C19,'180'!A17:I4107,7,0) -> 11.62 | H19: =TRUNC(F19*G19,2) -> 116.2
A20: 2.3 | B20: CPOS | C20: 08.01.040 | D20: =VLOOKUP(C20,'180'!A19:G4109,3,0) -> Escoramento de solo descontínuo | E20: =VLOOKUP(C20,'180'!A18:G4108,4,0) -> m² | F20: 205.34 | G20: =VLOOKUP(C20,'180'!A18:I4108,7,0) -> 36.31 | H20: =TRUNC(F20*G20,2) -> 7455.89
A21: 2.4 | B21: CPOS | C21: 08.05.180 | D21: =VLOOKUP(C21,'180'!A20:G4110,3,0) -> Manta geotêxtil com resistência à tração longitudinal de 10kN/m e transversal de 9kN/m | E21: =VLOOKUP(C21,'180'!A19:G4109,4,0) -> m² | F21: 150.52 | G21: =VLOOKUP(C21,'180'!A19:I4109,7,0) -> 12.28 | H21: =TRUNC(F21*G21,2) -> 1848.38
A22: 2.5 | B22: CPOS | C22: 08.05.100 | D22: =VLOOKUP(C22,'180'!A21:G4111,3,0) -> Dreno com pedra britada | E22: =VLOOKUP(C22,'180'!A20:G4110,4,0) -> m³ | F22: 18.02 | G22: =VLOOKUP(C22,'180'!A20:I4110,7,0) -> 93.9 | H22: =TRUNC(F22*G22,2) -> 1692.07
A23: 2.6 | B23: CPOS | C23: 46.12.210 | D23: =VLOOKUP(C23,'180'!A22:G4112,3,0) -> Meio tubo de concreto, DN= 300mm | E23: =VLOOKUP(C23,'180'!A21:G4111,4,0) -> m | F23: 140 | G23: =VLOOKUP(C23,'180'!A21:I4111,7,0) -> 46.04 | H23: =TRUNC(F23*G23,2) -> 6445.6
A24: 2.7 | B24: CPOS | C24: 46.13.020 | D24: =VLOOKUP(C24,'180'!A23:G4113,3,0) -> Tubo em polietileno de alta densidade corrugado perfurado, DN= 4´, inclusive conexões | E24: =VLOOKUP(C24,'180'!A22:G4112,4,0) -> m | F24: 140 | G24: =VLOOKUP(C24,'180'!A22:I4112,7,0) -> 14.41 | H24: =TRUNC(F24*G24,2) -> 2017.4
A25: 2.8 | B25: CPOS | C25: 38.13.060 | D25: =VLOOKUP(C25,'180'!A24:G4114,3,0) -> Eletroduto corrugado em polietileno de alta densidade, DN= 150 mm, com acessórios | E25: =VLOOKUP(C25,'180'!A23:G4113,4,0) -> m | F25: 50 | G25: =VLOOKUP(C25,'180'!A23:I4113,7,0) -> 42.26 | H25: =TRUNC(F25*G25,2) -> 2113
A26: 3 | D26: Muro de Arrimo | H26: =SUBTOTAL(109,H27:H34) -> 184967.26
A27: 3.1 | B27: CPOS | C27: 09.01.020 | D27: =VLOOKUP(C27,'180'!A26:G4116,3,0) -> Forma em madeira comum para fundação | E27: =VLOOKUP(C27,'180'!A25:G4115,4,0) -> m² | F27: 508.7 | G27: =VLOOKUP(C27,'180'!A25:I4115,7,0) -> 63.07 | H27: =TRUNC(F27*G27,2) -> 32083.7
A28: 3.2 | B28: CPOS | C28: 10.01.040 | D28: =VLOOKUP(C28,'180'!A27:G4117,3,0) -> Armadura em barra de aço CA-50 (A ou B) fyk = 500 MPa | E28: =VLOOKUP(C28,'180'!A26:G4116,4,0) -> kg | F28: 7177.7 | G28: =VLOOKUP(C28,'180'!A26:I4116,7,0) -> 7.84 | H28: =TRUNC(F28*G28,2) -> 56273.16
A29: 3.3 | B29: CPOS | C29: 10.01.060 | D29: =VLOOKUP(C29,'180'!A28:G4118,3,0) -> Armadura em barra de aço CA-60 (A ou B) fyk = 600 MPa | E29: =VLOOKUP(C29,'180'!A27:G4117,4,0) -> kg | F29: 29.3 | G29: =VLOOKUP(C29,'180'!A27:I4117,7,0) -> 9.55 | H29: =TRUNC(F29*G29,2) -> 279.81
A30: 3.4 | B30: CPOS | C30: 11.01.160 | D30: =VLOOKUP(C30,'180'!A29:G4119,3,0) -> Concreto usinado, fck = 30 MPa | E30: =VLOOKUP(C30,'180'!A28:G4118,4,0) -> m³ | F30: 149.6 | G30: =VLOOKUP(C30,'180'!A28:I4118,7,0) -> 332.44 | H30: =TRUNC(F30*G30,2) -> 49733.02
A31: 3.5 | B31: CPOS | C31: 11.18.040 | D31: =VLOOKUP(C31,'180'!A30:G4120,3,0) -> Lastro de pedra britada | E31: =VLOOKUP(C31,'180'!A29:G4119,4,0) -> m³ | F31: 149.6 | G31: =VLOOKUP(C31,'180'!A29:I4119,7,0) -> 115.04 | H31: =TRUNC(F31*G31,2) -> 17209.98
A32: 3.6 | B32: CPOS | C32: 32.15.080 | D32: =VLOOKUP(C32,'180'!A31:G4121,3,0) -> Impermeabilização em manta asfáltica tipo III-B, espessura de 3 mm, face exposta em geotêxtil, com membrana acrílica | E32: =VLOOKUP(C32,'180'!A30:G4120,4,0) -> m² | F32: 205.94 | G32: =VLOOKUP(C32,'180'!A30:I4120,7,0) -> 131.36 | H32: =TRUNC(F32*G32,2) -> 27052.27
A33: 3.7 | B33: CPOS | C33: comp | D33: =COMP!D10 -> Caixa de passagem em tijolo macico de 40x40x40cm(interno), com tampa | E33: um | F33: 2 | G33: =COMP!H19 -> 195.8 | H33: =TRUNC(F33*G33,2) -> 391.6
A34: 4.1 | B34: CPOS | C34: 34.02.100 | D34: =VLOOKUP(C34,'180'!A33:G4123,3,0) -> Plantio de grama esmeralda em placas (jardins e canteiros) | E34: =VLOOKUP(C34,'180'!A32:G4122,4,0) -> m² | F34: 206.34 | G34: =VLOOKUP(C34,'180'!A32:I4122,7,0) -> 9.42 | H34: =TRUNC(F34*G34,2) -> 1943.72
A35: 4 | D35: Calçada | H35: =SUBTOTAL(109,H36:H45) -> 19822.15
A36: 4.1 | B36: CPOS | C36: 10.02.020 | D36: =VLOOKUP(C36,'180'!A35:G4125,3,0) -> Armadura em tela soldada de aço | E36: =VLOOKUP(C36,'180'!A34:G4124,4,0) -> kg | F36: 279.97 | G36: =VLOOKUP(C36,'180'!A34:I4124,7,0) -> 7.85 | H36: =TRUNC(F36*G36,2) -> 2197.76
A37: 4.2 | B37: CPOS | C37: 54.06.100 | D37: =VLOOKUP(C37,'180'!A36:G4126,3,0) -> Base em concreto com fck de 20 MPa, para guias, sarjetas ou sarjetões | E37: =VLOOKUP(C37,'180'!A35:G4125,4,0) -> m³ | F37: 1.65 | G37: =VLOOKUP(C37,'180'!A35:I4125,7,0) -> 367.35 | H37: =TRUNC(F37*G37,2) -> 606.12
A38: 4.3 | B38: CPOS | C38: 09.01.030 | D38: =VLOOKUP(C38,'180'!A37:G4127,3,0) -> Forma em madeira comum para estrutura | E38: =VLOOKUP(C38,'180'!A36:G4126,4,0) -> m² | F38: 21.7 | G38: =VLOOKUP(C38,'180'!A36:I4126,7,0) -> 143.49 | H38: =TRUNC(F38*G38,2) -> 3113.73
A39: 4.4 | B39: CPOS | C39: 11.01.130 | D39: =VLOOKUP(C39,'180'!A38:G4128,3,0) -> Concreto usinado, fck = 25 MPa | E39: =VLOOKUP(C39,'180'!A37:G4127,4,0) -> m³ | F39: 14.5 | G39: =VLOOKUP(C39,'180'!A37:I4127,7,0) -> 320.11 | H39: =TRUNC(F39*G39,2) -> 4641.59
A40: 4.5 | B40: CPOS | C40: 11.16.020 | D40: =VLOOKUP(C40,'180'!A39:G4129,3,0) -> Lançamento, espalhamento e adensamento de concreto ou massa em lastro e/ou enchimento | E40: =VLOOKUP(C40,'180'!A38:G4128,4,0) -> m³ | F40: 14.5 | G40: =VLOOKUP(C40,'180'!A38:I4128,7,0) -> 58.79 | H40: =TRUNC(F40*G40,2) -> 852.45
A41: 4.6 | B41: CPOS | C41: 54.01.010 | D41: =VLOOKUP(C41,'180'!A40:G4130,3,0) -> Regularização e compactação mecanizada de superfície, sem controle do proctor normal | E41: =VLOOKUP(C41,'180'!A39:G4129,4,0) -> m² | F41: 100 | G41: =VLOOKUP(C41,'180'!A39:I4129,7,0) -> 2.02 | H41: =TRUNC(F41*G41,2) -> 202
...

Sheet COMP
D10: Caixa de passagem em tijolo macico de 40x40x40cm(interno), com tampa | F10: quant | G10: valor | H10: total
A11: 1.1 | B11: CPOS | C11: 06.02.020 | D11: =VLOOKUP(C11,'180'!A10:G4100,3,0) -> Escavação manual em solo de 1ª e 2ª categoria em vala ou cava até 1,5 m | E11: =VLOOKUP(C11,'180'!A9:G4099,4,0) -> m³ | F11: 0.85 | G11: =VLOOKUP(C11,'180'!A9:I4099,7,0) -> 41.82 | H11: =TRUNC(F11*G11,2) -> 35.54
A12: 1.2 | B12: CPOS | C12: 06.11.040 | D12: =VLOOKUP(C12,'180'!A11:G4101,3,0) -> Reaterro manual apiloado sem controle de compactação | E12: =VLOOKUP(C12,'180'!A10:G4100,4,0) -> m³ | F12: 0.43 | G12: =VLOOKUP(C12,'180'!A10:I4100,7,0) -> 13 | H12: =TRUNC(F12*G12,2) -> 5.59
A13: 1.3 | B13: CPOS | C13: 14.02.020 | D13: =VLOOKUP(C13,'180'!A12:G4102,3,0) -> Alvenaria de elevação de 1/4 tijolo maciço comum | E13: =VLOOKUP(C13,'180'!A11:G4101,4,0) -> m² | F13: 1.2 | G13: =VLOOKUP(C13,'180'!A11:I4101,7,0) -> 54.78 | H13: =TRUNC(F13*G13,2) -> 65.73
A14: 1.4 | B14: CPOS | C14: 17.02.140 | D14: =VLOOKUP(C14,'180'!A13:G4103,3,0) -> Emboço desempenado com espuma de poliéster | E14: =VLOOKUP(C14,'180'!A12:G4102,4,0) -> m² | F14: 0.96 | G14: =VLOOKUP(C14,'180'!A12:I4102,7,0) -> 18.86 | H14: =TRUNC(F14*G14,2) -> 18.1
A15: 1.5 | B15: CPOS | C15: 11.18.040 | D15: =VLOOKUP(C15,'180'!A14:G4104,3,0) -> Lastro de pedra britada | E15: =VLOOKUP(C15,'180'!A13:G4103,4,0) -> m³ | F15: 0.12 | G15: =VLOOKUP(C15,'180'!A13:I4103,7,0) -> 115.04 | H15: =TRUNC(F15*G15,2) -> 13.8
A16: 1.6 | B16: CPOS | C16: 09.01.030 | D16: =VLOOKUP(C16,'180'!A15:G4105,3,0) -> Forma em madeira comum para estrutura | E16: =VLOOKUP(C16,'180'!A14:G4104,4,0) -> m² | F16: 0.2 | G16: =VLOOKUP(C16,'180'!A14:I4104,7,0) -> 143.49 | H16: =TRUNC(F16*G16,2) -> 28.69
A17: 1.7 | B17: CPOS | C17: 10.01.040 | D17: =VLOOKUP(C17,'180'!A16:G4106,3,0) -> Armadura em barra de aço CA-50 (A ou B) fyk = 500 MPa | E17: =VLOOKUP(C17,'180'!A15:G4105,4,0) -> kg | F17: 2.25 | G17: =VLOOKUP(C17,'180'!A15:I4105,7,0) -> 7.84 | H17: =TRUNC(F17*G17,2) -> 17.64
A18: 1.8 | B18: CPOS | C18: 11.03.090 | D18: =VLOOKUP(C18,'180'!A17:G4107,3,0) -> Concreto preparado no local, fck = 20 MPa | E18: =VLOOKUP(C18,'180'!A16:G4106,4,0) -> m³ | F18: 0.03 | G18: =VLOOKUP(C18,'180'!A16:I4106,7,0) -> 357.22 | H18: =TRUNC(F18*G18,2) -> 10.71
C19: . | H19: =SUM(H11:H18) -> 195.8

Sheet Cronograma 12m
A2: CRONOGRAMA FÍSICO FINANCEIRO | X2: =A2 -> CRONOGRAMA FÍSICO FINANCEIRO
A3: ='Orcamento-PMA'!A3 -> Obra: | B3: ='Orcamento-PMA'!B3:H3 -> Muro de Arrimo em Concreto Armado | X3: =A3 -> Obra: | Y3: =B3 -> Muro de Arrimo em Concreto Armado
A4: ='Orcamento-PMA'!A4 -> Local: | B4: ='Orcamento-PMA'!B4:H4 -> Muro de arrimo da Rua Roma - Amparo / SP | X4: =A4 -> Local: | Y4: =B4 -> Muro de arrimo da Rua Roma - Amparo / SP
A5: ='Orcamento-PMA'!A5 -> Data: | B5: ='Orcamento-PMA'!B5:F5 -> 44181 | X5: =A5 -> Data: | Y5: =B5 -> 44181
A8: Item | B8: ETAPAS DA OBRA | C8: VALORES R$ | D8: PERCENTUAL | E8: MÊS 1 | G8: MÊS 2 | I8: MÊS 3 | K8: MÊS 4 | M8: MÊS 5 | O8: MÊS 6 | Q8: MÊS 7 | S8: MÊS 8 | U8: MÊS 9 | W8: MÊS 10 | Y8: MÊS 11 | AA8: MÊS 12
A9: ='Orcamento-PMA'!A10 -> 1 | B9: ='Orcamento-PMA'!D10 -> Instalação do Canteiro de Obras | C9: ='Orcamento-PMA'!H10 -> 28593.31 | D9: =C9/C$15 -> 0.10952866 | E9: =F9*$C$9 -> 28593.31 | F9: 1 | AC9: =E9+G9+I9+K9+M9+O9+Q9+S9+U9+W9+Y9+AA9 -> 28593.31
A10: ='Orcamento-PMA'!A17 -> 2 | B10: ='Orcamento-PMA'!D17 -> Drenagem | C10: ='Orcamento-PMA'!H17 -> 27675.08 | D10: =C10/C$15 -> 0.10601131 | G10: =H10*C10 -> 5535.016 | H10: 0.2 | I10: =J10*C10 -> 5535.016 | J10: 0.2 | K10: =L10*C10 -> 5535.016 | L10: 0.2 | M10: =N10*C10 -> 5535.016 | N10: 0.2 | O10: =P10*$C10 -> 5535.016 | P10: 0.2 | Q10: =R10*$C10 -> 0 | S10: =T10*$C10 -> 0 | U10: =V10*$C10 -> 0 | W10: =X10*$C10 -> 0 | Y10: =Z10*$C10 -> 0 | AC10: =E10+G10+I10+K10+M10+O10+Q10+S10+U10+W10+Y10+AA10 -> 27675.08
A11: ='Orcamento-PMA'!A26 -> 3 | B11: ='Orcamento-PMA'!D26 -> Muro de Arrimo | C11: ='Orcamento-PMA'!H26 -> 184967.26 | D11: =C11/C$15 -> 0.70852991 | G11: =H11*C11 -> 36993.452 | H11: 0.2 | I11: =J11*C11 -> 36993.452 | J11: 0.2 | K11: =L11*C11 -> 36993.452 | L11: 0.2 | M11: =N11*C11 -> 36993.452 | N11: 0.2 | O11: =P11*C11 -> 36993.452 | P11: 0.2 | Q11: =R11*$C11 -> 0 | S11: =T11*$C11 -> 0 | U11: =V11*$C11 -> 0 | W11: =X11*$C11 -> 0 | Y11: =Z11*$C11 -> 0 | AC11: =E11+G11+I11+K11+M11+O11+Q11+S11+U11+W11+Y11+AA11 -> 184967.26
A12: ='Orcamento-PMA'!A35 -> 4 | B12: ='Orcamento-PMA'!D35 -> Calçada | C12: ='Orcamento-PMA'!H35 -> 19822.15 | D12: =C12/C$15 -> 0.07593012 | K12: =L12*C12 -> 5946.645 | L12: 0.3 | M12: =N12*C12 -> 7928.86 | N12: 0.4 | O12: =P12*C12 -> 5946.645 | P12: 0.3 | W12: =X12*C12 -> 0 | Y12: =Z12*C12 -> 0 | AA12: =AB12*C12 -> 0 | AC12: =E12+G12+I12+K12+M12+O12+Q12+S12+U12+W12+Y12+AA12 -> 19822.15
D13: =C13/C$15 -> 0 | E13: =F13*C13 -> 0 | G13: =H13*C13 -> 0 | I13: =J13*C13 -> 0 | K13: =L13*C13 -> 0 | M13: =N13*C13 -> 0 | O13: =P13*C13 -> 0 | AC13: =E13+G13+I13+K13+M13+O13+Q13+S13+U13+W13+Y13+AA13 -> 0
D14: =C14/C15 -> 0 | E14: =F14*C14 -> 0 | G14: =H14*C14 -> 0 | I14: =J14*C14 -> 0 | K14: =L14*C14 -> 0 | M14: =N14*C14 -> 0 | O14: =P14*C14 -> 0 | AC14: =E14+G14+I14+K14+M14+O14+Q14+S14+U14+W14+Y14+AA14 -> 0
B15: TOTAL | C15: =SUM(C9:C14) -> 261057.8 | E15: =SUM(E9:E14) -> 28593.31 | F15: =E15/C15 -> 0.10952866 | G15: =SUM(G9:G14) -> 42528.468 | H15: =G15/C15 -> 0.16290824 | I15: =SUM(I9:I14) -> 42528.468 | J15: =I15/$C15 -> 0.16290824 | K15: =SUM(K9:K14) -> 48475.113 | L15: =K15/$C15 -> 0.18568728 | M15: =SUM(M9:M14) -> 50457.328 | N15: =M15/$C15 -> 0.19328029 | O15: =SUM(O9:O14) -> 48475.113 | P15: =O15/$C15 -> 0.18568728 | Q15: =SUM(Q9:Q14) -> 0 | R15: =Q15/$C15 -> 0 | S15: =SUM(S9:S14) -> 0 | T15: =S15/$C15 -> 0 | U15: =SUM(U9:U14) -> 0 | V15: =U15/$C15 -> 0 | W15: =SUM(W9:W14) -> 0 | X15: =W15/$C15 -> 0 | Y15: =SUM(Y9:Y14) -> 0 | Z15: =Y15/$C15 -> 0 | AA15: =SUM(AA9:AA14) -> 0 | AB15: =AA15/$C15 -> 0
B16: BDI | C16: ='Orcamento-PMA'!H47 -> 70903.298 | E16: =E15*0.2716 -> 7765.943 | G16: =G15*0.2716 -> 11550.732 | I16: =I15*0.2716 -> 11550.732 | K16: =K15*0.2716 -> 13165.841 | M16: =M15*0.2716 -> 13704.21 | O16: =O15*0.2716 -> 13165.841 | Q16: =Q15*0.2716 -> 0 | S16: =S15*0.2716 -> 0 | U16: =U15*0.2716 -> 0 | W16: =W15*0.2716 -> 0 | Y16: =Y15*0.2716 -> 0 | AA16: =AA15*0.2716 -> 0
B17: TOTAL GERAL | C17: =C15+C16 -> 331961.1 | D17: =SUM(D9:D12) -> 1 | E17: =E16+E15 -> 36359.253 | G17: =G16+G15 -> 54079.2 | I17: =I16+I15 -> 54079.2 | K17: =K16+K15 -> 61640.954 | M17: =M16+M15 -> 64161.538 | O17: =O16+O15 -> 61640.954 | Q17: =Q16+Q15 -> 0 | S17: =S16+S15 -> 0 | U17: =U16+U15 -> 0 | W17: =W16+W15 -> 0 | Y17: =Y16+Y15 -> 0 | AA17: =AA16+AA15 -> 0
B18: TOTAL ACUMULADO | E18: =E17 -> 36359.253 | G18: =G17+E18 -> 90438.453 | I18: =I17+G18 -> 144517.65 | K18: =K17+I18 -> 206158.61 | M18: =M17+K18 -> 270320.14 | O18: =O17+M18 -> 331961.1 | Q18: =Q17+O18 -> 331961.1 | S18: =S17+Q18 -> 331961.1 | U18: =U17+S18 -> 331961.1 | W18: =W17+U18 -> 331961.1 | Y18: =Y17+W18 -> 331961.1 | AA18: =AA17+Y18 -> 331961.1

Sheet BDI
A7: DEMONSTRATIVO DO BDI
A10: ='Orcamento-PMA'!B3 -> Muro de Arrimo em Concreto Armado
A13: PREFEITURA MUNICIPAL DE AMPARO
A16: COMPONENTES DO BDI | C16: TAXA
A17: AC | B17: TAXA ADMINISTRAÇÃO CENTRAL | C17: 0.038
A18: DF | B18: TAXA DAS DESPESAS FINANCEIRAS | C18: 0.01
A19: R | B19: TAXA DE RISCO / SEGURO / GARANTIA | C19: 0.0138
A20: I | B20: TAXA DE TRIBUTOS | C20: 0.1317
A21: L | B21: TAXA DE LUCRO | C21: =6.64%+1.13% -> 0.0777
A26: LDI = | B26: ((((1+AC/100)*(1+DF/100)*(1+R/100)*(1+L/100))/(1-(I/100)))-1)*100 = | C26: =((((1+$C$17/100)*(1+$C$18/100)*(1+$C$19/100)*(1+$C$21/100))/(1-($C$20/100)))-1)*100 -> 0.27161617
